BEGIN:VCALENDAR
VERSION:2.0
PRODID:-//864 Food Trucks - ECPv6.15.20//NONSGML v1.0//EN
CALSCALE:GREGORIAN
METHOD:PUBLISH
X-ORIGINAL-URL:https://864foodtrucks.com
X-WR-CALDESC:Events for 864 Food Trucks
REFRESH-INTERVAL;VALUE=DURATION:PT1H
X-Robots-Tag:noindex
X-PUBLISHED-TTL:PT1H
BEGIN:VTIMEZONE
TZID:America/New_York
BEGIN:DAYLIGHT
TZOFFSETFROM:-0500
TZOFFSETTO:-0400
TZNAME:EDT
DTSTART:20220313T070000
END:DAYLIGHT
BEGIN:STANDARD
TZOFFSETFROM:-0400
TZOFFSETTO:-0500
TZNAME:EST
DTSTART:20221106T060000
END:STANDARD
BEGIN:DAYLIGHT
TZOFFSETFROM:-0500
TZOFFSETTO:-0400
TZNAME:EDT
DTSTART:20230312T070000
END:DAYLIGHT
BEGIN:STANDARD
TZOFFSETFROM:-0400
TZOFFSETTO:-0500
TZNAME:EST
DTSTART:20231105T060000
END:STANDARD
BEGIN:DAYLIGHT
TZOFFSETFROM:-0500
TZOFFSETTO:-0400
TZNAME:EDT
DTSTART:20240310T070000
END:DAYLIGHT
BEGIN:STANDARD
TZOFFSETFROM:-0400
TZOFFSETTO:-0500
TZNAME:EST
DTSTART:20241103T060000
END:STANDARD
BEGIN:DAYLIGHT
TZOFFSETFROM:-0500
TZOFFSETTO:-0400
TZNAME:EDT
DTSTART:20250309T070000
END:DAYLIGHT
BEGIN:STANDARD
TZOFFSETFROM:-0400
TZOFFSETTO:-0500
TZNAME:EST
DTSTART:20251102T060000
END:STANDARD
BEGIN:DAYLIGHT
TZOFFSETFROM:-0500
TZOFFSETTO:-0400
TZNAME:EDT
DTSTART:20260308T070000
END:DAYLIGHT
BEGIN:STANDARD
TZOFFSETFROM:-0400
TZOFFSETTO:-0500
TZNAME:EST
DTSTART:20261101T060000
END:STANDARD
BEGIN:DAYLIGHT
TZOFFSETFROM:-0500
TZOFFSETTO:-0400
TZNAME:EDT
DTSTART:20270314T070000
END:DAYLIGHT
BEGIN:STANDARD
TZOFFSETFROM:-0400
TZOFFSETTO:-0500
TZNAME:EST
DTSTART:20271107T060000
END:STANDARD
END:VTIMEZONE
BEGIN:VEVENT
DTSTART;TZID=America/New_York:20260214T073000
DTEND;TZID=America/New_York:20260214T113000
DTSTAMP:20260424T024314
CREATED:20260119T002134Z
LAST-MODIFIED:20260119T002134Z
UID:59546-1771054200-1771068600@864foodtrucks.com
SUMMARY:Cinnabon @ Byrnes High School
DESCRIPTION:Cinnabon Food Truck Greenville
URL:https://864foodtrucks.com/event/cinnabon-byrnes-high-school/2026-02-14/
LOCATION:James F Byrnes High School\, East Main Street 150\, Spartanburg\, South Carolina\, 29306\, United States
CATEGORIES:Duncan,Food Truck Schedules
ATTACH;FMTTYPE=image/jpeg:https://864foodtrucks.com/wp-content/uploads/2024/12/326870080_1829549937401559_2632445834433428235_n-2.jpg
ORGANIZER;CN="Cinnabon Greenville":MAILTO:info@hotbonssc.com
GEO:34.949949;-81.9299288
X-APPLE-STRUCTURED-LOCATION;VALUE=URI;X-ADDRESS=James F Byrnes High School East Main Street 150 Spartanburg South Carolina 29306 United States;X-APPLE-RADIUS=500;X-TITLE=East Main Street 150:geo:-81.9299288,34.949949
END:VEVENT
BEGIN:VEVENT
DTSTART;TZID=America/New_York:20260123T120000
DTEND;TZID=America/New_York:20260123T140000
DTSTAMP:20260424T024314
CREATED:20260119T002134Z
LAST-MODIFIED:20260208T205134Z
UID:58973-1769169600-1769176800@864foodtrucks.com
SUMMARY:Cinnabon @ Byrnes High School
DESCRIPTION:Cinnabon Food Truck Greenville
URL:https://864foodtrucks.com/event/cinnabon-byrnes-high-school/2026-01-23/
LOCATION:James F Byrnes High School\, East Main Street 150\, Spartanburg\, South Carolina\, 29306\, United States
CATEGORIES:Duncan,Food Truck Schedules
ATTACH;FMTTYPE=image/jpeg:https://864foodtrucks.com/wp-content/uploads/2024/12/326870080_1829549937401559_2632445834433428235_n-2.jpg
ORGANIZER;CN="Cinnabon Greenville":MAILTO:info@hotbonssc.com
GEO:34.949949;-81.9299288
X-APPLE-STRUCTURED-LOCATION;VALUE=URI;X-ADDRESS=James F Byrnes High School East Main Street 150 Spartanburg South Carolina 29306 United States;X-APPLE-RADIUS=500;X-TITLE=East Main Street 150:geo:-81.9299288,34.949949
END:VEVENT
BEGIN:VEVENT
DTSTART;TZID=America/New_York:20230930T100000
DTEND;TZID=America/New_York:20230930T220000
DTSTAMP:20260424T024314
CREATED:20230927T162116Z
LAST-MODIFIED:20230927T162116Z
UID:23201-1696068000-1696111200@864foodtrucks.com
SUMMARY:Unk and Me Comfort Food @ James F Byrnes High School
DESCRIPTION:
URL:https://864foodtrucks.com/event/unk-and-me-comfort-food-james-f-byrnes-high-school/
LOCATION:James F Byrnes High School\, East Main Street 150\, Spartanburg\, South Carolina\, 29306\, United States
CATEGORIES:Food Truck Schedules,Spartanburg
ATTACH;FMTTYPE=image/jpeg:https://864foodtrucks.com/wp-content/uploads/2023/07/Unk-Me.jpg
ORGANIZER;CN="Unk & Me Comfort Foods":MAILTO:uncandmellc@gmail.com
GEO:34.949949;-81.9299288
X-APPLE-STRUCTURED-LOCATION;VALUE=URI;X-ADDRESS=James F Byrnes High School East Main Street 150 Spartanburg South Carolina 29306 United States;X-APPLE-RADIUS=500;X-TITLE=East Main Street 150:geo:-81.9299288,34.949949
END:VEVENT
END:VCALENDAR