BEGIN:VCALENDAR
VERSION:2.0
PRODID:-//864 Food Trucks - ECPv6.15.20//NONSGML v1.0//EN
CALSCALE:GREGORIAN
METHOD:PUBLISH
X-WR-CALNAME:864 Food Trucks
X-ORIGINAL-URL:https://864foodtrucks.com
X-WR-CALDESC:Events for 864 Food Trucks
REFRESH-INTERVAL;VALUE=DURATION:PT1H
X-Robots-Tag:noindex
X-PUBLISHED-TTL:PT1H
BEGIN:VTIMEZONE
TZID:America/New_York
BEGIN:DAYLIGHT
TZOFFSETFROM:-0500
TZOFFSETTO:-0400
TZNAME:EDT
DTSTART:20240310T070000
END:DAYLIGHT
BEGIN:STANDARD
TZOFFSETFROM:-0400
TZOFFSETTO:-0500
TZNAME:EST
DTSTART:20241103T060000
END:STANDARD
BEGIN:DAYLIGHT
TZOFFSETFROM:-0500
TZOFFSETTO:-0400
TZNAME:EDT
DTSTART:20250309T070000
END:DAYLIGHT
BEGIN:STANDARD
TZOFFSETFROM:-0400
TZOFFSETTO:-0500
TZNAME:EST
DTSTART:20251102T060000
END:STANDARD
BEGIN:DAYLIGHT
TZOFFSETFROM:-0500
TZOFFSETTO:-0400
TZNAME:EDT
DTSTART:20260308T070000
END:DAYLIGHT
BEGIN:STANDARD
TZOFFSETFROM:-0400
TZOFFSETTO:-0500
TZNAME:EST
DTSTART:20261101T060000
END:STANDARD
END:VTIMEZONE
BEGIN:VEVENT
DTSTART;TZID=America/New_York:20250608T160000
DTEND;TZID=America/New_York:20250608T200000
DTSTAMP:20260425T120810
CREATED:20250604T155400Z
LAST-MODIFIED:20250604T155400Z
UID:47251-1749398400-1749412800@864foodtrucks.com
SUMMARY:Kodesh BBQ Bowls @ Jet's Landing
DESCRIPTION:Kodesh BBQ Bowls is a mobile food trailer that provides a heap amount of Levitical clean\, flavorful\, pit smoked BBQ. We’ve also come up with a link between enjoying our delicious BBQ and providing healthier options\, our cultural inspired bowls!
URL:https://864foodtrucks.com/event/kodesh-bbq-bowls-jets-landing/
LOCATION:Jets Landing\, 1147 Jets Landing Rd\, Abbeville\, South Carolina
CATEGORIES:Abbeville,Food Truck Schedules
ATTACH;FMTTYPE=image/jpeg:https://864foodtrucks.com/wp-content/uploads/2023/07/Kodesh-BBQ.jpg
ORGANIZER;CN="Kodesh BBQ & Bowls":MAILTO:kodeshbbq@gmail.com
GEO:34.2886325;-82.5892811
X-APPLE-STRUCTURED-LOCATION;VALUE=URI;X-ADDRESS=Jets Landing 1147 Jets Landing Rd Abbeville South Carolina;X-APPLE-RADIUS=500;X-TITLE=1147 Jets Landing Rd:geo:-82.5892811,34.2886325
END:VEVENT
BEGIN:VEVENT
DTSTART;TZID=America/New_York:20250531T130000
DTEND;TZID=America/New_York:20250531T180000
DTSTAMP:20260425T120810
CREATED:20250527T232825Z
LAST-MODIFIED:20250616T214349Z
UID:46733-1748696400-1748714400@864foodtrucks.com
SUMMARY:La Katrina Mia @ Jets Landing
DESCRIPTION:Latin Cuisine\, book us for your next event we Cater or bring our Food Truck out the choice is yours.
URL:https://864foodtrucks.com/event/la-katrina-mia-jets-landing/2025-05-31/
LOCATION:Jets Landing\, 1147 Jets Landing Rd\, Abbeville\, South Carolina
CATEGORIES:Abbeville,Food Truck Schedules
ATTACH;FMTTYPE=image/jpeg:https://864foodtrucks.com/wp-content/uploads/2022/06/La-Katrina-Mia-Truck.jpg
ORGANIZER;CN="La Katrina Mia":MAILTO:lakatrinamia@gmail.com
GEO:34.2886325;-82.5892811
X-APPLE-STRUCTURED-LOCATION;VALUE=URI;X-ADDRESS=Jets Landing 1147 Jets Landing Rd Abbeville South Carolina;X-APPLE-RADIUS=500;X-TITLE=1147 Jets Landing Rd:geo:-82.5892811,34.2886325
END:VEVENT
END:VCALENDAR