BEGIN:VCALENDAR
VERSION:2.0
PRODID:-//864 Food Trucks - ECPv6.15.20//NONSGML v1.0//EN
CALSCALE:GREGORIAN
METHOD:PUBLISH
X-ORIGINAL-URL:https://864foodtrucks.com
X-WR-CALDESC:Events for 864 Food Trucks
REFRESH-INTERVAL;VALUE=DURATION:PT1H
X-Robots-Tag:noindex
X-PUBLISHED-TTL:PT1H
BEGIN:VTIMEZONE
TZID:America/New_York
BEGIN:DAYLIGHT
TZOFFSETFROM:-0500
TZOFFSETTO:-0400
TZNAME:EDT
DTSTART:20220313T070000
END:DAYLIGHT
BEGIN:STANDARD
TZOFFSETFROM:-0400
TZOFFSETTO:-0500
TZNAME:EST
DTSTART:20221106T060000
END:STANDARD
BEGIN:DAYLIGHT
TZOFFSETFROM:-0500
TZOFFSETTO:-0400
TZNAME:EDT
DTSTART:20230312T070000
END:DAYLIGHT
BEGIN:STANDARD
TZOFFSETFROM:-0400
TZOFFSETTO:-0500
TZNAME:EST
DTSTART:20231105T060000
END:STANDARD
BEGIN:DAYLIGHT
TZOFFSETFROM:-0500
TZOFFSETTO:-0400
TZNAME:EDT
DTSTART:20240310T070000
END:DAYLIGHT
BEGIN:STANDARD
TZOFFSETFROM:-0400
TZOFFSETTO:-0500
TZNAME:EST
DTSTART:20241103T060000
END:STANDARD
BEGIN:DAYLIGHT
TZOFFSETFROM:-0500
TZOFFSETTO:-0400
TZNAME:EDT
DTSTART:20250309T070000
END:DAYLIGHT
BEGIN:STANDARD
TZOFFSETFROM:-0400
TZOFFSETTO:-0500
TZNAME:EST
DTSTART:20251102T060000
END:STANDARD
BEGIN:DAYLIGHT
TZOFFSETFROM:-0500
TZOFFSETTO:-0400
TZNAME:EDT
DTSTART:20260308T070000
END:DAYLIGHT
BEGIN:STANDARD
TZOFFSETFROM:-0400
TZOFFSETTO:-0500
TZNAME:EST
DTSTART:20261101T060000
END:STANDARD
END:VTIMEZONE
BEGIN:VEVENT
DTSTART;TZID=America/New_York:20250708T070000
DTEND;TZID=America/New_York:20250708T110000
DTSTAMP:20260425T203336
CREATED:20250708T001300Z
LAST-MODIFIED:20250708T001300Z
UID:49857-1751958000-1751972400@864foodtrucks.com
SUMMARY:Vita Nova @ JL Mann HS
DESCRIPTION:The vision of Vita Nova is to bring communities together around good coffee\, delicacies and various entertainment!
URL:https://864foodtrucks.com/event/vita-nova-jl-mann-hs/2025-07-08/
LOCATION:JL Mann\, 160 Fairforest Way\, Greenville\, South Carolina
CATEGORIES:Food Truck Schedules,Greenville
ATTACH;FMTTYPE=image/jpeg:https://864foodtrucks.com/wp-content/uploads/2023/06/Vita-Nova-2.jpg
ORGANIZER;CN="Vita Nova Coffee And Tea":MAILTO:Vitanova3710@gmail.com
GEO:34.8070241;-82.3372515
X-APPLE-STRUCTURED-LOCATION;VALUE=URI;X-ADDRESS=JL Mann 160 Fairforest Way Greenville South Carolina;X-APPLE-RADIUS=500;X-TITLE=160 Fairforest Way:geo:-82.3372515,34.8070241
END:VEVENT
BEGIN:VEVENT
DTSTART;TZID=America/New_York:20230717T070000
DTEND;TZID=America/New_York:20230717T100000
DTSTAMP:20260425T203336
CREATED:20230717T151000Z
LAST-MODIFIED:20240708T142959Z
UID:20854-1689577200-1689588000@864foodtrucks.com
SUMMARY:Vita Nova @ J L Mann
DESCRIPTION:The vision of Vita Nova is to bring communities together around good coffee\, delicacies and various entertainment!
URL:https://864foodtrucks.com/event/vita-nova-j-l-mann/2023-07-17/
LOCATION:JL Mann\, 160 Fairforest Way\, Greenville\, South Carolina
CATEGORIES:Food Truck Schedules,Greenville
ATTACH;FMTTYPE=image/jpeg:https://864foodtrucks.com/wp-content/uploads/2023/06/Vita-Nova-2.jpg
ORGANIZER;CN="Vita Nova Coffee And Tea":MAILTO:Vitanova3710@gmail.com
GEO:34.8070241;-82.3372515
X-APPLE-STRUCTURED-LOCATION;VALUE=URI;X-ADDRESS=JL Mann 160 Fairforest Way Greenville South Carolina;X-APPLE-RADIUS=500;X-TITLE=160 Fairforest Way:geo:-82.3372515,34.8070241
END:VEVENT
BEGIN:VEVENT
DTSTART;TZID=America/New_York:20230306T163000
DTEND;TZID=America/New_York:20230306T173000
DTSTAMP:20260425T203336
CREATED:20230306T195335Z
LAST-MODIFIED:20230306T195335Z
UID:17323-1678120200-1678123800@864foodtrucks.com
SUMMARY:Sky Cream Ice Cream @ JL Mann Softball Game
DESCRIPTION:Greenville’s cutest ice cream truck coming to a neighborhood near you!
URL:https://864foodtrucks.com/event/sky-cream-ice-cream-jl-mann-softball-game/
LOCATION:JL Mann\, 160 Fairforest Way\, Greenville\, South Carolina
CATEGORIES:Food Truck Schedules,Greenville
ATTACH;FMTTYPE=image/jpeg:https://864foodtrucks.com/wp-content/uploads/2022/05/Sky-Cream-Ice-Cream-Truck.jpg
ORGANIZER;CN="Sky Cream Ice Cream Truck":MAILTO:skycreamicecreamtruck@gmail.com
GEO:34.8070241;-82.3372515
X-APPLE-STRUCTURED-LOCATION;VALUE=URI;X-ADDRESS=JL Mann 160 Fairforest Way Greenville South Carolina;X-APPLE-RADIUS=500;X-TITLE=160 Fairforest Way:geo:-82.3372515,34.8070241
END:VEVENT
END:VCALENDAR