BEGIN:VCALENDAR
VERSION:2.0
PRODID:-//864 Food Trucks - ECPv6.15.20//NONSGML v1.0//EN
CALSCALE:GREGORIAN
METHOD:PUBLISH
X-WR-CALNAME:864 Food Trucks
X-ORIGINAL-URL:https://864foodtrucks.com
X-WR-CALDESC:Events for 864 Food Trucks
REFRESH-INTERVAL;VALUE=DURATION:PT1H
X-Robots-Tag:noindex
X-PUBLISHED-TTL:PT1H
BEGIN:VTIMEZONE
TZID:America/New_York
BEGIN:DAYLIGHT
TZOFFSETFROM:-0500
TZOFFSETTO:-0400
TZNAME:EDT
DTSTART:20210314T070000
END:DAYLIGHT
BEGIN:STANDARD
TZOFFSETFROM:-0400
TZOFFSETTO:-0500
TZNAME:EST
DTSTART:20211107T060000
END:STANDARD
BEGIN:DAYLIGHT
TZOFFSETFROM:-0500
TZOFFSETTO:-0400
TZNAME:EDT
DTSTART:20220313T070000
END:DAYLIGHT
BEGIN:STANDARD
TZOFFSETFROM:-0400
TZOFFSETTO:-0500
TZNAME:EST
DTSTART:20221106T060000
END:STANDARD
BEGIN:DAYLIGHT
TZOFFSETFROM:-0500
TZOFFSETTO:-0400
TZNAME:EDT
DTSTART:20230312T070000
END:DAYLIGHT
BEGIN:STANDARD
TZOFFSETFROM:-0400
TZOFFSETTO:-0500
TZNAME:EST
DTSTART:20231105T060000
END:STANDARD
BEGIN:DAYLIGHT
TZOFFSETFROM:-0500
TZOFFSETTO:-0400
TZNAME:EDT
DTSTART:20240310T070000
END:DAYLIGHT
BEGIN:STANDARD
TZOFFSETFROM:-0400
TZOFFSETTO:-0500
TZNAME:EST
DTSTART:20241103T060000
END:STANDARD
END:VTIMEZONE
BEGIN:VEVENT
DTSTART;TZID=America/New_York:20230723T130000
DTEND;TZID=America/New_York:20230723T160000
DTSTAMP:20260425T090943
CREATED:20230717T145029Z
LAST-MODIFIED:20230717T145029Z
UID:20840-1690117200-1690128000@864foodtrucks.com
SUMMARY:Lobster Dogs @ Kennington Family Winery
DESCRIPTION:Food truck serving the Best Lobster Rolls & Stuffed Avocados in the Carolinas
URL:https://864foodtrucks.com/event/lobster-dogs-kennington-family-winery-4/
LOCATION:Kennington Family Winery\, 507 Beaver Dam Rd\, Marietta\, South Carolina
CATEGORIES:Food Truck Schedules,Marietta
ATTACH;FMTTYPE=image/jpeg:https://864foodtrucks.com/wp-content/uploads/2021/05/lobster-dogs-Food-Truck.jpg
ORGANIZER;CN="Lobster Dogs":MAILTO:lobsterdogs3@gmail.com
GEO:33.836081;-81.1637245
X-APPLE-STRUCTURED-LOCATION;VALUE=URI;X-ADDRESS=Kennington Family Winery 507 Beaver Dam Rd Marietta South Carolina;X-APPLE-RADIUS=500;X-TITLE=507 Beaver Dam Rd:geo:-81.1637245,33.836081
END:VEVENT
BEGIN:VEVENT
DTSTART;TZID=America/New_York:20230624T120000
DTEND;TZID=America/New_York:20230624T160000
DTSTAMP:20260425T090943
CREATED:20230620T010213Z
LAST-MODIFIED:20230911T205700Z
UID:19873-1687608000-1687622400@864foodtrucks.com
SUMMARY:La Katrina Mia @ Kennington Winery
DESCRIPTION:Latin Cuisine\, book us for your next event we Cater or bring our Food Truck out the choice is yours.
URL:https://864foodtrucks.com/event/la-katrina-mia-kennington-winery/2023-06-24/
LOCATION:Kennington Family Winery\, 507 Beaver Dam Rd\, Marietta\, South Carolina
CATEGORIES:Food Truck Schedules,Marietta
ATTACH;FMTTYPE=image/jpeg:https://864foodtrucks.com/wp-content/uploads/2022/06/La-Katrina-Mia-Truck.jpg
ORGANIZER;CN="La Katrina Mia":MAILTO:lakatrinamia@gmail.com
GEO:33.836081;-81.1637245
X-APPLE-STRUCTURED-LOCATION;VALUE=URI;X-ADDRESS=Kennington Family Winery 507 Beaver Dam Rd Marietta South Carolina;X-APPLE-RADIUS=500;X-TITLE=507 Beaver Dam Rd:geo:-81.1637245,33.836081
END:VEVENT
BEGIN:VEVENT
DTSTART;TZID=America/New_York:20230514T120000
DTEND;TZID=America/New_York:20230514T160000
DTSTAMP:20260425T090943
CREATED:20230508T152416Z
LAST-MODIFIED:20230508T152416Z
UID:18782-1684065600-1684080000@864foodtrucks.com
SUMMARY:Electric Food Truck @ Kennington Family Winery
DESCRIPTION:We are the world’s first all electric food truck\, serving Greenville\, SC.
URL:https://864foodtrucks.com/event/electric-food-truck-kennington-family-winery/2023-05-14/
LOCATION:Kennington Family Winery\, 507 Beaver Dam Rd\, Marietta\, South Carolina
CATEGORIES:Food Truck Schedules,Marietta
ATTACH;FMTTYPE=image/jpeg:https://864foodtrucks.com/wp-content/uploads/2023/03/Electric-Food-Truck.jpg
ORGANIZER;CN="The Electric Food Truck":MAILTO:team@theelectricfoodtruck.com
GEO:33.836081;-81.1637245
X-APPLE-STRUCTURED-LOCATION;VALUE=URI;X-ADDRESS=Kennington Family Winery 507 Beaver Dam Rd Marietta South Carolina;X-APPLE-RADIUS=500;X-TITLE=507 Beaver Dam Rd:geo:-81.1637245,33.836081
END:VEVENT
BEGIN:VEVENT
DTSTART;TZID=America/New_York:20230430T130000
DTEND;TZID=America/New_York:20230430T170000
DTSTAMP:20260425T090943
CREATED:20230424T190004Z
LAST-MODIFIED:20230424T190004Z
UID:18456-1682859600-1682874000@864foodtrucks.com
SUMMARY:Kiss My Asada @ Kennington Family Winery
DESCRIPTION:Rollin’ homemade Mexican deliciousness through the SC upstate. Locally sourced when possible!
URL:https://864foodtrucks.com/event/kiss-my-asada-kennington-family-winery/
LOCATION:Kennington Family Winery\, 507 Beaver Dam Rd\, Marietta\, South Carolina
CATEGORIES:Food Truck Schedules,Marietta
ATTACH;FMTTYPE=image/jpeg:https://864foodtrucks.com/wp-content/uploads/2023/03/Kiss-my-asada.jpg
GEO:33.836081;-81.1637245
X-APPLE-STRUCTURED-LOCATION;VALUE=URI;X-ADDRESS=Kennington Family Winery 507 Beaver Dam Rd Marietta South Carolina;X-APPLE-RADIUS=500;X-TITLE=507 Beaver Dam Rd:geo:-81.1637245,33.836081
END:VEVENT
BEGIN:VEVENT
DTSTART;TZID=America/New_York:20230429T130000
DTEND;TZID=America/New_York:20230429T160000
DTSTAMP:20260425T090943
CREATED:20230425T174337Z
LAST-MODIFIED:20230425T174337Z
UID:18488-1682773200-1682784000@864foodtrucks.com
SUMMARY:La Katrina Mia @ Kennington Family WInery
DESCRIPTION:
URL:https://864foodtrucks.com/event/la-katrina-mia-kennington-family-winery/
LOCATION:Kennington Family Winery\, 507 Beaver Dam Rd\, Marietta\, South Carolina
CATEGORIES:Food Truck Schedules,Marietta
ATTACH;FMTTYPE=image/jpeg:https://864foodtrucks.com/wp-content/uploads/2022/06/La-Katrina-Mia-Truck.jpg
ORGANIZER;CN="La Katrina Mia":MAILTO:lakatrinamia@gmail.com
GEO:33.836081;-81.1637245
X-APPLE-STRUCTURED-LOCATION;VALUE=URI;X-ADDRESS=Kennington Family Winery 507 Beaver Dam Rd Marietta South Carolina;X-APPLE-RADIUS=500;X-TITLE=507 Beaver Dam Rd:geo:-81.1637245,33.836081
END:VEVENT
BEGIN:VEVENT
DTSTART;TZID=America/New_York:20230422T130000
DTEND;TZID=America/New_York:20230422T170000
DTSTAMP:20260425T090943
CREATED:20230406T190754Z
LAST-MODIFIED:20230406T191344Z
UID:18086-1682168400-1682182800@864foodtrucks.com
SUMMARY:Hawaiian Donut Co @ Kennington Winery
DESCRIPTION:
URL:https://864foodtrucks.com/event/hawaiian-donut-co-kennington-winery/
LOCATION:Kennington Family Winery\, 507 Beaver Dam Rd\, Marietta\, South Carolina
CATEGORIES:Food Truck Schedules,Marietta
ATTACH;FMTTYPE=image/jpeg:https://864foodtrucks.com/wp-content/uploads/2022/08/Hawaiian-Donut-Co.jpg
GEO:33.836081;-81.1637245
X-APPLE-STRUCTURED-LOCATION;VALUE=URI;X-ADDRESS=Kennington Family Winery 507 Beaver Dam Rd Marietta South Carolina;X-APPLE-RADIUS=500;X-TITLE=507 Beaver Dam Rd:geo:-81.1637245,33.836081
END:VEVENT
BEGIN:VEVENT
DTSTART;TZID=America/New_York:20230411T170000
DTEND;TZID=America/New_York:20230411T200000
DTSTAMP:20260425T090943
CREATED:20230410T134937Z
LAST-MODIFIED:20230612T114912Z
UID:18147-1681232400-1681243200@864foodtrucks.com
SUMMARY:Healthy Food Truck @ Kennington Family Winery
DESCRIPTION:🌶️MEXICAN FLAVOR\n🍅HEALTHY FOOD\n🥬MEAL PREPS
URL:https://864foodtrucks.com/event/healthy-food-truck-kennington-family-winery/2023-04-11/
LOCATION:Kennington Family Winery\, 507 Beaver Dam Rd\, Marietta\, South Carolina
CATEGORIES:Food Truck Schedules,Marietta
ATTACH;FMTTYPE=image/jpeg:https://864foodtrucks.com/wp-content/uploads/2023/02/Healthy-Food-Truck-Greenville.jpg
ORGANIZER;CN="Healthy Food Truck GVL":MAILTO:Nefgym@gmail.com
GEO:33.836081;-81.1637245
X-APPLE-STRUCTURED-LOCATION;VALUE=URI;X-ADDRESS=Kennington Family Winery 507 Beaver Dam Rd Marietta South Carolina;X-APPLE-RADIUS=500;X-TITLE=507 Beaver Dam Rd:geo:-81.1637245,33.836081
END:VEVENT
BEGIN:VEVENT
DTSTART;TZID=America/New_York:20230402T130000
DTEND;TZID=America/New_York:20230402T190000
DTSTAMP:20260425T090943
CREATED:20230327T121107Z
LAST-MODIFIED:20230327T121107Z
UID:17792-1680440400-1680462000@864foodtrucks.com
SUMMARY:Castillo Mobile Cigar @ Kennington Family Winery
DESCRIPTION:Elevate your gathering with our unique mobile cigar lounge. We’ll bring the party to you and create a customized experience for an unforgettable event.
URL:https://864foodtrucks.com/event/castillo-mobile-cigar-kennington-family-winery-2/
LOCATION:Kennington Family Winery\, 507 Beaver Dam Rd\, Marietta\, South Carolina
CATEGORIES:Food Truck Schedules,Marietta
ATTACH;FMTTYPE=image/jpeg:https://864foodtrucks.com/wp-content/uploads/2021/05/Castillo-Mobile-Cigar-Lounge-Trailer.jpg
ORGANIZER;CN="Castillo Mobile Cigar":MAILTO:castillomobilecigar@gmail.com
GEO:33.836081;-81.1637245
X-APPLE-STRUCTURED-LOCATION;VALUE=URI;X-ADDRESS=Kennington Family Winery 507 Beaver Dam Rd Marietta South Carolina;X-APPLE-RADIUS=500;X-TITLE=507 Beaver Dam Rd:geo:-81.1637245,33.836081
END:VEVENT
BEGIN:VEVENT
DTSTART;TZID=America/New_York:20230401T140000
DTEND;TZID=America/New_York:20230401T180000
DTSTAMP:20260425T090943
CREATED:20230327T121957Z
LAST-MODIFIED:20240527T165806Z
UID:17805-1680357600-1680372000@864foodtrucks.com
SUMMARY:Lobster Dogs @ Kennington Family Winery
DESCRIPTION:Food truck serving the Best Lobster Rolls & Stuffed Avocados in the Carolinas
URL:https://864foodtrucks.com/event/lobster-dogs-kennington-family-winery-3/2023-04-01/
LOCATION:Kennington Family Winery\, 507 Beaver Dam Rd\, Marietta\, South Carolina
CATEGORIES:Food Truck Schedules,Marietta
ATTACH;FMTTYPE=image/jpeg:https://864foodtrucks.com/wp-content/uploads/2021/05/lobster-dogs-Food-Truck.jpg
ORGANIZER;CN="Lobster Dogs":MAILTO:lobsterdogs3@gmail.com
GEO:33.836081;-81.1637245
X-APPLE-STRUCTURED-LOCATION;VALUE=URI;X-ADDRESS=Kennington Family Winery 507 Beaver Dam Rd Marietta South Carolina;X-APPLE-RADIUS=500;X-TITLE=507 Beaver Dam Rd:geo:-81.1637245,33.836081
END:VEVENT
BEGIN:VEVENT
DTSTART;TZID=America/New_York:20230305T130000
DTEND;TZID=America/New_York:20230305T160000
DTSTAMP:20260425T090943
CREATED:20230226T202357Z
LAST-MODIFIED:20230226T202357Z
UID:17119-1678021200-1678032000@864foodtrucks.com
SUMMARY:Lobster Dogs @ Kennington Family Winery
DESCRIPTION:Food truck serving the Best Lobster Rolls & Stuffed Avocados in the Carolinas
URL:https://864foodtrucks.com/event/lobster-dogs-kennington-family-winery-2/
LOCATION:Kennington Family Winery\, 507 Beaver Dam Rd\, Marietta\, South Carolina
CATEGORIES:Food Truck Schedules,Marietta
ATTACH;FMTTYPE=image/jpeg:https://864foodtrucks.com/wp-content/uploads/2021/05/lobster-dogs-Food-Truck.jpg
ORGANIZER;CN="Lobster Dogs":MAILTO:lobsterdogs3@gmail.com
GEO:33.836081;-81.1637245
X-APPLE-STRUCTURED-LOCATION;VALUE=URI;X-ADDRESS=Kennington Family Winery 507 Beaver Dam Rd Marietta South Carolina;X-APPLE-RADIUS=500;X-TITLE=507 Beaver Dam Rd:geo:-81.1637245,33.836081
END:VEVENT
BEGIN:VEVENT
DTSTART;TZID=America/New_York:20221113T130000
DTEND;TZID=America/New_York:20221113T160000
DTSTAMP:20260425T090943
CREATED:20221107T173952Z
LAST-MODIFIED:20221107T173952Z
UID:14466-1668344400-1668355200@864foodtrucks.com
SUMMARY:Lobster Dogs @ Kennington Family Winery
DESCRIPTION:Food truck serving the Best Lobster Rolls & Stuffed Avocados in the Carolinas
URL:https://864foodtrucks.com/event/lobster-dogs-kennington-family-winery/
LOCATION:Kennington Family Winery\, 507 Beaver Dam Rd\, Marietta\, South Carolina
CATEGORIES:Food Truck Schedules,Marietta
ATTACH;FMTTYPE=image/jpeg:https://864foodtrucks.com/wp-content/uploads/2021/05/lobster-dogs-Food-Truck.jpg
ORGANIZER;CN="Lobster Dogs":MAILTO:lobsterdogs3@gmail.com
GEO:33.836081;-81.1637245
X-APPLE-STRUCTURED-LOCATION;VALUE=URI;X-ADDRESS=Kennington Family Winery 507 Beaver Dam Rd Marietta South Carolina;X-APPLE-RADIUS=500;X-TITLE=507 Beaver Dam Rd:geo:-81.1637245,33.836081
END:VEVENT
END:VCALENDAR