BEGIN:VCALENDAR
VERSION:2.0
PRODID:-//864 Food Trucks - ECPv6.15.20//NONSGML v1.0//EN
CALSCALE:GREGORIAN
METHOD:PUBLISH
X-WR-CALNAME:864 Food Trucks
X-ORIGINAL-URL:https://864foodtrucks.com
X-WR-CALDESC:Events for 864 Food Trucks
REFRESH-INTERVAL;VALUE=DURATION:PT1H
X-Robots-Tag:noindex
X-PUBLISHED-TTL:PT1H
BEGIN:VTIMEZONE
TZID:America/New_York
BEGIN:DAYLIGHT
TZOFFSETFROM:-0500
TZOFFSETTO:-0400
TZNAME:EDT
DTSTART:20220313T070000
END:DAYLIGHT
BEGIN:STANDARD
TZOFFSETFROM:-0400
TZOFFSETTO:-0500
TZNAME:EST
DTSTART:20221106T060000
END:STANDARD
BEGIN:DAYLIGHT
TZOFFSETFROM:-0500
TZOFFSETTO:-0400
TZNAME:EDT
DTSTART:20230312T070000
END:DAYLIGHT
BEGIN:STANDARD
TZOFFSETFROM:-0400
TZOFFSETTO:-0500
TZNAME:EST
DTSTART:20231105T060000
END:STANDARD
BEGIN:DAYLIGHT
TZOFFSETFROM:-0500
TZOFFSETTO:-0400
TZNAME:EDT
DTSTART:20240310T070000
END:DAYLIGHT
BEGIN:STANDARD
TZOFFSETFROM:-0400
TZOFFSETTO:-0500
TZNAME:EST
DTSTART:20241103T060000
END:STANDARD
BEGIN:DAYLIGHT
TZOFFSETFROM:-0500
TZOFFSETTO:-0400
TZNAME:EDT
DTSTART:20250309T070000
END:DAYLIGHT
BEGIN:STANDARD
TZOFFSETFROM:-0400
TZOFFSETTO:-0500
TZNAME:EST
DTSTART:20251102T060000
END:STANDARD
END:VTIMEZONE
BEGIN:VEVENT
DTSTART;TZID=America/New_York:20240522T170000
DTEND;TZID=America/New_York:20240522T193000
DTSTAMP:20260424T224249
CREATED:20240519T214948Z
LAST-MODIFIED:20240519T214948Z
UID:28291-1716397200-1716406200@864foodtrucks.com
SUMMARY:Local Pie Pizza Co @ Kilgore Plantations
DESCRIPTION:Artisan Pizza Food Truck
URL:https://864foodtrucks.com/event/local-pie-pizza-co-kilgore-plantations/
LOCATION:Kilgore Plantation\, 2 Land Grant Drive\, Simpsonville\, South Carolina
CATEGORIES:Food Truck Schedules,Simpsonville
ATTACH;FMTTYPE=image/jpeg:https://864foodtrucks.com/wp-content/uploads/2022/01/Local-Pie-Logo.jpg
ORGANIZER;CN="Local Pie Pizza Company":MAILTO:cory@localpiepizzacompany.com
GEO:34.8158303;-82.2290627
X-APPLE-STRUCTURED-LOCATION;VALUE=URI;X-ADDRESS=Kilgore Plantation 2 Land Grant Drive Simpsonville South Carolina;X-APPLE-RADIUS=500;X-TITLE=2 Land Grant Drive:geo:-82.2290627,34.8158303
END:VEVENT
BEGIN:VEVENT
DTSTART;TZID=America/New_York:20230824T173000
DTEND;TZID=America/New_York:20230824T193000
DTSTAMP:20260424T224249
CREATED:20230820T232306Z
LAST-MODIFIED:20230820T232306Z
UID:22230-1692898200-1692905400@864foodtrucks.com
SUMMARY:One Eyed Donkey @ Kilgore Plantation
DESCRIPTION:ji-roz presents the one eyed donkey! fun take on some greek classics ~ on wheels!!! same quality\, same service\, same vibe as our brick and mortar just brought directly to you. Call or email us today to schedule our donkey.
URL:https://864foodtrucks.com/event/one-eyed-donkey-kilgore-plantation/
LOCATION:Kilgore Plantation\, 2 Land Grant Drive\, Simpsonville\, South Carolina
CATEGORIES:Food Truck Schedules,Simpsonville
ATTACH;FMTTYPE=image/jpeg:https://864foodtrucks.com/wp-content/uploads/2021/05/One-Eyed-Donkey-Food-Truck.jpg
GEO:34.8158303;-82.2290627
X-APPLE-STRUCTURED-LOCATION;VALUE=URI;X-ADDRESS=Kilgore Plantation 2 Land Grant Drive Simpsonville South Carolina;X-APPLE-RADIUS=500;X-TITLE=2 Land Grant Drive:geo:-82.2290627,34.8158303
END:VEVENT
BEGIN:VEVENT
DTSTART;TZID=America/New_York:20230803T180000
DTEND;TZID=America/New_York:20230803T200000
DTSTAMP:20260424T224249
CREATED:20230731T185615Z
LAST-MODIFIED:20230731T185615Z
UID:21691-1691085600-1691092800@864foodtrucks.com
SUMMARY:Too Sauc'd Up @ Kilgore Plantations
DESCRIPTION:
URL:https://864foodtrucks.com/event/too-saucd-up-kilgore-plantations/
LOCATION:Kilgore Plantation\, 2 Land Grant Drive\, Simpsonville\, South Carolina
CATEGORIES:Food Truck Schedules,Simpsonville
ATTACH;FMTTYPE=image/jpeg:https://864foodtrucks.com/wp-content/uploads/2022/07/Too-Saucd-Up.jpg
ORGANIZER;CN="Too Sauc'D Up":MAILTO:toosauc.dup@gmail.com
GEO:34.8158303;-82.2290627
X-APPLE-STRUCTURED-LOCATION;VALUE=URI;X-ADDRESS=Kilgore Plantation 2 Land Grant Drive Simpsonville South Carolina;X-APPLE-RADIUS=500;X-TITLE=2 Land Grant Drive:geo:-82.2290627,34.8158303
END:VEVENT
BEGIN:VEVENT
DTSTART;TZID=America/New_York:20230713T180000
DTEND;TZID=America/New_York:20230713T200000
DTSTAMP:20260424T224249
CREATED:20230712T210833Z
LAST-MODIFIED:20230712T210833Z
UID:20806-1689271200-1689278400@864foodtrucks.com
SUMMARY:La Katrina Mia @ Kilgore Plantation
DESCRIPTION:
URL:https://864foodtrucks.com/event/la-katrina-mia-kilgore-plantation/
LOCATION:Kilgore Plantation\, 2 Land Grant Drive\, Simpsonville\, South Carolina
CATEGORIES:Food Truck Schedules,Simpsonville
ATTACH;FMTTYPE=image/jpeg:https://864foodtrucks.com/wp-content/uploads/2022/06/La-Katrina-Mia-Truck.jpg
ORGANIZER;CN="La Katrina Mia":MAILTO:lakatrinamia@gmail.com
GEO:34.8158303;-82.2290627
X-APPLE-STRUCTURED-LOCATION;VALUE=URI;X-ADDRESS=Kilgore Plantation 2 Land Grant Drive Simpsonville South Carolina;X-APPLE-RADIUS=500;X-TITLE=2 Land Grant Drive:geo:-82.2290627,34.8158303
END:VEVENT
BEGIN:VEVENT
DTSTART;TZID=America/New_York:20230627T170000
DTEND;TZID=America/New_York:20230627T193000
DTSTAMP:20260424T224249
CREATED:20230625T235540Z
LAST-MODIFIED:20230625T235540Z
UID:20048-1687885200-1687894200@864foodtrucks.com
SUMMARY:Lobster Dogs @ Kilgore Plantation
DESCRIPTION:Food truck serving the Best Lobster Rolls & Stuffed Avocados in the Carolinas
URL:https://864foodtrucks.com/event/lobster-dogs-kilgore-plantation/
LOCATION:Kilgore Plantation\, 2 Land Grant Drive\, Simpsonville\, South Carolina
CATEGORIES:Food Truck Schedules,Simpsonville
ATTACH;FMTTYPE=image/jpeg:https://864foodtrucks.com/wp-content/uploads/2021/05/lobster-dogs-Food-Truck.jpg
ORGANIZER;CN="Lobster Dogs":MAILTO:lobsterdogs3@gmail.com
GEO:34.8158303;-82.2290627
X-APPLE-STRUCTURED-LOCATION;VALUE=URI;X-ADDRESS=Kilgore Plantation 2 Land Grant Drive Simpsonville South Carolina;X-APPLE-RADIUS=500;X-TITLE=2 Land Grant Drive:geo:-82.2290627,34.8158303
END:VEVENT
BEGIN:VEVENT
DTSTART;TZID=America/New_York:20230531T170000
DTEND;TZID=America/New_York:20230531T193000
DTSTAMP:20260424T224249
CREATED:20230529T001229Z
LAST-MODIFIED:20250811T184221Z
UID:19225-1685552400-1685561400@864foodtrucks.com
SUMMARY:Local Pie Pizza Co @ Kilgore Plantation
DESCRIPTION:Artisan Pizza Food Truck
URL:https://864foodtrucks.com/event/local-pie-pizza-co-kilgore-plantation/2023-05-31/
LOCATION:Kilgore Plantation\, 2 Land Grant Drive\, Simpsonville\, South Carolina
CATEGORIES:Food Truck Schedules,Simpsonville
ATTACH;FMTTYPE=image/jpeg:https://864foodtrucks.com/wp-content/uploads/2021/12/Local-Pie-Pizza-3.jpg
ORGANIZER;CN="Local Pie Pizza Company":MAILTO:cory@localpiepizzacompany.com
GEO:34.8158303;-82.2290627
X-APPLE-STRUCTURED-LOCATION;VALUE=URI;X-ADDRESS=Kilgore Plantation 2 Land Grant Drive Simpsonville South Carolina;X-APPLE-RADIUS=500;X-TITLE=2 Land Grant Drive:geo:-82.2290627,34.8158303
END:VEVENT
END:VCALENDAR