BEGIN:VCALENDAR
VERSION:2.0
PRODID:-//864 Food Trucks - ECPv6.15.20//NONSGML v1.0//EN
CALSCALE:GREGORIAN
METHOD:PUBLISH
X-WR-CALNAME:864 Food Trucks
X-ORIGINAL-URL:https://864foodtrucks.com
X-WR-CALDESC:Events for 864 Food Trucks
REFRESH-INTERVAL;VALUE=DURATION:PT1H
X-Robots-Tag:noindex
X-PUBLISHED-TTL:PT1H
BEGIN:VTIMEZONE
TZID:America/New_York
BEGIN:DAYLIGHT
TZOFFSETFROM:-0500
TZOFFSETTO:-0400
TZNAME:EDT
DTSTART:20230312T070000
END:DAYLIGHT
BEGIN:STANDARD
TZOFFSETFROM:-0400
TZOFFSETTO:-0500
TZNAME:EST
DTSTART:20231105T060000
END:STANDARD
BEGIN:DAYLIGHT
TZOFFSETFROM:-0500
TZOFFSETTO:-0400
TZNAME:EDT
DTSTART:20240310T070000
END:DAYLIGHT
BEGIN:STANDARD
TZOFFSETFROM:-0400
TZOFFSETTO:-0500
TZNAME:EST
DTSTART:20241103T060000
END:STANDARD
BEGIN:DAYLIGHT
TZOFFSETFROM:-0500
TZOFFSETTO:-0400
TZNAME:EDT
DTSTART:20250309T070000
END:DAYLIGHT
BEGIN:STANDARD
TZOFFSETFROM:-0400
TZOFFSETTO:-0500
TZNAME:EST
DTSTART:20251102T060000
END:STANDARD
END:VTIMEZONE
BEGIN:VEVENT
DTSTART;TZID=America/New_York:20240828T070000
DTEND;TZID=America/New_York:20240828T103000
DTSTAMP:20260425T201203
CREATED:20240827T220340Z
LAST-MODIFIED:20240827T220340Z
UID:33725-1724828400-1724841000@864foodtrucks.com
SUMMARY:The Donut Wagon @ Lowes Parking Lot Seneca
DESCRIPTION:We are a mobile business (food truck)\, and sell glazed donuts and hand crafted soft pretzels\, fresh\, made from scratch! We serve local towns once a week and also serve at festivals\, farmers markets\, etc.
URL:https://864foodtrucks.com/event/the-donut-wagon-lowes-parking-lot-seneca/
LOCATION:Lowes Seneca\, Bilo Place\, Seneca\, South Carolina\, 29678\, United States
CATEGORIES:Food Truck Schedules,Seneca
GEO:34.6897176;-82.9843491
X-APPLE-STRUCTURED-LOCATION;VALUE=URI;X-ADDRESS=Lowes Seneca Bilo Place Seneca South Carolina 29678 United States;X-APPLE-RADIUS=500;X-TITLE=Bilo Place:geo:-82.9843491,34.6897176
END:VEVENT
END:VCALENDAR