BEGIN:VCALENDAR
VERSION:2.0
PRODID:-//864 Food Trucks - ECPv6.15.20//NONSGML v1.0//EN
CALSCALE:GREGORIAN
METHOD:PUBLISH
X-WR-CALNAME:864 Food Trucks
X-ORIGINAL-URL:https://864foodtrucks.com
X-WR-CALDESC:Events for 864 Food Trucks
REFRESH-INTERVAL;VALUE=DURATION:PT1H
X-Robots-Tag:noindex
X-PUBLISHED-TTL:PT1H
BEGIN:VTIMEZONE
TZID:America/New_York
BEGIN:DAYLIGHT
TZOFFSETFROM:-0500
TZOFFSETTO:-0400
TZNAME:EDT
DTSTART:20230312T070000
END:DAYLIGHT
BEGIN:STANDARD
TZOFFSETFROM:-0400
TZOFFSETTO:-0500
TZNAME:EST
DTSTART:20231105T060000
END:STANDARD
BEGIN:DAYLIGHT
TZOFFSETFROM:-0500
TZOFFSETTO:-0400
TZNAME:EDT
DTSTART:20240310T070000
END:DAYLIGHT
BEGIN:STANDARD
TZOFFSETFROM:-0400
TZOFFSETTO:-0500
TZNAME:EST
DTSTART:20241103T060000
END:STANDARD
BEGIN:DAYLIGHT
TZOFFSETFROM:-0500
TZOFFSETTO:-0400
TZNAME:EDT
DTSTART:20250309T070000
END:DAYLIGHT
BEGIN:STANDARD
TZOFFSETFROM:-0400
TZOFFSETTO:-0500
TZNAME:EST
DTSTART:20251102T060000
END:STANDARD
BEGIN:DAYLIGHT
TZOFFSETFROM:-0500
TZOFFSETTO:-0400
TZNAME:EDT
DTSTART:20260308T070000
END:DAYLIGHT
BEGIN:STANDARD
TZOFFSETFROM:-0400
TZOFFSETTO:-0500
TZNAME:EST
DTSTART:20261101T060000
END:STANDARD
END:VTIMEZONE
BEGIN:VEVENT
DTSTART;TZID=America/New_York:20250228T113000
DTEND;TZID=America/New_York:20250228T140000
DTSTAMP:20260425T112927
CREATED:20250222T185631Z
LAST-MODIFIED:20250222T185631Z
UID:42585-1740742200-1740751200@864foodtrucks.com
SUMMARY:Simpell Sammies @ Mac Bid Auction
DESCRIPTION:Simpell Sammies is open for business and ready to serve you flavorful and delicious sandwiches and hoagies.
URL:https://864foodtrucks.com/event/simpell-sammies-mac-bid-auction/
LOCATION:Macbid\, State Road S-4-151 2\, Anderson\, South Carolina\, 29625\, United States
CATEGORIES:Anderson,Food Truck Schedules
ATTACH;FMTTYPE=image/jpeg:https://864foodtrucks.com/wp-content/uploads/2023/06/Simpell-Sammies-Trailer.jpg
ORGANIZER;CN="Simpell Sammies":MAILTO:info@simpelltreats.com
GEO:34.552044;-82.7101484
X-APPLE-STRUCTURED-LOCATION;VALUE=URI;X-ADDRESS=Macbid State Road S-4-151 2 Anderson South Carolina 29625 United States;X-APPLE-RADIUS=500;X-TITLE=State Road S-4-151 2:geo:-82.7101484,34.552044
END:VEVENT
BEGIN:VEVENT
DTSTART;TZID=America/New_York:20250103T110000
DTEND;TZID=America/New_York:20250103T150000
DTSTAMP:20260425T112927
CREATED:20241229T225843Z
LAST-MODIFIED:20241229T225843Z
UID:41448-1735902000-1735916400@864foodtrucks.com
SUMMARY:Simpell Sammies @ Mac Bids Friday
DESCRIPTION:Simpell Sammies is open for business and ready to serve you flavorful and delicious sandwiches and hoagies.
URL:https://864foodtrucks.com/event/simpell-sammies-mac-bids-friday/
LOCATION:Macbid\, State Road S-4-151 2\, Anderson\, South Carolina\, 29625\, United States
CATEGORIES:Food Truck Schedules,Greenville
ORGANIZER;CN="Simpell Sammies":MAILTO:info@simpelltreats.com
GEO:34.552044;-82.7101484
X-APPLE-STRUCTURED-LOCATION;VALUE=URI;X-ADDRESS=Macbid State Road S-4-151 2 Anderson South Carolina 29625 United States;X-APPLE-RADIUS=500;X-TITLE=State Road S-4-151 2:geo:-82.7101484,34.552044
END:VEVENT
BEGIN:VEVENT
DTSTART;TZID=America/New_York:20240516T110000
DTEND;TZID=America/New_York:20240516T160000
DTSTAMP:20260425T112927
CREATED:20240514T144036Z
LAST-MODIFIED:20250326T001913Z
UID:28274-1715857200-1715875200@864foodtrucks.com
SUMMARY:Kodesh BBQ Bowls @ Macbid
DESCRIPTION:Kodesh BBQ Bowls is a mobile food trailer that provides a heap amount of Levitical clean\, flavorful\, pit smoked BBQ. We’ve also come up with a link between enjoying our delicious BBQ and providing healthier options\, our cultural inspired bowls!
URL:https://864foodtrucks.com/event/kodesh-bbq-bowls-macbid/2024-05-16/
LOCATION:Macbid\, State Road S-4-151 2\, Anderson\, South Carolina\, 29625\, United States
CATEGORIES:Anderson,Food Truck Schedules
ATTACH;FMTTYPE=image/jpeg:https://864foodtrucks.com/wp-content/uploads/2023/07/Kodesh-BBQ.jpg
ORGANIZER;CN="Kodesh BBQ & Bowls":MAILTO:kodeshbbq@gmail.com
GEO:34.552044;-82.7101484
X-APPLE-STRUCTURED-LOCATION;VALUE=URI;X-ADDRESS=Macbid State Road S-4-151 2 Anderson South Carolina 29625 United States;X-APPLE-RADIUS=500;X-TITLE=State Road S-4-151 2:geo:-82.7101484,34.552044
END:VEVENT
END:VCALENDAR