BEGIN:VCALENDAR
VERSION:2.0
PRODID:-//864 Food Trucks - ECPv6.15.20//NONSGML v1.0//EN
CALSCALE:GREGORIAN
METHOD:PUBLISH
X-ORIGINAL-URL:https://864foodtrucks.com
X-WR-CALDESC:Events for 864 Food Trucks
REFRESH-INTERVAL;VALUE=DURATION:PT1H
X-Robots-Tag:noindex
X-PUBLISHED-TTL:PT1H
BEGIN:VTIMEZONE
TZID:America/New_York
BEGIN:DAYLIGHT
TZOFFSETFROM:-0500
TZOFFSETTO:-0400
TZNAME:EDT
DTSTART:20240310T070000
END:DAYLIGHT
BEGIN:STANDARD
TZOFFSETFROM:-0400
TZOFFSETTO:-0500
TZNAME:EST
DTSTART:20241103T060000
END:STANDARD
BEGIN:DAYLIGHT
TZOFFSETFROM:-0500
TZOFFSETTO:-0400
TZNAME:EDT
DTSTART:20250309T070000
END:DAYLIGHT
BEGIN:STANDARD
TZOFFSETFROM:-0400
TZOFFSETTO:-0500
TZNAME:EST
DTSTART:20251102T060000
END:STANDARD
BEGIN:DAYLIGHT
TZOFFSETFROM:-0500
TZOFFSETTO:-0400
TZNAME:EDT
DTSTART:20260308T070000
END:DAYLIGHT
BEGIN:STANDARD
TZOFFSETFROM:-0400
TZOFFSETTO:-0500
TZNAME:EST
DTSTART:20261101T060000
END:STANDARD
END:VTIMEZONE
BEGIN:VEVENT
DTSTART;TZID=America/New_York:20250815T110000
DTEND;TZID=America/New_York:20250815T150000
DTSTAMP:20260425T130845
CREATED:20250810T203903Z
LAST-MODIFIED:20250810T203903Z
UID:51899-1755255600-1755270000@864foodtrucks.com
SUMMARY:Spinx Cluk Truk @ Magna Decostar Food Truck Friday
DESCRIPTION:Your favorite southern fried chicken is hitting the road—and it’s going to be legendary. Our community comes first\, and we want to share that tender love by bringing our homegrown menu to you. The Cluk Truk is coming Fall 2020 to the Upstate!
URL:https://864foodtrucks.com/event/spinx-cluk-truk-magna-decostar-food-truck-friday/
LOCATION:Magna\, 1940 Old Grove Rd\, Piedmont\, SC\, United States
CATEGORIES:Food Truck Schedules,Piedmont
ATTACH;FMTTYPE=image/jpeg:https://864foodtrucks.com/wp-content/uploads/2021/05/Spinx-Cluk-Truk-Truck.jpg
ORGANIZER;CN="Spinx Cluk Truk":MAILTO:cluktruk@spinxco.com
GEO:34.7288985;-82.3986857
X-APPLE-STRUCTURED-LOCATION;VALUE=URI;X-ADDRESS=Magna 1940 Old Grove Rd Piedmont SC United States;X-APPLE-RADIUS=500;X-TITLE=1940 Old Grove Rd:geo:-82.3986857,34.7288985
END:VEVENT
BEGIN:VEVENT
DTSTART;TZID=America/New_York:20250718T110000
DTEND;TZID=America/New_York:20250718T150000
DTSTAMP:20260425T130845
CREATED:20250714T173522Z
LAST-MODIFIED:20250714T173522Z
UID:50063-1752836400-1752850800@864foodtrucks.com
SUMMARY:Simpell Sammies @ Magna
DESCRIPTION:Simpell Sammies is open for business and ready to serve you flavorful and delicious sandwiches and hoagies.
URL:https://864foodtrucks.com/event/simpell-sammies-magna/
LOCATION:Magna\, 1940 Old Grove Rd\, Piedmont\, SC\, United States
CATEGORIES:Food Truck Schedules,Piedmont
ATTACH;FMTTYPE=image/jpeg:https://864foodtrucks.com/wp-content/uploads/2023/06/Simpell-Sammies-Trailer.jpg
ORGANIZER;CN="Simpell Sammies":MAILTO:info@simpelltreats.com
GEO:34.7288985;-82.3986857
X-APPLE-STRUCTURED-LOCATION;VALUE=URI;X-ADDRESS=Magna 1940 Old Grove Rd Piedmont SC United States;X-APPLE-RADIUS=500;X-TITLE=1940 Old Grove Rd:geo:-82.3986857,34.7288985
END:VEVENT
END:VCALENDAR