BEGIN:VCALENDAR
VERSION:2.0
PRODID:-//864 Food Trucks - ECPv6.15.20//NONSGML v1.0//EN
CALSCALE:GREGORIAN
METHOD:PUBLISH
X-WR-CALNAME:864 Food Trucks
X-ORIGINAL-URL:https://864foodtrucks.com
X-WR-CALDESC:Events for 864 Food Trucks
REFRESH-INTERVAL;VALUE=DURATION:PT1H
X-Robots-Tag:noindex
X-PUBLISHED-TTL:PT1H
BEGIN:VTIMEZONE
TZID:America/New_York
BEGIN:DAYLIGHT
TZOFFSETFROM:-0500
TZOFFSETTO:-0400
TZNAME:EDT
DTSTART:20220313T070000
END:DAYLIGHT
BEGIN:STANDARD
TZOFFSETFROM:-0400
TZOFFSETTO:-0500
TZNAME:EST
DTSTART:20221106T060000
END:STANDARD
BEGIN:DAYLIGHT
TZOFFSETFROM:-0500
TZOFFSETTO:-0400
TZNAME:EDT
DTSTART:20230312T070000
END:DAYLIGHT
BEGIN:STANDARD
TZOFFSETFROM:-0400
TZOFFSETTO:-0500
TZNAME:EST
DTSTART:20231105T060000
END:STANDARD
BEGIN:DAYLIGHT
TZOFFSETFROM:-0500
TZOFFSETTO:-0400
TZNAME:EDT
DTSTART:20240310T070000
END:DAYLIGHT
BEGIN:STANDARD
TZOFFSETFROM:-0400
TZOFFSETTO:-0500
TZNAME:EST
DTSTART:20241103T060000
END:STANDARD
END:VTIMEZONE
BEGIN:VEVENT
DTSTART;TZID=America/New_York:20230722T110000
DTEND;TZID=America/New_York:20230722T140000
DTSTAMP:20260425T113409
CREATED:20230718T003506Z
LAST-MODIFIED:20230718T003506Z
UID:20925-1690023600-1690034400@864foodtrucks.com
SUMMARY:Churro Masters @ Town of Duncan Pop Up
DESCRIPTION:Delicious CHURROS made fresh!
URL:https://864foodtrucks.com/event/churro-masters-town-of-duncan-pop-up/
LOCATION:Main St Duncan\, 2129 E Main St\, Duncan\, SC\, United States
CATEGORIES:Duncan,Food Truck Schedules
ATTACH;FMTTYPE=image/jpeg:https://864foodtrucks.com/wp-content/uploads/2023/05/Churro-Masters-1.jpg
ORGANIZER;CN="Churro Masters":MAILTO:Churromastersemail@gmail.com
END:VEVENT
BEGIN:VEVENT
DTSTART;TZID=America/New_York:20230110T163000
DTEND;TZID=America/New_York:20230110T163000
DTSTAMP:20260425T113409
CREATED:20230109T223845Z
LAST-MODIFIED:20230109T223845Z
UID:16067-1673368200-1673368200@864foodtrucks.com
SUMMARY:Boss Seafood @ E Main St Duncan
DESCRIPTION:
URL:https://864foodtrucks.com/event/boss-seafood-e-main-st-duncan/
LOCATION:Main St Duncan\, 2129 E Main St\, Duncan\, SC\, United States
CATEGORIES:Duncan,Food Truck Schedules
ATTACH;FMTTYPE=image/jpeg:https://864foodtrucks.com/wp-content/uploads/2023/01/Boss-Seafood.jpg
ORGANIZER;CN="Boss Seafood":MAILTO:seafoodgoals@gmail.com
END:VEVENT
END:VCALENDAR