BEGIN:VCALENDAR
VERSION:2.0
PRODID:-//864 Food Trucks - ECPv6.15.20//NONSGML v1.0//EN
CALSCALE:GREGORIAN
METHOD:PUBLISH
X-ORIGINAL-URL:https://864foodtrucks.com
X-WR-CALDESC:Events for 864 Food Trucks
REFRESH-INTERVAL;VALUE=DURATION:PT1H
X-Robots-Tag:noindex
X-PUBLISHED-TTL:PT1H
BEGIN:VTIMEZONE
TZID:America/New_York
BEGIN:DAYLIGHT
TZOFFSETFROM:-0500
TZOFFSETTO:-0400
TZNAME:EDT
DTSTART:20210314T070000
END:DAYLIGHT
BEGIN:STANDARD
TZOFFSETFROM:-0400
TZOFFSETTO:-0500
TZNAME:EST
DTSTART:20211107T060000
END:STANDARD
BEGIN:DAYLIGHT
TZOFFSETFROM:-0500
TZOFFSETTO:-0400
TZNAME:EDT
DTSTART:20220313T070000
END:DAYLIGHT
BEGIN:STANDARD
TZOFFSETFROM:-0400
TZOFFSETTO:-0500
TZNAME:EST
DTSTART:20221106T060000
END:STANDARD
BEGIN:DAYLIGHT
TZOFFSETFROM:-0500
TZOFFSETTO:-0400
TZNAME:EDT
DTSTART:20230312T070000
END:DAYLIGHT
BEGIN:STANDARD
TZOFFSETFROM:-0400
TZOFFSETTO:-0500
TZNAME:EST
DTSTART:20231105T060000
END:STANDARD
BEGIN:DAYLIGHT
TZOFFSETFROM:-0500
TZOFFSETTO:-0400
TZNAME:EDT
DTSTART:20240310T070000
END:DAYLIGHT
BEGIN:STANDARD
TZOFFSETFROM:-0400
TZOFFSETTO:-0500
TZNAME:EST
DTSTART:20241103T060000
END:STANDARD
BEGIN:DAYLIGHT
TZOFFSETFROM:-0500
TZOFFSETTO:-0400
TZNAME:EDT
DTSTART:20250309T070000
END:DAYLIGHT
BEGIN:STANDARD
TZOFFSETFROM:-0400
TZOFFSETTO:-0500
TZNAME:EST
DTSTART:20251102T060000
END:STANDARD
BEGIN:DAYLIGHT
TZOFFSETFROM:-0500
TZOFFSETTO:-0400
TZNAME:EDT
DTSTART:20260308T070000
END:DAYLIGHT
BEGIN:STANDARD
TZOFFSETFROM:-0400
TZOFFSETTO:-0500
TZNAME:EST
DTSTART:20261101T060000
END:STANDARD
END:VTIMEZONE
BEGIN:VEVENT
DTSTART;TZID=America/New_York:20250405T110000
DTEND;TZID=America/New_York:20250405T160000
DTSTAMP:20260425T163751
CREATED:20250331T181857Z
LAST-MODIFIED:20250331T181857Z
UID:43421-1743850800-1743868800@864foodtrucks.com
SUMMARY:Fuel Foods @ Freedom Festival
DESCRIPTION:Fuel Foods – Food Truck & Catering\nClean\, Unique & Delicious!\nLocated in Clemson & Upstate\, SC 📍\nBook Us for Events! Contact for More Info!
URL:https://864foodtrucks.com/event/fuel-foods-freedom-festival/
LOCATION:Main St Honea Path\, Main St\, Honea Path\, South Carolina
CATEGORIES:Food Truck Schedules,Honea Path
ATTACH;FMTTYPE=image/png:https://864foodtrucks.com/wp-content/uploads/2025/03/Fuel-Foods-.png
ORGANIZER;CN="Fuel Foods Food Truck":MAILTO:fuelfoods.truck@gmail.com
GEO:34.451606;-82.4005282
X-APPLE-STRUCTURED-LOCATION;VALUE=URI;X-ADDRESS=Main St Honea Path Main St Honea Path South Carolina;X-APPLE-RADIUS=500;X-TITLE=Main St:geo:-82.4005282,34.451606
END:VEVENT
BEGIN:VEVENT
DTSTART;TZID=America/New_York:20231119T140000
DTEND;TZID=America/New_York:20231119T180000
DTSTAMP:20260425T163751
CREATED:20231113T003224Z
LAST-MODIFIED:20231113T003224Z
UID:24047-1700402400-1700416800@864foodtrucks.com
SUMMARY:Simpell Sammies @ Town of Honea Path Christmas Tree Lighting
DESCRIPTION:Simpell Sammies is open for business and ready to serve you flavorful and delicious sandwiches and hoagies.
URL:https://864foodtrucks.com/event/simpell-sammies-town-of-honea-path-christmas-tree-lighting/
LOCATION:Main St Honea Path\, Main St\, Honea Path\, South Carolina
CATEGORIES:Food Truck Schedules,Honea Path
ATTACH;FMTTYPE=image/jpeg:https://864foodtrucks.com/wp-content/uploads/2023/06/Simpell-Sammies-Trailer.jpg
ORGANIZER;CN="Simpell Sammies":MAILTO:info@simpelltreats.com
GEO:34.451606;-82.4005282
X-APPLE-STRUCTURED-LOCATION;VALUE=URI;X-ADDRESS=Main St Honea Path Main St Honea Path South Carolina;X-APPLE-RADIUS=500;X-TITLE=Main St:geo:-82.4005282,34.451606
END:VEVENT
BEGIN:VEVENT
DTSTART;TZID=America/New_York:20230901T190000
DTEND;TZID=America/New_York:20230901T220000
DTSTAMP:20260425T163751
CREATED:20230827T202533Z
LAST-MODIFIED:20230827T202533Z
UID:22374-1693594800-1693605600@864foodtrucks.com
SUMMARY:Simpell Sammies @ Town of Honea Path Fireworks Show
DESCRIPTION:Simpell Sammies is open for business and ready to serve you flavorful and delicious sandwiches and hoagies.
URL:https://864foodtrucks.com/event/simpell-sammies-town-of-honea-path-fireworks-show/
LOCATION:Main St Honea Path\, Main St\, Honea Path\, South Carolina
CATEGORIES:Food Truck Schedules,Honea Path
ATTACH;FMTTYPE=image/jpeg:https://864foodtrucks.com/wp-content/uploads/2023/06/Simpell-Sammies-Trailer.jpg
ORGANIZER;CN="Simpell Sammies":MAILTO:info@simpelltreats.com
GEO:34.451606;-82.4005282
X-APPLE-STRUCTURED-LOCATION;VALUE=URI;X-ADDRESS=Main St Honea Path Main St Honea Path South Carolina;X-APPLE-RADIUS=500;X-TITLE=Main St:geo:-82.4005282,34.451606
END:VEVENT
BEGIN:VEVENT
DTSTART;TZID=America/New_York:20221120T140000
DTEND;TZID=America/New_York:20221120T180000
DTSTAMP:20260425T163751
CREATED:20221114T172757Z
LAST-MODIFIED:20221211T225627Z
UID:14613-1668952800-1668967200@864foodtrucks.com
SUMMARY:Lobster Dogs @ Honea Path Tree Lighting
DESCRIPTION:Great food on the go. Fill your cup and go. We are the best Mediterranean food trailer in Greenville \, Sc
URL:https://864foodtrucks.com/event/lobster-dogs-honea-path-tree-lighting/2022-11-20/
LOCATION:Main St Honea Path\, Main St\, Honea Path\, South Carolina
CATEGORIES:Food Truck Schedules,Honea Path
ATTACH;FMTTYPE=image/jpeg:https://864foodtrucks.com/wp-content/uploads/2021/05/lobster-dogs-Food-Truck.jpg
ORGANIZER;CN="Lobster Dogs":MAILTO:lobsterdogs3@gmail.com
GEO:34.451606;-82.4005282
X-APPLE-STRUCTURED-LOCATION;VALUE=URI;X-ADDRESS=Main St Honea Path Main St Honea Path South Carolina;X-APPLE-RADIUS=500;X-TITLE=Main St:geo:-82.4005282,34.451606
END:VEVENT
END:VCALENDAR