BEGIN:VCALENDAR
VERSION:2.0
PRODID:-//864 Food Trucks - ECPv6.15.20//NONSGML v1.0//EN
CALSCALE:GREGORIAN
METHOD:PUBLISH
X-WR-CALNAME:864 Food Trucks
X-ORIGINAL-URL:https://864foodtrucks.com
X-WR-CALDESC:Events for 864 Food Trucks
REFRESH-INTERVAL;VALUE=DURATION:PT1H
X-Robots-Tag:noindex
X-PUBLISHED-TTL:PT1H
BEGIN:VTIMEZONE
TZID:America/New_York
BEGIN:DAYLIGHT
TZOFFSETFROM:-0500
TZOFFSETTO:-0400
TZNAME:EDT
DTSTART:20220313T070000
END:DAYLIGHT
BEGIN:STANDARD
TZOFFSETFROM:-0400
TZOFFSETTO:-0500
TZNAME:EST
DTSTART:20221106T060000
END:STANDARD
BEGIN:DAYLIGHT
TZOFFSETFROM:-0500
TZOFFSETTO:-0400
TZNAME:EDT
DTSTART:20230312T070000
END:DAYLIGHT
BEGIN:STANDARD
TZOFFSETFROM:-0400
TZOFFSETTO:-0500
TZNAME:EST
DTSTART:20231105T060000
END:STANDARD
BEGIN:DAYLIGHT
TZOFFSETFROM:-0500
TZOFFSETTO:-0400
TZNAME:EDT
DTSTART:20240310T070000
END:DAYLIGHT
BEGIN:STANDARD
TZOFFSETFROM:-0400
TZOFFSETTO:-0500
TZNAME:EST
DTSTART:20241103T060000
END:STANDARD
END:VTIMEZONE
BEGIN:VEVENT
DTSTART;TZID=America/New_York:20231110T173000
DTEND;TZID=America/New_York:20231110T193000
DTSTAMP:20260425T121126
CREATED:20231106T200437Z
LAST-MODIFIED:20240916T163944Z
UID:23943-1699637400-1699644600@864foodtrucks.com
SUMMARY:Churro Masters @ The Manor at Twin Creek
DESCRIPTION:Delicious CHURROS made fresh!
URL:https://864foodtrucks.com/event/churro-masters-the-manor-at-twin-creek/2023-11-10/
LOCATION:Manor at Twin Creeks\, Mercer Drive 114\, Simpsonville\, South Carolina\, 29681\, United States
CATEGORIES:Food Truck Schedules,Simpsonville
ATTACH;FMTTYPE=image/jpeg:https://864foodtrucks.com/wp-content/uploads/2023/05/Churro-Masters-1.jpg
ORGANIZER;CN="Churro Masters":MAILTO:Churromastersemail@gmail.com
GEO:34.7860968;-82.1894403
X-APPLE-STRUCTURED-LOCATION;VALUE=URI;X-ADDRESS=Manor at Twin Creeks Mercer Drive 114 Simpsonville South Carolina 29681 United States;X-APPLE-RADIUS=500;X-TITLE=Mercer Drive 114:geo:-82.1894403,34.7860968
END:VEVENT
BEGIN:VEVENT
DTSTART;TZID=America/New_York:20230923T170000
DTEND;TZID=America/New_York:20230923T200000
DTSTAMP:20260425T121126
CREATED:20230920T173459Z
LAST-MODIFIED:20230920T173459Z
UID:22981-1695488400-1695499200@864foodtrucks.com
SUMMARY:Big Fuss Fresh Foods @ Manor at Twin Creeks
DESCRIPTION:We are a mobile food truck that specializes in fresh food with amazing flavor.
URL:https://864foodtrucks.com/event/big-fuss-fresh-foods-manor-at-twin-creeks/
LOCATION:Manor at Twin Creeks\, Mercer Drive 114\, Simpsonville\, South Carolina\, 29681\, United States
CATEGORIES:Food Truck Schedules,Simpsonville
ATTACH;FMTTYPE=image/jpeg:https://864foodtrucks.com/wp-content/uploads/2023/07/Big-Fuss-Fresh-Food.jpg
GEO:34.7860968;-82.1894403
X-APPLE-STRUCTURED-LOCATION;VALUE=URI;X-ADDRESS=Manor at Twin Creeks Mercer Drive 114 Simpsonville South Carolina 29681 United States;X-APPLE-RADIUS=500;X-TITLE=Mercer Drive 114:geo:-82.1894403,34.7860968
END:VEVENT
BEGIN:VEVENT
DTSTART;TZID=America/New_York:20230923T170000
DTEND;TZID=America/New_York:20230923T180000
DTSTAMP:20260425T121126
CREATED:20230918T165625Z
LAST-MODIFIED:20230918T165625Z
UID:22901-1695488400-1695492000@864foodtrucks.com
SUMMARY:Xtreme Cheesecakez @ Manor at Twin Creeks
DESCRIPTION:
URL:https://864foodtrucks.com/event/xtreme-cheesecakez-manor-at-twin-creeks/
LOCATION:Manor at Twin Creeks\, Mercer Drive 114\, Simpsonville\, South Carolina\, 29681\, United States
CATEGORIES:Food Truck Schedules,Simpsonville
ATTACH;FMTTYPE=image/jpeg:https://864foodtrucks.com/wp-content/uploads/2023/07/Xtreme-Cheesecakz.jpg
ORGANIZER;CN="Xtreme Cheesecakez":MAILTO:xtremecheesecakez@gmail.com
GEO:34.7860968;-82.1894403
X-APPLE-STRUCTURED-LOCATION;VALUE=URI;X-ADDRESS=Manor at Twin Creeks Mercer Drive 114 Simpsonville South Carolina 29681 United States;X-APPLE-RADIUS=500;X-TITLE=Mercer Drive 114:geo:-82.1894403,34.7860968
END:VEVENT
END:VCALENDAR