BEGIN:VCALENDAR
VERSION:2.0
PRODID:-//864 Food Trucks - ECPv6.15.20//NONSGML v1.0//EN
CALSCALE:GREGORIAN
METHOD:PUBLISH
X-ORIGINAL-URL:https://864foodtrucks.com
X-WR-CALDESC:Events for 864 Food Trucks
REFRESH-INTERVAL;VALUE=DURATION:PT1H
X-Robots-Tag:noindex
X-PUBLISHED-TTL:PT1H
BEGIN:VTIMEZONE
TZID:America/New_York
BEGIN:DAYLIGHT
TZOFFSETFROM:-0500
TZOFFSETTO:-0400
TZNAME:EDT
DTSTART:20230312T070000
END:DAYLIGHT
BEGIN:STANDARD
TZOFFSETFROM:-0400
TZOFFSETTO:-0500
TZNAME:EST
DTSTART:20231105T060000
END:STANDARD
BEGIN:DAYLIGHT
TZOFFSETFROM:-0500
TZOFFSETTO:-0400
TZNAME:EDT
DTSTART:20240310T070000
END:DAYLIGHT
BEGIN:STANDARD
TZOFFSETFROM:-0400
TZOFFSETTO:-0500
TZNAME:EST
DTSTART:20241103T060000
END:STANDARD
BEGIN:DAYLIGHT
TZOFFSETFROM:-0500
TZOFFSETTO:-0400
TZNAME:EDT
DTSTART:20250309T070000
END:DAYLIGHT
BEGIN:STANDARD
TZOFFSETFROM:-0400
TZOFFSETTO:-0500
TZNAME:EST
DTSTART:20251102T060000
END:STANDARD
BEGIN:DAYLIGHT
TZOFFSETFROM:-0500
TZOFFSETTO:-0400
TZNAME:EDT
DTSTART:20260308T070000
END:DAYLIGHT
BEGIN:STANDARD
TZOFFSETFROM:-0400
TZOFFSETTO:-0500
TZNAME:EST
DTSTART:20261101T060000
END:STANDARD
BEGIN:DAYLIGHT
TZOFFSETFROM:-0500
TZOFFSETTO:-0400
TZNAME:EDT
DTSTART:20270314T070000
END:DAYLIGHT
BEGIN:STANDARD
TZOFFSETFROM:-0400
TZOFFSETTO:-0500
TZNAME:EST
DTSTART:20271107T060000
END:STANDARD
END:VTIMEZONE
BEGIN:VEVENT
DTSTART;TZID=America/New_York:20260124T090000
DTEND;TZID=America/New_York:20260124T090000
DTSTAMP:20260424T022100
CREATED:20260118T210117Z
LAST-MODIFIED:20260118T210117Z
UID:58960-1769245200-1769245200@864foodtrucks.com
SUMMARY:The Salted Fry @ Frosty Farmer
DESCRIPTION:100% Gluten Free Food Trailer! Crispy Belgian style pommes frites loaded with your choice of savory toppings. Choose from multiple house made sauces and unique ketchup flavors!
URL:https://864foodtrucks.com/event/the-salted-fry-frosty-farmer/
LOCATION:McAlister Square\, South Pleasantburg Drive\, Greenville\, South Carolina\, 29607\, United States
CATEGORIES:Food Truck Schedules,Greenville
ATTACH;FMTTYPE=image/jpeg:https://864foodtrucks.com/wp-content/uploads/2025/05/The-Salted-Fry-1.jpg
ORGANIZER;CN="The Salted Fry":MAILTO:thesaltedfry@gmail.com
GEO:34.8382595;-82.3632184
X-APPLE-STRUCTURED-LOCATION;VALUE=URI;X-ADDRESS=McAlister Square South Pleasantburg Drive Greenville South Carolina 29607 United States;X-APPLE-RADIUS=500;X-TITLE=South Pleasantburg Drive:geo:-82.3632184,34.8382595
END:VEVENT
BEGIN:VEVENT
DTSTART;TZID=America/New_York:20260103T110000
DTEND;TZID=America/New_York:20260103T130000
DTSTAMP:20260424T022100
CREATED:20251229T161531Z
LAST-MODIFIED:20251229T161531Z
UID:58270-1767438000-1767445200@864foodtrucks.com
SUMMARY:Island Sun @ Frosty Farmer
DESCRIPTION:Mobile Kitchen serving Caribbean Cuisine to the upstate\, SC\nCaterings\, pop ups\, and private dinners\nDm for more info
URL:https://864foodtrucks.com/event/island-sun-frosty-farmer-3/
LOCATION:McAlister Square\, South Pleasantburg Drive\, Greenville\, South Carolina\, 29607\, United States
CATEGORIES:Food Truck Schedules,Gray Court
ATTACH;FMTTYPE=image/jpeg:https://864foodtrucks.com/wp-content/uploads/2023/07/IslandSun864.jpg
GEO:34.8382595;-82.3632184
X-APPLE-STRUCTURED-LOCATION;VALUE=URI;X-ADDRESS=McAlister Square South Pleasantburg Drive Greenville South Carolina 29607 United States;X-APPLE-RADIUS=500;X-TITLE=South Pleasantburg Drive:geo:-82.3632184,34.8382595
END:VEVENT
BEGIN:VEVENT
DTSTART;TZID=America/New_York:20250426T110000
DTEND;TZID=America/New_York:20250426T133000
DTSTAMP:20260424T022100
CREATED:20250421T180559Z
LAST-MODIFIED:20250421T180559Z
UID:43969-1745665200-1745674200@864foodtrucks.com
SUMMARY:Island Sun @ Frosty Farmer
DESCRIPTION:Mobile Kitchen serving Caribbean Cuisine to the upstate\, SC\nCaterings\, pop ups\, and private dinners\nDm for more info
URL:https://864foodtrucks.com/event/island-sun-frosty-farmer-2/
LOCATION:McAlister Square\, South Pleasantburg Drive\, Greenville\, South Carolina\, 29607\, United States
CATEGORIES:Food Truck Schedules,Greenville
ATTACH;FMTTYPE=image/jpeg:https://864foodtrucks.com/wp-content/uploads/2023/07/IslandSun864.jpg
GEO:34.8382595;-82.3632184
X-APPLE-STRUCTURED-LOCATION;VALUE=URI;X-ADDRESS=McAlister Square South Pleasantburg Drive Greenville South Carolina 29607 United States;X-APPLE-RADIUS=500;X-TITLE=South Pleasantburg Drive:geo:-82.3632184,34.8382595
END:VEVENT
BEGIN:VEVENT
DTSTART;TZID=America/New_York:20250208T100000
DTEND;TZID=America/New_York:20250208T130000
DTSTAMP:20260424T022100
CREATED:20250203T142054Z
LAST-MODIFIED:20250331T130144Z
UID:42149-1739008800-1739019600@864foodtrucks.com
SUMMARY:Island Sun @ Frosty Farmer
DESCRIPTION:Mobile Kitchen serving Caribbean Cuisine to the upstate\, SC\nCaterings\, pop ups\, and private dinners\nDm for more info
URL:https://864foodtrucks.com/event/island-sun-frosty-farmer/2025-02-08/
LOCATION:McAlister Square\, South Pleasantburg Drive\, Greenville\, South Carolina\, 29607\, United States
CATEGORIES:Food Truck Schedules,Greenville
ATTACH;FMTTYPE=image/jpeg:https://864foodtrucks.com/wp-content/uploads/2023/07/IslandSun864.jpg
GEO:34.8382595;-82.3632184
X-APPLE-STRUCTURED-LOCATION;VALUE=URI;X-ADDRESS=McAlister Square South Pleasantburg Drive Greenville South Carolina 29607 United States;X-APPLE-RADIUS=500;X-TITLE=South Pleasantburg Drive:geo:-82.3632184,34.8382595
END:VEVENT
BEGIN:VEVENT
DTSTART;TZID=America/New_York:20250201T090000
DTEND;TZID=America/New_York:20250201T130000
DTSTAMP:20260424T022100
CREATED:20250127T195948Z
LAST-MODIFIED:20250127T195948Z
UID:42017-1738400400-1738414800@864foodtrucks.com
SUMMARY:We Got the Beets @ Frosty Farmer
DESCRIPTION:YUMMY EATS WITHOUT THE MEATS!\nPowered by love…and plants 🌱🌈\n📍 Greenville\, SC
URL:https://864foodtrucks.com/event/we-got-the-beets-frosty-farmer/
LOCATION:McAlister Square\, South Pleasantburg Drive\, Greenville\, South Carolina\, 29607\, United States
CATEGORIES:Food Truck Schedules,Greenville
ATTACH;FMTTYPE=image/jpeg:https://864foodtrucks.com/wp-content/uploads/2023/10/We-Got-the-Beets.jpg
GEO:34.8382595;-82.3632184
X-APPLE-STRUCTURED-LOCATION;VALUE=URI;X-ADDRESS=McAlister Square South Pleasantburg Drive Greenville South Carolina 29607 United States;X-APPLE-RADIUS=500;X-TITLE=South Pleasantburg Drive:geo:-82.3632184,34.8382595
END:VEVENT
BEGIN:VEVENT
DTSTART;TZID=America/New_York:20250111T090000
DTEND;TZID=America/New_York:20250111T130000
DTSTAMP:20260424T022100
CREATED:20250106T213151Z
LAST-MODIFIED:20250106T213151Z
UID:41630-1736586000-1736600400@864foodtrucks.com
SUMMARY:We Got the Beets @ McAlister Square
DESCRIPTION:YUMMY EATS WITHOUT THE MEATS!\nPowered by love…and plants 🌱🌈\n📍 Greenville\, SC
URL:https://864foodtrucks.com/event/we-got-the-beets-mcalister-square/
LOCATION:McAlister Square\, South Pleasantburg Drive\, Greenville\, South Carolina\, 29607\, United States
CATEGORIES:Food Truck Schedules,Greenville
ATTACH;FMTTYPE=image/jpeg:https://864foodtrucks.com/wp-content/uploads/2023/10/We-Got-the-Beets.jpg
GEO:34.8382595;-82.3632184
X-APPLE-STRUCTURED-LOCATION;VALUE=URI;X-ADDRESS=McAlister Square South Pleasantburg Drive Greenville South Carolina 29607 United States;X-APPLE-RADIUS=500;X-TITLE=South Pleasantburg Drive:geo:-82.3632184,34.8382595
END:VEVENT
BEGIN:VEVENT
DTSTART;TZID=America/New_York:20240914T100000
DTEND;TZID=America/New_York:20240914T130000
DTSTAMP:20260424T022100
CREATED:20240909T190633Z
LAST-MODIFIED:20240909T190633Z
UID:33862-1726308000-1726318800@864foodtrucks.com
SUMMARY:Spinx Cluk Truk @ Get Ready Greenville - Communit Disaster Preparedness
DESCRIPTION:Your favorite southern fried chicken is hitting the road—and it’s going to be legendary. Our community comes first\, and we want to share that tender love by bringing our homegrown menu to you. The Cluk Truk is coming Fall 2020 to the Upstate!
URL:https://864foodtrucks.com/event/spinx-cluk-truk-get-ready-greenville-communit-disaster-preparedness/
LOCATION:McAlister Square\, South Pleasantburg Drive\, Greenville\, South Carolina\, 29607\, United States
CATEGORIES:Food Truck Schedules,Greenville
ATTACH;FMTTYPE=image/jpeg:https://864foodtrucks.com/wp-content/uploads/2021/05/Spinx-Cluk-Truk-Truck.jpg
ORGANIZER;CN="Spinx Cluk Truk":MAILTO:cluktruk@spinxco.com
GEO:34.8382595;-82.3632184
X-APPLE-STRUCTURED-LOCATION;VALUE=URI;X-ADDRESS=McAlister Square South Pleasantburg Drive Greenville South Carolina 29607 United States;X-APPLE-RADIUS=500;X-TITLE=South Pleasantburg Drive:geo:-82.3632184,34.8382595
END:VEVENT
END:VCALENDAR