BEGIN:VCALENDAR
VERSION:2.0
PRODID:-//864 Food Trucks - ECPv6.15.20//NONSGML v1.0//EN
CALSCALE:GREGORIAN
METHOD:PUBLISH
X-WR-CALNAME:864 Food Trucks
X-ORIGINAL-URL:https://864foodtrucks.com
X-WR-CALDESC:Events for 864 Food Trucks
REFRESH-INTERVAL;VALUE=DURATION:PT1H
X-Robots-Tag:noindex
X-PUBLISHED-TTL:PT1H
BEGIN:VTIMEZONE
TZID:America/New_York
BEGIN:DAYLIGHT
TZOFFSETFROM:-0500
TZOFFSETTO:-0400
TZNAME:EDT
DTSTART:20220313T070000
END:DAYLIGHT
BEGIN:STANDARD
TZOFFSETFROM:-0400
TZOFFSETTO:-0500
TZNAME:EST
DTSTART:20221106T060000
END:STANDARD
BEGIN:DAYLIGHT
TZOFFSETFROM:-0500
TZOFFSETTO:-0400
TZNAME:EDT
DTSTART:20230312T070000
END:DAYLIGHT
BEGIN:STANDARD
TZOFFSETFROM:-0400
TZOFFSETTO:-0500
TZNAME:EST
DTSTART:20231105T060000
END:STANDARD
BEGIN:DAYLIGHT
TZOFFSETFROM:-0500
TZOFFSETTO:-0400
TZNAME:EDT
DTSTART:20240310T070000
END:DAYLIGHT
BEGIN:STANDARD
TZOFFSETFROM:-0400
TZOFFSETTO:-0500
TZNAME:EST
DTSTART:20241103T060000
END:STANDARD
END:VTIMEZONE
BEGIN:VEVENT
DTSTART;TZID=America/New_York:20231117T110000
DTEND;TZID=America/New_York:20231117T130000
DTSTAMP:20260425T115705
CREATED:20231113T003005Z
LAST-MODIFIED:20231113T003005Z
UID:24045-1700218800-1700226000@864foodtrucks.com
SUMMARY:Simpell Sammies @ Honea Path Food Truck Friday
DESCRIPTION:Simpell Sammies is open for business and ready to serve you flavorful and delicious sandwiches and hoagies.
URL:https://864foodtrucks.com/event/simpell-sammies-honea-path-food-truck-friday/
LOCATION:McCall’s Produce\, 306 E Greer St\, Honea Path\, South Carolina
CATEGORIES:Food Truck Schedules,Honea Path
ATTACH;FMTTYPE=image/jpeg:https://864foodtrucks.com/wp-content/uploads/2023/06/Simpell-Sammies-Trailer.jpg
ORGANIZER;CN="Simpell Sammies":MAILTO:info@simpelltreats.com
GEO:34.445578;-82.3894105
X-APPLE-STRUCTURED-LOCATION;VALUE=URI;X-ADDRESS=McCall’s Produce 306 E Greer St Honea Path South Carolina;X-APPLE-RADIUS=500;X-TITLE=306 E Greer St:geo:-82.3894105,34.445578
END:VEVENT
BEGIN:VEVENT
DTSTART;TZID=America/New_York:20231117T070000
DTEND;TZID=America/New_York:20231117T100000
DTSTAMP:20260425T115705
CREATED:20231113T144722Z
LAST-MODIFIED:20231113T144722Z
UID:24105-1700204400-1700215200@864foodtrucks.com
SUMMARY:Little Leaf Coffee @ Mccalls Produce
DESCRIPTION:Mobile coffee truck in Greenville SC.
URL:https://864foodtrucks.com/event/little-leaf-coffee-mccalls-produce/
LOCATION:McCall’s Produce\, 306 E Greer St\, Honea Path\, South Carolina
CATEGORIES:Food Truck Schedules,Honea Path
ATTACH;FMTTYPE=image/jpeg:https://864foodtrucks.com/wp-content/uploads/2023/06/Little-Leaf-Coffee.jpg
ORGANIZER;CN="Little Leaf Coffee":MAILTO:Littleleafcoffee@gmail.com
GEO:34.445578;-82.3894105
X-APPLE-STRUCTURED-LOCATION;VALUE=URI;X-ADDRESS=McCall’s Produce 306 E Greer St Honea Path South Carolina;X-APPLE-RADIUS=500;X-TITLE=306 E Greer St:geo:-82.3894105,34.445578
END:VEVENT
BEGIN:VEVENT
DTSTART;TZID=America/New_York:20230721T160000
DTEND;TZID=America/New_York:20230721T190000
DTSTAMP:20260425T115705
CREATED:20230720T144329Z
LAST-MODIFIED:20230720T144329Z
UID:21000-1689955200-1689966000@864foodtrucks.com
SUMMARY:The Rock'n Rooster @ McCall's Produce
DESCRIPTION:Locally owned food truck serving an eclectic array of street food that will rock your senses!
URL:https://864foodtrucks.com/event/the-rockn-rooster-mccalls-produce/
LOCATION:McCall’s Produce\, 306 E Greer St\, Honea Path\, South Carolina
CATEGORIES:Food Truck Schedules,Honea Path
ATTACH;FMTTYPE=image/jpeg:https://864foodtrucks.com/wp-content/uploads/2022/07/Rockn-rooster.jpg
ORGANIZER;CN="The Rock'n Rooster Street Eats":MAILTO:therocknroosterstreeteats@gmail.com
GEO:34.445578;-82.3894105
X-APPLE-STRUCTURED-LOCATION;VALUE=URI;X-ADDRESS=McCall’s Produce 306 E Greer St Honea Path South Carolina;X-APPLE-RADIUS=500;X-TITLE=306 E Greer St:geo:-82.3894105,34.445578
END:VEVENT
BEGIN:VEVENT
DTSTART;TZID=America/New_York:20230721T110000
DTEND;TZID=America/New_York:20230721T140000
DTSTAMP:20260425T115705
CREATED:20230720T144125Z
LAST-MODIFIED:20240318T173619Z
UID:20998-1689937200-1689948000@864foodtrucks.com
SUMMARY:La Katrina Mia @ McCall's Produce
DESCRIPTION:Latin Cuisine\, book us for your next event we Cater or bring our Food Truck out the choice is yours.
URL:https://864foodtrucks.com/event/la-katrina-mia-mccalls-produce-2/2023-07-21/
LOCATION:McCall’s Produce\, 306 E Greer St\, Honea Path\, South Carolina
CATEGORIES:Food Truck Schedules,Honea Path
ATTACH;FMTTYPE=image/jpeg:https://864foodtrucks.com/wp-content/uploads/2022/06/La-Katrina-Mia-Truck.jpg
ORGANIZER;CN="La Katrina Mia":MAILTO:lakatrinamia@gmail.com
GEO:34.445578;-82.3894105
X-APPLE-STRUCTURED-LOCATION;VALUE=URI;X-ADDRESS=McCall’s Produce 306 E Greer St Honea Path South Carolina;X-APPLE-RADIUS=500;X-TITLE=306 E Greer St:geo:-82.3894105,34.445578
END:VEVENT
BEGIN:VEVENT
DTSTART;TZID=America/New_York:20230707T110000
DTEND;TZID=America/New_York:20230707T140000
DTSTAMP:20260425T115705
CREATED:20230706T160041Z
LAST-MODIFIED:20240814T134312Z
UID:20593-1688727600-1688738400@864foodtrucks.com
SUMMARY:Kodesh BBQ Bowls @ McCall's Produce
DESCRIPTION:Kodesh BBQ Bowls is a mobile food trailer that provides a heap amount of Levitical clean\, flavorful\, pit smoked BBQ. We’ve also come up with a link between enjoying our delicious BBQ and providing healthier options\, our cultural inspired bowls!
URL:https://864foodtrucks.com/event/kodesh-bbq-bowls-mccalls-produce/2023-07-07/
LOCATION:McCall’s Produce\, 306 E Greer St\, Honea Path\, South Carolina
CATEGORIES:Food Truck Schedules,Honea Path
ATTACH;FMTTYPE=image/jpeg:https://864foodtrucks.com/wp-content/uploads/2022/05/Kodesh-BBQ.jpg
ORGANIZER;CN="Kodesh BBQ & Bowls":MAILTO:kodeshbbq@gmail.com
GEO:34.445578;-82.3894105
X-APPLE-STRUCTURED-LOCATION;VALUE=URI;X-ADDRESS=McCall’s Produce 306 E Greer St Honea Path South Carolina;X-APPLE-RADIUS=500;X-TITLE=306 E Greer St:geo:-82.3894105,34.445578
END:VEVENT
BEGIN:VEVENT
DTSTART;TZID=America/New_York:20230324T160000
DTEND;TZID=America/New_York:20230324T190000
DTSTAMP:20260425T115705
CREATED:20230322T185120Z
LAST-MODIFIED:20230403T190607Z
UID:17735-1679673600-1679684400@864foodtrucks.com
SUMMARY:La Katrina Mia @ McCall's Produce
DESCRIPTION:Latin Cuisine\, book us for your next event we Cater or bring our Food Truck out the choice is yours.
URL:https://864foodtrucks.com/event/la-katrina-mia-mccalls-poduce/2023-03-24/
LOCATION:McCall’s Produce\, 306 E Greer St\, Honea Path\, South Carolina
CATEGORIES:Food Truck Schedules,Honea Path
ATTACH;FMTTYPE=image/jpeg:https://864foodtrucks.com/wp-content/uploads/2022/06/La-Katrina-Mia-Truck.jpg
ORGANIZER;CN="La Katrina Mia":MAILTO:lakatrinamia@gmail.com
GEO:34.445578;-82.3894105
X-APPLE-STRUCTURED-LOCATION;VALUE=URI;X-ADDRESS=McCall’s Produce 306 E Greer St Honea Path South Carolina;X-APPLE-RADIUS=500;X-TITLE=306 E Greer St:geo:-82.3894105,34.445578
END:VEVENT
BEGIN:VEVENT
DTSTART;TZID=America/New_York:20230324T110000
DTEND;TZID=America/New_York:20230324T140000
DTSTAMP:20260425T115705
CREATED:20230324T185114Z
LAST-MODIFIED:20230324T185114Z
UID:17766-1679655600-1679666400@864foodtrucks.com
SUMMARY:Choc's Barbeque @ McCall's Produce
DESCRIPTION:
URL:https://864foodtrucks.com/event/chocs-barbeque-mccalls-produce/
LOCATION:McCall’s Produce\, 306 E Greer St\, Honea Path\, South Carolina
CATEGORIES:Food Truck Schedules,Honea Path
ATTACH;FMTTYPE=image/jpeg:https://864foodtrucks.com/wp-content/uploads/2022/07/Choc-BBQ.jpg
ORGANIZER;CN="Choc's BBQ & Southern Catering":MAILTO:Chocsbbq@gmail.com
GEO:34.445578;-82.3894105
X-APPLE-STRUCTURED-LOCATION;VALUE=URI;X-ADDRESS=McCall’s Produce 306 E Greer St Honea Path South Carolina;X-APPLE-RADIUS=500;X-TITLE=306 E Greer St:geo:-82.3894105,34.445578
END:VEVENT
BEGIN:VEVENT
DTSTART;TZID=America/New_York:20230310T110000
DTEND;TZID=America/New_York:20230310T140000
DTSTAMP:20260425T115705
CREATED:20230227T220945Z
LAST-MODIFIED:20230227T220945Z
UID:17198-1678446000-1678456800@864foodtrucks.com
SUMMARY:Cheez Press @ McCall's Produce
DESCRIPTION:Food Truck with gourmet grilled cheese sandwiches and soup.
URL:https://864foodtrucks.com/event/cheez-press-mccalls-produce/
LOCATION:McCall’s Produce\, 306 E Greer St\, Honea Path\, South Carolina
CATEGORIES:Food Truck Schedules,Honea Path
ATTACH;FMTTYPE=image/png:https://864foodtrucks.com/wp-content/uploads/2021/05/The-Cheez-press.png
ORGANIZER;CN="The Cheez Press":MAILTO:jimbonnie2000@gmail.com
GEO:34.445578;-82.3894105
X-APPLE-STRUCTURED-LOCATION;VALUE=URI;X-ADDRESS=McCall’s Produce 306 E Greer St Honea Path South Carolina;X-APPLE-RADIUS=500;X-TITLE=306 E Greer St:geo:-82.3894105,34.445578
END:VEVENT
BEGIN:VEVENT
DTSTART;TZID=America/New_York:20230303T160000
DTEND;TZID=America/New_York:20230303T190000
DTSTAMP:20260425T115705
CREATED:20230227T220552Z
LAST-MODIFIED:20240425T155052Z
UID:17196-1677859200-1677870000@864foodtrucks.com
SUMMARY:Just a Smile Caribbean @ McCall's Produce
DESCRIPTION:JUST-A-SMILE ENTERTAINMENT PROVIDING YOUR PLACE OR VENUE COMPLETE CARIBBEAN EXPERIENCE THROUGH FOOD DANCE AND UNITY. WE BRING SMILES.
URL:https://864foodtrucks.com/event/just-a-smile-caribbean-mccalls-produce/2023-03-03/
LOCATION:McCall’s Produce\, 306 E Greer St\, Honea Path\, South Carolina
CATEGORIES:Food Truck Schedules,Honea Path
ATTACH;FMTTYPE=image/jpeg:https://864foodtrucks.com/wp-content/uploads/2021/05/Just-A-Smile.jpg
GEO:34.445578;-82.3894105
X-APPLE-STRUCTURED-LOCATION;VALUE=URI;X-ADDRESS=McCall’s Produce 306 E Greer St Honea Path South Carolina;X-APPLE-RADIUS=500;X-TITLE=306 E Greer St:geo:-82.3894105,34.445578
END:VEVENT
BEGIN:VEVENT
DTSTART;TZID=America/New_York:20230303T110000
DTEND;TZID=America/New_York:20230303T140000
DTSTAMP:20260425T115705
CREATED:20230227T220139Z
LAST-MODIFIED:20230227T220139Z
UID:17194-1677841200-1677852000@864foodtrucks.com
SUMMARY:La Katrina Mia @ McCall's Produce
DESCRIPTION:Latin Cuisine\, book us for your next event we Cater or bring our Food Truck out the choice is yours.
URL:https://864foodtrucks.com/event/la-katrina-mia-mccalls-produce/
LOCATION:McCall’s Produce\, 306 E Greer St\, Honea Path\, South Carolina
CATEGORIES:Food Truck Schedules,Honea Path
ATTACH;FMTTYPE=image/jpeg:https://864foodtrucks.com/wp-content/uploads/2022/06/La-Katrina-Mia-Truck.jpg
ORGANIZER;CN="La Katrina Mia":MAILTO:lakatrinamia@gmail.com
GEO:34.445578;-82.3894105
X-APPLE-STRUCTURED-LOCATION;VALUE=URI;X-ADDRESS=McCall’s Produce 306 E Greer St Honea Path South Carolina;X-APPLE-RADIUS=500;X-TITLE=306 E Greer St:geo:-82.3894105,34.445578
END:VEVENT
END:VCALENDAR