BEGIN:VCALENDAR
VERSION:2.0
PRODID:-//864 Food Trucks - ECPv6.15.20//NONSGML v1.0//EN
CALSCALE:GREGORIAN
METHOD:PUBLISH
X-WR-CALNAME:864 Food Trucks
X-ORIGINAL-URL:https://864foodtrucks.com
X-WR-CALDESC:Events for 864 Food Trucks
REFRESH-INTERVAL;VALUE=DURATION:PT1H
X-Robots-Tag:noindex
X-PUBLISHED-TTL:PT1H
BEGIN:VTIMEZONE
TZID:America/New_York
BEGIN:DAYLIGHT
TZOFFSETFROM:-0500
TZOFFSETTO:-0400
TZNAME:EDT
DTSTART:20220313T070000
END:DAYLIGHT
BEGIN:STANDARD
TZOFFSETFROM:-0400
TZOFFSETTO:-0500
TZNAME:EST
DTSTART:20221106T060000
END:STANDARD
BEGIN:DAYLIGHT
TZOFFSETFROM:-0500
TZOFFSETTO:-0400
TZNAME:EDT
DTSTART:20230312T070000
END:DAYLIGHT
BEGIN:STANDARD
TZOFFSETFROM:-0400
TZOFFSETTO:-0500
TZNAME:EST
DTSTART:20231105T060000
END:STANDARD
BEGIN:DAYLIGHT
TZOFFSETFROM:-0500
TZOFFSETTO:-0400
TZNAME:EDT
DTSTART:20240310T070000
END:DAYLIGHT
BEGIN:STANDARD
TZOFFSETFROM:-0400
TZOFFSETTO:-0500
TZNAME:EST
DTSTART:20241103T060000
END:STANDARD
END:VTIMEZONE
BEGIN:VEVENT
DTSTART;TZID=America/New_York:20230328T110000
DTEND;TZID=America/New_York:20230328T200000
DTSTAMP:20260425T145351
CREATED:20230328T115940Z
LAST-MODIFIED:20230717T152239Z
UID:17851-1680001200-1680033600@864foodtrucks.com
SUMMARY:Birria Boy @ Monterrey of Clemsen
DESCRIPTION:
URL:https://864foodtrucks.com/event/birria-boy-monterrey-of-clemsen-2/2023-03-28/
LOCATION:Monterrey of Clemson\, 1710 W Main St\, Central\, SC\, United States
CATEGORIES:Central,Food Truck Schedules
ATTACH;FMTTYPE=image/jpeg:https://864foodtrucks.com/wp-content/uploads/2022/08/Birria-Boy.jpg
ORGANIZER;CN="Birria Boy":MAILTO:Birriaboy77@gmail.com
END:VEVENT
BEGIN:VEVENT
DTSTART;TZID=America/New_York:20230103T110000
DTEND;TZID=America/New_York:20230103T170000
DTSTAMP:20260425T145351
CREATED:20240913T171340Z
LAST-MODIFIED:20240913T171340Z
UID:36512-1672743600-1672765200@864foodtrucks.com
SUMMARY:Birria Boy @ Monterrey of Clemsen
DESCRIPTION:
URL:https://864foodtrucks.com/event/birria-boy-monterrey-of-clemsen/
LOCATION:Monterrey of Clemson\, 1710 W Main St\, Central\, SC\, United States
CATEGORIES:Food Truck Schedules
ATTACH;FMTTYPE=image/jpeg:https://864foodtrucks.com/wp-content/uploads/2022/08/Birria-Boy.jpg
ORGANIZER;CN="Birria Boy":MAILTO:Birriaboy77@gmail.com
END:VEVENT
BEGIN:VEVENT
DTSTART;TZID=America/New_York:20230102T110000
DTEND;TZID=America/New_York:20230102T170000
DTSTAMP:20260425T145351
CREATED:20230101T214300Z
LAST-MODIFIED:20230319T194316Z
UID:15873-1672657200-1672678800@864foodtrucks.com
SUMMARY:Birria Boy @ Monterrey of Clemsen
DESCRIPTION:
URL:https://864foodtrucks.com/event/birria-boy-monterrey-of-clemsen/2023-01-02/
LOCATION:Monterrey of Clemson\, 1710 W Main St\, Central\, SC\, United States
CATEGORIES:Food Truck Schedules
ATTACH;FMTTYPE=image/jpeg:https://864foodtrucks.com/wp-content/uploads/2022/08/Birria-Boy.jpg
ORGANIZER;CN="Birria Boy":MAILTO:Birriaboy77@gmail.com
END:VEVENT
END:VCALENDAR