BEGIN:VCALENDAR
VERSION:2.0
PRODID:-//864 Food Trucks - ECPv6.15.20//NONSGML v1.0//EN
CALSCALE:GREGORIAN
METHOD:PUBLISH
X-WR-CALNAME:864 Food Trucks
X-ORIGINAL-URL:https://864foodtrucks.com
X-WR-CALDESC:Events for 864 Food Trucks
REFRESH-INTERVAL;VALUE=DURATION:PT1H
X-Robots-Tag:noindex
X-PUBLISHED-TTL:PT1H
BEGIN:VTIMEZONE
TZID:America/New_York
BEGIN:DAYLIGHT
TZOFFSETFROM:-0500
TZOFFSETTO:-0400
TZNAME:EDT
DTSTART:20240310T070000
END:DAYLIGHT
BEGIN:STANDARD
TZOFFSETFROM:-0400
TZOFFSETTO:-0500
TZNAME:EST
DTSTART:20241103T060000
END:STANDARD
BEGIN:DAYLIGHT
TZOFFSETFROM:-0500
TZOFFSETTO:-0400
TZNAME:EDT
DTSTART:20250309T070000
END:DAYLIGHT
BEGIN:STANDARD
TZOFFSETFROM:-0400
TZOFFSETTO:-0500
TZNAME:EST
DTSTART:20251102T060000
END:STANDARD
BEGIN:DAYLIGHT
TZOFFSETFROM:-0500
TZOFFSETTO:-0400
TZNAME:EDT
DTSTART:20260308T070000
END:DAYLIGHT
BEGIN:STANDARD
TZOFFSETFROM:-0400
TZOFFSETTO:-0500
TZNAME:EST
DTSTART:20261101T060000
END:STANDARD
END:VTIMEZONE
BEGIN:VEVENT
DTSTART;TZID=America/New_York:20251121T103000
DTEND;TZID=America/New_York:20251121T130000
DTSTAMP:20260424T185329
CREATED:20250531T234724Z
LAST-MODIFIED:20250531T234724Z
UID:56331-1763721000-1763730000@864foodtrucks.com
SUMMARY:Simpell Sammies @ Owens Corning
DESCRIPTION:Simpell Sammies is open for business and ready to serve you flavorful and delicious sandwiches and hoagies.
URL:https://864foodtrucks.com/event/simpell-sammies-owens-corning/2025-11-21/
LOCATION:Owens Corning\, 4837 SC81\, Starr\, South Carolina
CATEGORIES:Food Truck Schedules
ATTACH;FMTTYPE=image/jpeg:https://864foodtrucks.com/wp-content/uploads/2023/06/Simpell-Sammies-Trailer.jpg
ORGANIZER;CN="Simpell Sammies":MAILTO:info@simpelltreats.com
GEO:34.3770509;-82.6956891
X-APPLE-STRUCTURED-LOCATION;VALUE=URI;X-ADDRESS=Owens Corning 4837 SC81 Starr South Carolina;X-APPLE-RADIUS=500;X-TITLE=4837 SC81:geo:-82.6956891,34.3770509
END:VEVENT
BEGIN:VEVENT
DTSTART;TZID=America/New_York:20251114T103000
DTEND;TZID=America/New_York:20251114T130000
DTSTAMP:20260424T185329
CREATED:20250531T234724Z
LAST-MODIFIED:20251116T235845Z
UID:56171-1763116200-1763125200@864foodtrucks.com
SUMMARY:Simpell Sammies @ Owens Corning
DESCRIPTION:Simpell Sammies is open for business and ready to serve you flavorful and delicious sandwiches and hoagies.
URL:https://864foodtrucks.com/event/simpell-sammies-owens-corning/2025-11-14/
LOCATION:Owens Corning\, 4837 SC81\, Starr\, South Carolina
CATEGORIES:Food Truck Schedules
ATTACH;FMTTYPE=image/jpeg:https://864foodtrucks.com/wp-content/uploads/2023/06/Simpell-Sammies-Trailer.jpg
ORGANIZER;CN="Simpell Sammies":MAILTO:info@simpelltreats.com
GEO:34.3770509;-82.6956891
X-APPLE-STRUCTURED-LOCATION;VALUE=URI;X-ADDRESS=Owens Corning 4837 SC81 Starr South Carolina;X-APPLE-RADIUS=500;X-TITLE=4837 SC81:geo:-82.6956891,34.3770509
END:VEVENT
BEGIN:VEVENT
DTSTART;TZID=America/New_York:20251107T103000
DTEND;TZID=America/New_York:20251107T130000
DTSTAMP:20260424T185329
CREATED:20250531T234724Z
LAST-MODIFIED:20251116T235845Z
UID:55854-1762511400-1762520400@864foodtrucks.com
SUMMARY:Simpell Sammies @ Owens Corning
DESCRIPTION:Simpell Sammies is open for business and ready to serve you flavorful and delicious sandwiches and hoagies.
URL:https://864foodtrucks.com/event/simpell-sammies-owens-corning/2025-11-07/
LOCATION:Owens Corning\, 4837 SC81\, Starr\, South Carolina
CATEGORIES:Food Truck Schedules
ATTACH;FMTTYPE=image/jpeg:https://864foodtrucks.com/wp-content/uploads/2023/06/Simpell-Sammies-Trailer.jpg
ORGANIZER;CN="Simpell Sammies":MAILTO:info@simpelltreats.com
GEO:34.3770509;-82.6956891
X-APPLE-STRUCTURED-LOCATION;VALUE=URI;X-ADDRESS=Owens Corning 4837 SC81 Starr South Carolina;X-APPLE-RADIUS=500;X-TITLE=4837 SC81:geo:-82.6956891,34.3770509
END:VEVENT
BEGIN:VEVENT
DTSTART;TZID=America/New_York:20251031T103000
DTEND;TZID=America/New_York:20251031T130000
DTSTAMP:20260424T185329
CREATED:20250531T234724Z
LAST-MODIFIED:20251116T235844Z
UID:55581-1761906600-1761915600@864foodtrucks.com
SUMMARY:Simpell Sammies @ Owens Corning
DESCRIPTION:Simpell Sammies is open for business and ready to serve you flavorful and delicious sandwiches and hoagies.
URL:https://864foodtrucks.com/event/simpell-sammies-owens-corning/2025-10-31/
LOCATION:Owens Corning\, 4837 SC81\, Starr\, South Carolina
CATEGORIES:Food Truck Schedules
ATTACH;FMTTYPE=image/jpeg:https://864foodtrucks.com/wp-content/uploads/2023/06/Simpell-Sammies-Trailer.jpg
ORGANIZER;CN="Simpell Sammies":MAILTO:info@simpelltreats.com
GEO:34.3770509;-82.6956891
X-APPLE-STRUCTURED-LOCATION;VALUE=URI;X-ADDRESS=Owens Corning 4837 SC81 Starr South Carolina;X-APPLE-RADIUS=500;X-TITLE=4837 SC81:geo:-82.6956891,34.3770509
END:VEVENT
BEGIN:VEVENT
DTSTART;TZID=America/New_York:20250606T103000
DTEND;TZID=America/New_York:20250606T130000
DTSTAMP:20260424T185329
CREATED:20250531T234724Z
LAST-MODIFIED:20251116T235844Z
UID:47019-1749205800-1749214800@864foodtrucks.com
SUMMARY:Simpell Sammies @ Owens Corning
DESCRIPTION:Simpell Sammies is open for business and ready to serve you flavorful and delicious sandwiches and hoagies.
URL:https://864foodtrucks.com/event/simpell-sammies-owens-corning/2025-06-06/
LOCATION:Owens Corning\, 4837 SC81\, Starr\, South Carolina
CATEGORIES:Food Truck Schedules
ATTACH;FMTTYPE=image/jpeg:https://864foodtrucks.com/wp-content/uploads/2023/06/Simpell-Sammies-Trailer.jpg
ORGANIZER;CN="Simpell Sammies":MAILTO:info@simpelltreats.com
GEO:34.3770509;-82.6956891
X-APPLE-STRUCTURED-LOCATION;VALUE=URI;X-ADDRESS=Owens Corning 4837 SC81 Starr South Carolina;X-APPLE-RADIUS=500;X-TITLE=4837 SC81:geo:-82.6956891,34.3770509
END:VEVENT
END:VCALENDAR