BEGIN:VCALENDAR
VERSION:2.0
PRODID:-//864 Food Trucks - ECPv6.15.20//NONSGML v1.0//EN
CALSCALE:GREGORIAN
METHOD:PUBLISH
X-ORIGINAL-URL:https://864foodtrucks.com
X-WR-CALDESC:Events for 864 Food Trucks
REFRESH-INTERVAL;VALUE=DURATION:PT1H
X-Robots-Tag:noindex
X-PUBLISHED-TTL:PT1H
BEGIN:VTIMEZONE
TZID:America/New_York
BEGIN:DAYLIGHT
TZOFFSETFROM:-0500
TZOFFSETTO:-0400
TZNAME:EDT
DTSTART:20230312T070000
END:DAYLIGHT
BEGIN:STANDARD
TZOFFSETFROM:-0400
TZOFFSETTO:-0500
TZNAME:EST
DTSTART:20231105T060000
END:STANDARD
BEGIN:DAYLIGHT
TZOFFSETFROM:-0500
TZOFFSETTO:-0400
TZNAME:EDT
DTSTART:20240310T070000
END:DAYLIGHT
BEGIN:STANDARD
TZOFFSETFROM:-0400
TZOFFSETTO:-0500
TZNAME:EST
DTSTART:20241103T060000
END:STANDARD
BEGIN:DAYLIGHT
TZOFFSETFROM:-0500
TZOFFSETTO:-0400
TZNAME:EDT
DTSTART:20250309T070000
END:DAYLIGHT
BEGIN:STANDARD
TZOFFSETFROM:-0400
TZOFFSETTO:-0500
TZNAME:EST
DTSTART:20251102T060000
END:STANDARD
END:VTIMEZONE
BEGIN:VEVENT
DTSTART;TZID=America/New_York:20240718T170000
DTEND;TZID=America/New_York:20240718T193000
DTSTAMP:20260425T163311
CREATED:20240714T214928Z
LAST-MODIFIED:20240714T214928Z
UID:32257-1721322000-1721331000@864foodtrucks.com
SUMMARY:Lobster Dogs @ Palisades of Fountain Inn
DESCRIPTION:Food truck serving the Best Lobster Rolls & Stuffed Avocados in the Carolinas
URL:https://864foodtrucks.com/event/lobster-dogs-palisades-of-fountain-inn/
LOCATION:Palisades at Fountain Inn\, Fountain Inn\, South Carolina\, United States
CATEGORIES:Food Truck Schedules,Fountain Inn
ATTACH;FMTTYPE=image/jpeg:https://864foodtrucks.com/wp-content/uploads/2021/05/lobster-dogs-Food-Truck.jpg
ORGANIZER;CN="Lobster Dogs":MAILTO:lobsterdogs3@gmail.com
GEO:34.6890095;-82.1956679
END:VEVENT
BEGIN:VEVENT
DTSTART;TZID=America/New_York:20240713T150000
DTEND;TZID=America/New_York:20240713T180000
DTSTAMP:20260425T163311
CREATED:20240708T193252Z
LAST-MODIFIED:20240708T193252Z
UID:31473-1720882800-1720893600@864foodtrucks.com
SUMMARY:Churro Masters @ Palisades at Fountain Inn
DESCRIPTION:Delicious CHURROS made fresh!
URL:https://864foodtrucks.com/event/churro-masters-palisades-at-fountain-inn/
LOCATION:Palisades at Fountain Inn\, Fountain Inn\, South Carolina\, United States
CATEGORIES:Food Truck Schedules,Fountain Inn
ATTACH;FMTTYPE=image/jpeg:https://864foodtrucks.com/wp-content/uploads/2023/05/Churro-Masters-1.jpg
ORGANIZER;CN="Churro Masters":MAILTO:Churromastersemail@gmail.com
GEO:34.6890095;-82.1956679
END:VEVENT
END:VCALENDAR