BEGIN:VCALENDAR
VERSION:2.0
PRODID:-//864 Food Trucks - ECPv6.15.20//NONSGML v1.0//EN
CALSCALE:GREGORIAN
METHOD:PUBLISH
X-WR-CALNAME:864 Food Trucks
X-ORIGINAL-URL:https://864foodtrucks.com
X-WR-CALDESC:Events for 864 Food Trucks
REFRESH-INTERVAL;VALUE=DURATION:PT1H
X-Robots-Tag:noindex
X-PUBLISHED-TTL:PT1H
BEGIN:VTIMEZONE
TZID:America/New_York
BEGIN:DAYLIGHT
TZOFFSETFROM:-0500
TZOFFSETTO:-0400
TZNAME:EDT
DTSTART:20210314T070000
END:DAYLIGHT
BEGIN:STANDARD
TZOFFSETFROM:-0400
TZOFFSETTO:-0500
TZNAME:EST
DTSTART:20211107T060000
END:STANDARD
BEGIN:DAYLIGHT
TZOFFSETFROM:-0500
TZOFFSETTO:-0400
TZNAME:EDT
DTSTART:20220313T070000
END:DAYLIGHT
BEGIN:STANDARD
TZOFFSETFROM:-0400
TZOFFSETTO:-0500
TZNAME:EST
DTSTART:20221106T060000
END:STANDARD
BEGIN:DAYLIGHT
TZOFFSETFROM:-0500
TZOFFSETTO:-0400
TZNAME:EDT
DTSTART:20230312T070000
END:DAYLIGHT
BEGIN:STANDARD
TZOFFSETFROM:-0400
TZOFFSETTO:-0500
TZNAME:EST
DTSTART:20231105T060000
END:STANDARD
BEGIN:DAYLIGHT
TZOFFSETFROM:-0500
TZOFFSETTO:-0400
TZNAME:EDT
DTSTART:20240310T070000
END:DAYLIGHT
BEGIN:STANDARD
TZOFFSETFROM:-0400
TZOFFSETTO:-0500
TZNAME:EST
DTSTART:20241103T060000
END:STANDARD
BEGIN:DAYLIGHT
TZOFFSETFROM:-0500
TZOFFSETTO:-0400
TZNAME:EDT
DTSTART:20250309T070000
END:DAYLIGHT
BEGIN:STANDARD
TZOFFSETFROM:-0400
TZOFFSETTO:-0500
TZNAME:EST
DTSTART:20251102T060000
END:STANDARD
BEGIN:DAYLIGHT
TZOFFSETFROM:-0500
TZOFFSETTO:-0400
TZNAME:EDT
DTSTART:20260308T070000
END:DAYLIGHT
BEGIN:STANDARD
TZOFFSETFROM:-0400
TZOFFSETTO:-0500
TZNAME:EST
DTSTART:20261101T060000
END:STANDARD
END:VTIMEZONE
BEGIN:VEVENT
DTSTART;TZID=America/New_York:20250927T170000
DTEND;TZID=America/New_York:20250927T210000
DTSTAMP:20260424T023152
CREATED:20250922T175700Z
LAST-MODIFIED:20250922T175700Z
UID:54429-1758992400-1759006800@864foodtrucks.com
SUMMARY:Fuel Foods @ Palmetto Moonshine Distillery
DESCRIPTION:Fuel Foods – Food Truck & Catering\nClean\, Unique & Delicious!\nLocated in Clemson & Upstate\, SC 📍\nBook Us for Events! Contact for More Info!
URL:https://864foodtrucks.com/event/fuel-foods-palmetto-moonshine-distillery/
LOCATION:Palmetto Brothers Dispensary\, 115 W Public Square\, Laurens\, South Carolina
CATEGORIES:Anderson,Food Truck Schedules
ORGANIZER;CN="Fuel Foods Food Truck":MAILTO:fuelfoods.truck@gmail.com
GEO:34.4993714;-82.0152748
X-APPLE-STRUCTURED-LOCATION;VALUE=URI;X-ADDRESS=Palmetto Brothers Dispensary 115 W Public Square Laurens South Carolina;X-APPLE-RADIUS=500;X-TITLE=115 W Public Square:geo:-82.0152748,34.4993714
END:VEVENT
BEGIN:VEVENT
DTSTART;TZID=America/New_York:20241213T173000
DTEND;TZID=America/New_York:20241213T200000
DTSTAMP:20260424T023152
CREATED:20241209T213246Z
LAST-MODIFIED:20241209T213246Z
UID:41083-1734111000-1734120000@864foodtrucks.com
SUMMARY:Simpell Sammies @ Palmetto Distillery
DESCRIPTION:Simpell Sammies is open for business and ready to serve you flavorful and delicious sandwiches and hoagies.
URL:https://864foodtrucks.com/event/simpell-sammies-palmetto-distillery-3/
LOCATION:Palmetto Brothers Dispensary\, 115 W Public Square\, Laurens\, South Carolina
CATEGORIES:Anderson,Food Truck Schedules,Lake Lure,Landrum,Laurens,Lexington,Liberty,Lyman,Marietta,Mauldin,Mills River,Moore
ATTACH;FMTTYPE=image/jpeg:https://864foodtrucks.com/wp-content/uploads/2023/06/Simpell-Sammies-Trailer.jpg
ORGANIZER;CN="Simpell Sammies":MAILTO:info@simpelltreats.com
GEO:34.4993714;-82.0152748
X-APPLE-STRUCTURED-LOCATION;VALUE=URI;X-ADDRESS=Palmetto Brothers Dispensary 115 W Public Square Laurens South Carolina;X-APPLE-RADIUS=500;X-TITLE=115 W Public Square:geo:-82.0152748,34.4993714
END:VEVENT
BEGIN:VEVENT
DTSTART;TZID=America/New_York:20240406T173000
DTEND;TZID=America/New_York:20240406T193000
DTSTAMP:20260424T023152
CREATED:20240403T165921Z
LAST-MODIFIED:20240403T165921Z
UID:27153-1712424600-1712431800@864foodtrucks.com
SUMMARY:Big Fuss Fresh Foods @ Palmetto Distillery
DESCRIPTION:We are a mobile food truck that specializes in fresh food with amazing flavor.
URL:https://864foodtrucks.com/event/big-fuss-fresh-foods-palmetto-distillery-2/
LOCATION:Palmetto Brothers Dispensary\, 115 W Public Square\, Laurens\, South Carolina
CATEGORIES:Food Truck Schedules,Laurens
ATTACH;FMTTYPE=image/jpeg:https://864foodtrucks.com/wp-content/uploads/2023/07/Big-Fuss-Fresh-Food.jpg
GEO:34.4993714;-82.0152748
X-APPLE-STRUCTURED-LOCATION;VALUE=URI;X-ADDRESS=Palmetto Brothers Dispensary 115 W Public Square Laurens South Carolina;X-APPLE-RADIUS=500;X-TITLE=115 W Public Square:geo:-82.0152748,34.4993714
END:VEVENT
BEGIN:VEVENT
DTSTART;TZID=America/New_York:20240315T170000
DTEND;TZID=America/New_York:20240315T200000
DTSTAMP:20260424T023152
CREATED:20240312T200622Z
LAST-MODIFIED:20240312T200622Z
UID:26806-1710522000-1710532800@864foodtrucks.com
SUMMARY:Big Fuss Fresh Foods @ Palmetto Distillery
DESCRIPTION:We are a mobile food truck that specializes in fresh food with amazing flavor.
URL:https://864foodtrucks.com/event/big-fuss-fresh-foods-palmetto-distillery/
LOCATION:Palmetto Brothers Dispensary\, 115 W Public Square\, Laurens\, South Carolina
CATEGORIES:Anderson,Food Truck Schedules
ATTACH;FMTTYPE=image/jpeg:https://864foodtrucks.com/wp-content/uploads/2023/07/Big-Fuss-Fresh-Food.jpg
GEO:34.4993714;-82.0152748
X-APPLE-STRUCTURED-LOCATION;VALUE=URI;X-ADDRESS=Palmetto Brothers Dispensary 115 W Public Square Laurens South Carolina;X-APPLE-RADIUS=500;X-TITLE=115 W Public Square:geo:-82.0152748,34.4993714
END:VEVENT
BEGIN:VEVENT
DTSTART;TZID=America/New_York:20240224T173000
DTEND;TZID=America/New_York:20240224T203000
DTSTAMP:20260424T023152
CREATED:20240218T213849Z
LAST-MODIFIED:20240218T213849Z
UID:25979-1708795800-1708806600@864foodtrucks.com
SUMMARY:Donut NV @ Palmetto Distillery
DESCRIPTION:DonutNV brings the party to your door! Hot mini donuts\, fresh squeezed lemonade\, coffee & more!
URL:https://864foodtrucks.com/event/donut-nv-palmetto-distillery/
LOCATION:Palmetto Brothers Dispensary\, 115 W Public Square\, Laurens\, South Carolina
CATEGORIES:Anderson,Food Truck Schedules
ATTACH;FMTTYPE=image/jpeg:https://864foodtrucks.com/wp-content/uploads/2023/11/DonutNV.jpg
ORGANIZER;CN="Donut NV Greenville":MAILTO:greenvillesc@donutnv.com
GEO:34.4993714;-82.0152748
X-APPLE-STRUCTURED-LOCATION;VALUE=URI;X-ADDRESS=Palmetto Brothers Dispensary 115 W Public Square Laurens South Carolina;X-APPLE-RADIUS=500;X-TITLE=115 W Public Square:geo:-82.0152748,34.4993714
END:VEVENT
BEGIN:VEVENT
DTSTART;TZID=America/New_York:20240106T173000
DTEND;TZID=America/New_York:20240106T200000
DTSTAMP:20260424T023152
CREATED:20240102T175227Z
LAST-MODIFIED:20240722T184353Z
UID:24909-1704562200-1704571200@864foodtrucks.com
SUMMARY:Simpell Sammies @ Palmetto Distillery
DESCRIPTION:Simpell Sammies is open for business and ready to serve you flavorful and delicious sandwiches and hoagies.
URL:https://864foodtrucks.com/event/simpell-sammies-palmetto-distillery-2/2024-01-06/
LOCATION:Palmetto Brothers Dispensary\, 115 W Public Square\, Laurens\, South Carolina
CATEGORIES:Anderson,Food Truck Schedules
ATTACH;FMTTYPE=image/jpeg:https://864foodtrucks.com/wp-content/uploads/2023/06/Simpell-Sammies-Trailer.jpg
ORGANIZER;CN="Simpell Sammies":MAILTO:info@simpelltreats.com
GEO:34.4993714;-82.0152748
X-APPLE-STRUCTURED-LOCATION;VALUE=URI;X-ADDRESS=Palmetto Brothers Dispensary 115 W Public Square Laurens South Carolina;X-APPLE-RADIUS=500;X-TITLE=115 W Public Square:geo:-82.0152748,34.4993714
END:VEVENT
BEGIN:VEVENT
DTSTART;TZID=America/New_York:20230812T170000
DTEND;TZID=America/New_York:20230812T200000
DTSTAMP:20260424T023152
CREATED:20230806T004533Z
LAST-MODIFIED:20240804T211558Z
UID:21823-1691859600-1691870400@864foodtrucks.com
SUMMARY:Simpell Sammies @ Palmetto Distillery
DESCRIPTION:Simpell Sammies is open for business and ready to serve you flavorful and delicious sandwiches and hoagies.
URL:https://864foodtrucks.com/event/simpell-sammies-palmetto-distillery/2023-08-12/
LOCATION:Palmetto Brothers Dispensary\, 115 W Public Square\, Laurens\, South Carolina
CATEGORIES:Anderson,Food Truck Schedules
ATTACH;FMTTYPE=image/jpeg:https://864foodtrucks.com/wp-content/uploads/2023/06/Simpell-Sammies-Trailer.jpg
ORGANIZER;CN="Simpell Sammies":MAILTO:info@simpelltreats.com
GEO:34.4993714;-82.0152748
X-APPLE-STRUCTURED-LOCATION;VALUE=URI;X-ADDRESS=Palmetto Brothers Dispensary 115 W Public Square Laurens South Carolina;X-APPLE-RADIUS=500;X-TITLE=115 W Public Square:geo:-82.0152748,34.4993714
END:VEVENT
BEGIN:VEVENT
DTSTART;TZID=America/New_York:20230707T173000
DTEND;TZID=America/New_York:20230707T200000
DTSTAMP:20260424T023152
CREATED:20230704T205643Z
LAST-MODIFIED:20230718T002729Z
UID:20566-1688751000-1688760000@864foodtrucks.com
SUMMARY:Churro Masters @ Palmetto Brothers Dispensary
DESCRIPTION:Delicious CHURROS made fresh!
URL:https://864foodtrucks.com/event/churro-masters-palmetto-brothers-dispensary/2023-07-07/
LOCATION:Palmetto Brothers Dispensary\, 115 W Public Square\, Laurens\, South Carolina
CATEGORIES:Food Truck Schedules,Laurens
ATTACH;FMTTYPE=image/jpeg:https://864foodtrucks.com/wp-content/uploads/2023/05/Churro-Masters.jpg
ORGANIZER;CN="Churro Masters":MAILTO:Churromastersemail@gmail.com
GEO:34.4993714;-82.0152748
X-APPLE-STRUCTURED-LOCATION;VALUE=URI;X-ADDRESS=Palmetto Brothers Dispensary 115 W Public Square Laurens South Carolina;X-APPLE-RADIUS=500;X-TITLE=115 W Public Square:geo:-82.0152748,34.4993714
END:VEVENT
BEGIN:VEVENT
DTSTART;TZID=America/New_York:20230615T180000
DTEND;TZID=America/New_York:20230615T200000
DTSTAMP:20260424T023152
CREATED:20230612T171956Z
LAST-MODIFIED:20230911T175654Z
UID:19666-1686852000-1686859200@864foodtrucks.com
SUMMARY:Too Sauc'd Up @ Palmetto Brothers
DESCRIPTION:
URL:https://864foodtrucks.com/event/too-saucd-up-palmetto-brothers-2/2023-06-15/
LOCATION:Palmetto Brothers Dispensary\, 115 W Public Square\, Laurens\, South Carolina
CATEGORIES:Food Truck Schedules,Laurens
ATTACH;FMTTYPE=image/jpeg:https://864foodtrucks.com/wp-content/uploads/2022/07/Too-Saucd-Up.jpg
ORGANIZER;CN="Too Sauc'D Up":MAILTO:toosauc.dup@gmail.com
GEO:34.4993714;-82.0152748
X-APPLE-STRUCTURED-LOCATION;VALUE=URI;X-ADDRESS=Palmetto Brothers Dispensary 115 W Public Square Laurens South Carolina;X-APPLE-RADIUS=500;X-TITLE=115 W Public Square:geo:-82.0152748,34.4993714
END:VEVENT
BEGIN:VEVENT
DTSTART;TZID=America/New_York:20221209T180000
DTEND;TZID=America/New_York:20221209T200000
DTSTAMP:20260424T023152
CREATED:20221206T140415Z
LAST-MODIFIED:20230820T231310Z
UID:15507-1670608800-1670616000@864foodtrucks.com
SUMMARY:Too Sauc'd Up @ Palmetto Brothers
DESCRIPTION:
URL:https://864foodtrucks.com/event/too-saucd-up-palmetto-brothers/2022-12-09/
LOCATION:Palmetto Brothers Dispensary\, 115 W Public Square\, Laurens\, South Carolina
CATEGORIES:Food Truck Schedules,Laurens
ATTACH;FMTTYPE=image/jpeg:https://864foodtrucks.com/wp-content/uploads/2022/07/Too-Saucd-Up.jpg
ORGANIZER;CN="Too Sauc'D Up":MAILTO:toosauc.dup@gmail.com
GEO:34.4993714;-82.0152748
X-APPLE-STRUCTURED-LOCATION;VALUE=URI;X-ADDRESS=Palmetto Brothers Dispensary 115 W Public Square Laurens South Carolina;X-APPLE-RADIUS=500;X-TITLE=115 W Public Square:geo:-82.0152748,34.4993714
END:VEVENT
BEGIN:VEVENT
DTSTART;TZID=America/New_York:20221118T173000
DTEND;TZID=America/New_York:20221118T210000
DTSTAMP:20260424T023152
CREATED:20221116T214213Z
LAST-MODIFIED:20221116T214213Z
UID:14722-1668792600-1668805200@864foodtrucks.com
SUMMARY:Kodesh BBQ Bowls @ Palmetto Distillery
DESCRIPTION:Kodesh BBQ Bowls is a mobile food trailer that provides a heap amount of Levitical clean\, flavorful\, pit smoked BBQ. We’ve also come up with a link between enjoying our delicious BBQ and providing healthier options\, our cultural inspired bowls!
URL:https://864foodtrucks.com/event/kodesh-bbq-bowls-palmetto-distillery/
LOCATION:Palmetto Brothers Dispensary\, 115 W Public Square\, Laurens\, South Carolina
CATEGORIES:Anderson,Food Truck Schedules
ATTACH;FMTTYPE=image/jpeg:https://864foodtrucks.com/wp-content/uploads/2022/05/Kodesh-BBQ.jpg
ORGANIZER;CN="Kodesh BBQ & Bowls":MAILTO:kodeshbbq@gmail.com
GEO:34.4993714;-82.0152748
X-APPLE-STRUCTURED-LOCATION;VALUE=URI;X-ADDRESS=Palmetto Brothers Dispensary 115 W Public Square Laurens South Carolina;X-APPLE-RADIUS=500;X-TITLE=115 W Public Square:geo:-82.0152748,34.4993714
END:VEVENT
END:VCALENDAR