BEGIN:VCALENDAR
VERSION:2.0
PRODID:-//864 Food Trucks - ECPv6.15.20//NONSGML v1.0//EN
CALSCALE:GREGORIAN
METHOD:PUBLISH
X-ORIGINAL-URL:https://864foodtrucks.com
X-WR-CALDESC:Events for 864 Food Trucks
REFRESH-INTERVAL;VALUE=DURATION:PT1H
X-Robots-Tag:noindex
X-PUBLISHED-TTL:PT1H
BEGIN:VTIMEZONE
TZID:America/New_York
BEGIN:DAYLIGHT
TZOFFSETFROM:-0500
TZOFFSETTO:-0400
TZNAME:EDT
DTSTART:20240310T070000
END:DAYLIGHT
BEGIN:STANDARD
TZOFFSETFROM:-0400
TZOFFSETTO:-0500
TZNAME:EST
DTSTART:20241103T060000
END:STANDARD
BEGIN:DAYLIGHT
TZOFFSETFROM:-0500
TZOFFSETTO:-0400
TZNAME:EDT
DTSTART:20250309T070000
END:DAYLIGHT
BEGIN:STANDARD
TZOFFSETFROM:-0400
TZOFFSETTO:-0500
TZNAME:EST
DTSTART:20251102T060000
END:STANDARD
BEGIN:DAYLIGHT
TZOFFSETFROM:-0500
TZOFFSETTO:-0400
TZNAME:EDT
DTSTART:20260308T070000
END:DAYLIGHT
BEGIN:STANDARD
TZOFFSETFROM:-0400
TZOFFSETTO:-0500
TZNAME:EST
DTSTART:20261101T060000
END:STANDARD
END:VTIMEZONE
BEGIN:VEVENT
DTSTART;TZID=America/New_York:20250907T123000
DTEND;TZID=America/New_York:20250907T173000
DTSTAMP:20260424T052528
CREATED:20250901T141320Z
LAST-MODIFIED:20250901T141320Z
UID:53010-1757248200-1757266200@864foodtrucks.com
SUMMARY:One Love Fusion Foods @ PorchFest
DESCRIPTION:Global Flavors. Local Favorites.\nAward-winning Food Truck\nEst. 2016
URL:https://864foodtrucks.com/event/one-love-fusion-foods-porchfest/
LOCATION:PorchFest\, 220 W Hampton Ave.\, Spartanburg\, South Carolina
CATEGORIES:Food Truck Schedules,Spartanburg
ATTACH;FMTTYPE=image/jpeg:https://864foodtrucks.com/wp-content/uploads/2019/10/One-Love-Truck.jpg
ORGANIZER;CN="One Love Fusion Foods":MAILTO:OneLoveFusionFoods@gmail.com
GEO:34.9411165;-81.9318489
X-APPLE-STRUCTURED-LOCATION;VALUE=URI;X-ADDRESS=PorchFest 220 W Hampton Ave. Spartanburg South Carolina;X-APPLE-RADIUS=500;X-TITLE=220 W Hampton Ave.:geo:-81.9318489,34.9411165
END:VEVENT
END:VCALENDAR