BEGIN:VCALENDAR
VERSION:2.0
PRODID:-//864 Food Trucks - ECPv6.15.20//NONSGML v1.0//EN
CALSCALE:GREGORIAN
METHOD:PUBLISH
X-WR-CALNAME:864 Food Trucks
X-ORIGINAL-URL:https://864foodtrucks.com
X-WR-CALDESC:Events for 864 Food Trucks
REFRESH-INTERVAL;VALUE=DURATION:PT1H
X-Robots-Tag:noindex
X-PUBLISHED-TTL:PT1H
BEGIN:VTIMEZONE
TZID:America/New_York
BEGIN:DAYLIGHT
TZOFFSETFROM:-0500
TZOFFSETTO:-0400
TZNAME:EDT
DTSTART:20230312T070000
END:DAYLIGHT
BEGIN:STANDARD
TZOFFSETFROM:-0400
TZOFFSETTO:-0500
TZNAME:EST
DTSTART:20231105T060000
END:STANDARD
BEGIN:DAYLIGHT
TZOFFSETFROM:-0500
TZOFFSETTO:-0400
TZNAME:EDT
DTSTART:20240310T070000
END:DAYLIGHT
BEGIN:STANDARD
TZOFFSETFROM:-0400
TZOFFSETTO:-0500
TZNAME:EST
DTSTART:20241103T060000
END:STANDARD
BEGIN:DAYLIGHT
TZOFFSETFROM:-0500
TZOFFSETTO:-0400
TZNAME:EDT
DTSTART:20250309T070000
END:DAYLIGHT
BEGIN:STANDARD
TZOFFSETFROM:-0400
TZOFFSETTO:-0500
TZNAME:EST
DTSTART:20251102T060000
END:STANDARD
BEGIN:DAYLIGHT
TZOFFSETFROM:-0500
TZOFFSETTO:-0400
TZNAME:EDT
DTSTART:20260308T070000
END:DAYLIGHT
BEGIN:STANDARD
TZOFFSETFROM:-0400
TZOFFSETTO:-0500
TZNAME:EST
DTSTART:20261101T060000
END:STANDARD
BEGIN:DAYLIGHT
TZOFFSETFROM:-0500
TZOFFSETTO:-0400
TZNAME:EDT
DTSTART:20270314T070000
END:DAYLIGHT
BEGIN:STANDARD
TZOFFSETFROM:-0400
TZOFFSETTO:-0500
TZNAME:EST
DTSTART:20271107T060000
END:STANDARD
END:VTIMEZONE
BEGIN:VEVENT
DTSTART;TZID=America/New_York:20260321T113000
DTEND;TZID=America/New_York:20260321T180000
DTSTAMP:20260424T123419
CREATED:20260316T192349Z
LAST-MODIFIED:20260316T192349Z
UID:60724-1774092600-1774116000@864foodtrucks.com
SUMMARY:Lai Sushi @ Powdersville HS Fair
DESCRIPTION:Roll into flavor at our food truck! Serving fresh\, hand-crafted sushi and bold Asian (Lai) fusion!
URL:https://864foodtrucks.com/event/lai-sushi-powdersville-hs-fair/
LOCATION:Powdersville High School\, 145 Hood Rd\, Powdersville\, South Carolina
CATEGORIES:Food Truck Schedules,Powdersville
ATTACH;FMTTYPE=image/jpeg:https://864foodtrucks.com/wp-content/uploads/2025/04/Lai-Sushi-Express.jpg
ORGANIZER;CN="Lai Sushi Express":MAILTO:Laisushiexpress@gmail.com
GEO:34.800837;-82.4881356
X-APPLE-STRUCTURED-LOCATION;VALUE=URI;X-ADDRESS=Powdersville High School 145 Hood Rd Powdersville South Carolina;X-APPLE-RADIUS=500;X-TITLE=145 Hood Rd:geo:-82.4881356,34.800837
END:VEVENT
BEGIN:VEVENT
DTSTART;TZID=America/New_York:20251113T110000
DTEND;TZID=America/New_York:20251113T153000
DTSTAMP:20260424T123419
CREATED:20251110T141458Z
LAST-MODIFIED:20251110T141458Z
UID:56142-1763031600-1763047800@864foodtrucks.com
SUMMARY:Cinnabon @ Powdersville High School
DESCRIPTION:Cinnabon Food Truck Greenville
URL:https://864foodtrucks.com/event/cinnabon-powdersville-high-school/
LOCATION:Powdersville High School\, 145 Hood Rd\, Powdersville\, South Carolina
CATEGORIES:Food Truck Schedules,Greenville
ORGANIZER;CN="Cinnabon Greenville":MAILTO:info@hotbonssc.com
GEO:34.800837;-82.4881356
X-APPLE-STRUCTURED-LOCATION;VALUE=URI;X-ADDRESS=Powdersville High School 145 Hood Rd Powdersville South Carolina;X-APPLE-RADIUS=500;X-TITLE=145 Hood Rd:geo:-82.4881356,34.800837
END:VEVENT
BEGIN:VEVENT
DTSTART;TZID=America/New_York:20240301T120000
DTEND;TZID=America/New_York:20240301T133000
DTSTAMP:20260424T123419
CREATED:20240226T192602Z
LAST-MODIFIED:20240226T192602Z
UID:26382-1709294400-1709299800@864foodtrucks.com
SUMMARY:Donut NV Greenville @ Powdersville High School
DESCRIPTION:DonutNV brings the party to your door! Hot mini donuts\, fresh squeezed lemonade\, coffee & more!
URL:https://864foodtrucks.com/event/donut-nv-greenville-powdersville-high-school/
LOCATION:Powdersville High School\, 145 Hood Rd\, Powdersville\, South Carolina
CATEGORIES:Food Truck Schedules,Greenville
ATTACH;FMTTYPE=image/jpeg:https://864foodtrucks.com/wp-content/uploads/2023/11/DonutNV.jpg
ORGANIZER;CN="Donut NV Greenville":MAILTO:greenvillesc@donutnv.com
GEO:34.800837;-82.4881356
X-APPLE-STRUCTURED-LOCATION;VALUE=URI;X-ADDRESS=Powdersville High School 145 Hood Rd Powdersville South Carolina;X-APPLE-RADIUS=500;X-TITLE=145 Hood Rd:geo:-82.4881356,34.800837
END:VEVENT
END:VCALENDAR