BEGIN:VCALENDAR
VERSION:2.0
PRODID:-//864 Food Trucks - ECPv6.15.20//NONSGML v1.0//EN
CALSCALE:GREGORIAN
METHOD:PUBLISH
X-ORIGINAL-URL:https://864foodtrucks.com
X-WR-CALDESC:Events for 864 Food Trucks
REFRESH-INTERVAL;VALUE=DURATION:PT1H
X-Robots-Tag:noindex
X-PUBLISHED-TTL:PT1H
BEGIN:VTIMEZONE
TZID:America/New_York
BEGIN:DAYLIGHT
TZOFFSETFROM:-0500
TZOFFSETTO:-0400
TZNAME:EDT
DTSTART:20210314T070000
END:DAYLIGHT
BEGIN:STANDARD
TZOFFSETFROM:-0400
TZOFFSETTO:-0500
TZNAME:EST
DTSTART:20211107T060000
END:STANDARD
BEGIN:DAYLIGHT
TZOFFSETFROM:-0500
TZOFFSETTO:-0400
TZNAME:EDT
DTSTART:20220313T070000
END:DAYLIGHT
BEGIN:STANDARD
TZOFFSETFROM:-0400
TZOFFSETTO:-0500
TZNAME:EST
DTSTART:20221106T060000
END:STANDARD
BEGIN:DAYLIGHT
TZOFFSETFROM:-0500
TZOFFSETTO:-0400
TZNAME:EDT
DTSTART:20230312T070000
END:DAYLIGHT
BEGIN:STANDARD
TZOFFSETFROM:-0400
TZOFFSETTO:-0500
TZNAME:EST
DTSTART:20231105T060000
END:STANDARD
BEGIN:DAYLIGHT
TZOFFSETFROM:-0500
TZOFFSETTO:-0400
TZNAME:EDT
DTSTART:20240310T070000
END:DAYLIGHT
BEGIN:STANDARD
TZOFFSETFROM:-0400
TZOFFSETTO:-0500
TZNAME:EST
DTSTART:20241103T060000
END:STANDARD
END:VTIMEZONE
BEGIN:VEVENT
DTSTART;TZID=America/New_York:20230611T150000
DTEND;TZID=America/New_York:20230611T160000
DTSTAMP:20260425T203352
CREATED:20230605T185641Z
LAST-MODIFIED:20230605T185641Z
UID:19422-1686495600-1686499200@864foodtrucks.com
SUMMARY:Sky Cream Ice Cream @ Remington Kick off to Summer
DESCRIPTION:Greenville’s cutest ice cream truck coming to a neighborhood near you!
URL:https://864foodtrucks.com/event/sky-cream-ice-cream-remington-kick-off-to-summer/
LOCATION:Remington\, 20 Cardston Drive\, Simpsonville\, South Carolina
CATEGORIES:Food Truck Schedules,Simpsonville
ATTACH;FMTTYPE=image/jpeg:https://864foodtrucks.com/wp-content/uploads/2022/05/Sky-Cream-Ice-Cream-Truck.jpg
ORGANIZER;CN="Sky Cream Ice Cream Truck":MAILTO:skycreamicecreamtruck@gmail.com
GEO:34.7074651;-82.2992493
X-APPLE-STRUCTURED-LOCATION;VALUE=URI;X-ADDRESS=Remington 20 Cardston Drive Simpsonville South Carolina;X-APPLE-RADIUS=500;X-TITLE=20 Cardston Drive:geo:-82.2992493,34.7074651
END:VEVENT
BEGIN:VEVENT
DTSTART;TZID=America/New_York:20230408T113000
DTEND;TZID=America/New_York:20230408T120000
DTSTAMP:20260425T203352
CREATED:20230403T194607Z
LAST-MODIFIED:20230403T194607Z
UID:18016-1680953400-1680955200@864foodtrucks.com
SUMMARY:Sky Cream Ice Cream @ Remington
DESCRIPTION:Greenville’s cutest ice cream truck coming to a neighborhood near you!
URL:https://864foodtrucks.com/event/sky-cream-ice-cream-remington/
LOCATION:Remington\, 20 Cardston Drive\, Simpsonville\, South Carolina
CATEGORIES:Food Truck Schedules,Simpsonville
ATTACH;FMTTYPE=image/jpeg:https://864foodtrucks.com/wp-content/uploads/2022/05/Sky-Cream-Ice-Cream-Truck.jpg
ORGANIZER;CN="Sky Cream Ice Cream Truck":MAILTO:skycreamicecreamtruck@gmail.com
GEO:34.7074651;-82.2992493
X-APPLE-STRUCTURED-LOCATION;VALUE=URI;X-ADDRESS=Remington 20 Cardston Drive Simpsonville South Carolina;X-APPLE-RADIUS=500;X-TITLE=20 Cardston Drive:geo:-82.2992493,34.7074651
END:VEVENT
BEGIN:VEVENT
DTSTART;TZID=America/New_York:20221223T073000
DTEND;TZID=America/New_York:20221223T110000
DTSTAMP:20260425T203352
CREATED:20221220T014220Z
LAST-MODIFIED:20221220T014220Z
UID:15765-1671780600-1671793200@864foodtrucks.com
SUMMARY:Roaming Ritual @ Remington
DESCRIPTION:A mobile coffee trailer serving parts of Greenville County\, SC !
URL:https://864foodtrucks.com/event/roaming-ritual-remington/
LOCATION:Remington\, 20 Cardston Drive\, Simpsonville\, South Carolina
CATEGORIES:Food Truck Schedules,Simpsonville
ATTACH;FMTTYPE=image/jpeg:https://864foodtrucks.com/wp-content/uploads/2022/10/Roaming-Ritual-Trailer-e1666182278753.jpg
ORGANIZER;CN="Roaming Ritual":MAILTO:Roamingritualcoffee@gmail.com
GEO:34.7074651;-82.2992493
X-APPLE-STRUCTURED-LOCATION;VALUE=URI;X-ADDRESS=Remington 20 Cardston Drive Simpsonville South Carolina;X-APPLE-RADIUS=500;X-TITLE=20 Cardston Drive:geo:-82.2992493,34.7074651
END:VEVENT
END:VCALENDAR