BEGIN:VCALENDAR
VERSION:2.0
PRODID:-//864 Food Trucks - ECPv6.15.20//NONSGML v1.0//EN
CALSCALE:GREGORIAN
METHOD:PUBLISH
X-WR-CALNAME:864 Food Trucks
X-ORIGINAL-URL:https://864foodtrucks.com
X-WR-CALDESC:Events for 864 Food Trucks
REFRESH-INTERVAL;VALUE=DURATION:PT1H
X-Robots-Tag:noindex
X-PUBLISHED-TTL:PT1H
BEGIN:VTIMEZONE
TZID:America/New_York
BEGIN:DAYLIGHT
TZOFFSETFROM:-0500
TZOFFSETTO:-0400
TZNAME:EDT
DTSTART:20220313T070000
END:DAYLIGHT
BEGIN:STANDARD
TZOFFSETFROM:-0400
TZOFFSETTO:-0500
TZNAME:EST
DTSTART:20221106T060000
END:STANDARD
BEGIN:DAYLIGHT
TZOFFSETFROM:-0500
TZOFFSETTO:-0400
TZNAME:EDT
DTSTART:20230312T070000
END:DAYLIGHT
BEGIN:STANDARD
TZOFFSETFROM:-0400
TZOFFSETTO:-0500
TZNAME:EST
DTSTART:20231105T060000
END:STANDARD
BEGIN:DAYLIGHT
TZOFFSETFROM:-0500
TZOFFSETTO:-0400
TZNAME:EDT
DTSTART:20240310T070000
END:DAYLIGHT
BEGIN:STANDARD
TZOFFSETFROM:-0400
TZOFFSETTO:-0500
TZNAME:EST
DTSTART:20241103T060000
END:STANDARD
BEGIN:DAYLIGHT
TZOFFSETFROM:-0500
TZOFFSETTO:-0400
TZNAME:EDT
DTSTART:20250309T070000
END:DAYLIGHT
BEGIN:STANDARD
TZOFFSETFROM:-0400
TZOFFSETTO:-0500
TZNAME:EST
DTSTART:20251102T060000
END:STANDARD
END:VTIMEZONE
BEGIN:VEVENT
DTSTART;TZID=America/New_York:20240409T180000
DTEND;TZID=America/New_York:20240409T200000
DTSTAMP:20260425T203259
CREATED:20240409T002046Z
LAST-MODIFIED:20250610T003246Z
UID:27239-1712685600-1712692800@864foodtrucks.com
SUMMARY:Churro Masters @ River Falls
DESCRIPTION:Delicious CHURROS made fresh!
URL:https://864foodtrucks.com/event/churro-masters-river-falls/2024-04-09/
LOCATION:River Falls Apartments\, 105 Churchill Falls Drive\, Duncan\, South Carolina
CATEGORIES:Duncan,Food Truck Schedules
ATTACH;FMTTYPE=image/jpeg:https://864foodtrucks.com/wp-content/uploads/2023/05/Churro-Masters-1.jpg
ORGANIZER;CN="Churro Masters":MAILTO:Churromastersemail@gmail.com
GEO:34.897578;-82.0758875
X-APPLE-STRUCTURED-LOCATION;VALUE=URI;X-ADDRESS=River Falls Apartments 105 Churchill Falls Drive Duncan South Carolina;X-APPLE-RADIUS=500;X-TITLE=105 Churchill Falls Drive:geo:-82.0758875,34.897578
END:VEVENT
BEGIN:VEVENT
DTSTART;TZID=America/New_York:20230915T180000
DTEND;TZID=America/New_York:20230915T200000
DTSTAMP:20260425T203259
CREATED:20230912T122646Z
LAST-MODIFIED:20230912T122646Z
UID:22829-1694800800-1694808000@864foodtrucks.com
SUMMARY:Churro Masters @ River Falls Pool Party
DESCRIPTION:Delicious CHURROS made fresh!
URL:https://864foodtrucks.com/event/churro-masters-river-falls-pool-party/
LOCATION:River Falls Apartments\, 105 Churchill Falls Drive\, Duncan\, South Carolina
CATEGORIES:Duncan,Food Truck Schedules
ATTACH;FMTTYPE=image/jpeg:https://864foodtrucks.com/wp-content/uploads/2023/05/Churro-Masters-1.jpg
ORGANIZER;CN="Churro Masters":MAILTO:Churromastersemail@gmail.com
GEO:34.897578;-82.0758875
X-APPLE-STRUCTURED-LOCATION;VALUE=URI;X-ADDRESS=River Falls Apartments 105 Churchill Falls Drive Duncan South Carolina;X-APPLE-RADIUS=500;X-TITLE=105 Churchill Falls Drive:geo:-82.0758875,34.897578
END:VEVENT
BEGIN:VEVENT
DTSTART;TZID=America/New_York:20230610T120000
DTEND;TZID=America/New_York:20230610T160000
DTSTAMP:20260425T203259
CREATED:20230606T183716Z
LAST-MODIFIED:20230606T183716Z
UID:19496-1686398400-1686412800@864foodtrucks.com
SUMMARY:Larrio's Doggie Wagon @ River Falls
DESCRIPTION:Larrio’s Doggie Wagon is a mobile hot dog cart and catering service and birthday and event.
URL:https://864foodtrucks.com/event/larrios-doggie-wagon-river-falls/
LOCATION:River Falls Apartments\, 105 Churchill Falls Drive\, Duncan\, South Carolina
CATEGORIES:Duncan,Food Truck Schedules
ATTACH;FMTTYPE=image/jpeg:https://864foodtrucks.com/wp-content/uploads/2022/03/Larrios-Doggie-Wagon-Display.jpg
ORGANIZER;CN="Larrio's Doggie Wagon":MAILTO:larriosdoggiewagon@yahoo.com
GEO:34.897578;-82.0758875
X-APPLE-STRUCTURED-LOCATION;VALUE=URI;X-ADDRESS=River Falls Apartments 105 Churchill Falls Drive Duncan South Carolina;X-APPLE-RADIUS=500;X-TITLE=105 Churchill Falls Drive:geo:-82.0758875,34.897578
END:VEVENT
END:VCALENDAR