BEGIN:VCALENDAR
VERSION:2.0
PRODID:-//864 Food Trucks - ECPv6.15.20//NONSGML v1.0//EN
CALSCALE:GREGORIAN
METHOD:PUBLISH
X-WR-CALNAME:864 Food Trucks
X-ORIGINAL-URL:https://864foodtrucks.com
X-WR-CALDESC:Events for 864 Food Trucks
REFRESH-INTERVAL;VALUE=DURATION:PT1H
X-Robots-Tag:noindex
X-PUBLISHED-TTL:PT1H
BEGIN:VTIMEZONE
TZID:America/New_York
BEGIN:DAYLIGHT
TZOFFSETFROM:-0500
TZOFFSETTO:-0400
TZNAME:EDT
DTSTART:20220313T070000
END:DAYLIGHT
BEGIN:STANDARD
TZOFFSETFROM:-0400
TZOFFSETTO:-0500
TZNAME:EST
DTSTART:20221106T060000
END:STANDARD
BEGIN:DAYLIGHT
TZOFFSETFROM:-0500
TZOFFSETTO:-0400
TZNAME:EDT
DTSTART:20230312T070000
END:DAYLIGHT
BEGIN:STANDARD
TZOFFSETFROM:-0400
TZOFFSETTO:-0500
TZNAME:EST
DTSTART:20231105T060000
END:STANDARD
BEGIN:DAYLIGHT
TZOFFSETFROM:-0500
TZOFFSETTO:-0400
TZNAME:EDT
DTSTART:20240310T070000
END:DAYLIGHT
BEGIN:STANDARD
TZOFFSETFROM:-0400
TZOFFSETTO:-0500
TZNAME:EST
DTSTART:20241103T060000
END:STANDARD
BEGIN:DAYLIGHT
TZOFFSETFROM:-0500
TZOFFSETTO:-0400
TZNAME:EDT
DTSTART:20250309T070000
END:DAYLIGHT
BEGIN:STANDARD
TZOFFSETFROM:-0400
TZOFFSETTO:-0500
TZNAME:EST
DTSTART:20251102T060000
END:STANDARD
BEGIN:DAYLIGHT
TZOFFSETFROM:-0500
TZOFFSETTO:-0400
TZNAME:EDT
DTSTART:20260308T070000
END:DAYLIGHT
BEGIN:STANDARD
TZOFFSETFROM:-0400
TZOFFSETTO:-0500
TZNAME:EST
DTSTART:20261101T060000
END:STANDARD
END:VTIMEZONE
BEGIN:VEVENT
DTSTART;TZID=America/New_York:20250823T120000
DTEND;TZID=America/New_York:20250823T140000
DTSTAMP:20260425T145153
CREATED:20250818T181528Z
LAST-MODIFIED:20250818T181528Z
UID:52204-1755950400-1755957600@864foodtrucks.com
SUMMARY:Local Pie Pizza Co @ Roper Mountain Estates
DESCRIPTION:
URL:https://864foodtrucks.com/event/local-pie-pizza-co-roper-mountain-estates-2/
LOCATION:Roper Mountain Estates\, Greenville\, South Carolina
CATEGORIES:Food Truck Schedules,Greenville
ATTACH;FMTTYPE=image/jpeg:https://864foodtrucks.com/wp-content/uploads/2021/12/Local-Pie-Pizza-3.jpg
ORGANIZER;CN="Local Pie Pizza Company":MAILTO:cory@localpiepizzacompany.com
GEO:34.8526176;-82.3940104
END:VEVENT
BEGIN:VEVENT
DTSTART;TZID=America/New_York:20250518T163000
DTEND;TZID=America/New_York:20250518T183000
DTSTAMP:20260425T145153
CREATED:20250512T163220Z
LAST-MODIFIED:20250512T163220Z
UID:45061-1747585800-1747593000@864foodtrucks.com
SUMMARY:Local Pie Pizza Co @ Roper Mountain Estates
DESCRIPTION:
URL:https://864foodtrucks.com/event/local-pie-pizza-co-roper-mountain-estates/
LOCATION:Roper Mountain Estates\, Greenville\, South Carolina
CATEGORIES:Food Truck Schedules,Greenville
ATTACH;FMTTYPE=image/jpeg:https://864foodtrucks.com/wp-content/uploads/2021/12/Local-Pie-Pizza-3.jpg
ORGANIZER;CN="Local Pie Pizza Company":MAILTO:cory@localpiepizzacompany.com
GEO:34.8526176;-82.3940104
END:VEVENT
BEGIN:VEVENT
DTSTART;TZID=America/New_York:20231216T083000
DTEND;TZID=America/New_York:20231216T103000
DTSTAMP:20260425T145153
CREATED:20231211T185520Z
LAST-MODIFIED:20231211T185520Z
UID:24596-1702715400-1702722600@864foodtrucks.com
SUMMARY:Donut NV Greenville @ Roper Mountain Estates
DESCRIPTION:DonutNV brings the party to your door! Hot mini donuts\, fresh squeezed lemonade\, coffee & more!
URL:https://864foodtrucks.com/event/donut-nv-greenville-roper-mountain-estates/
LOCATION:Roper Mountain Estates\, Greenville\, South Carolina
CATEGORIES:Food Truck Schedules,Greenville
ATTACH;FMTTYPE=image/jpeg:https://864foodtrucks.com/wp-content/uploads/2023/11/DonutNV.jpg
ORGANIZER;CN="Donut NV Greenville":MAILTO:greenvillesc@donutnv.com
GEO:34.8526176;-82.3940104
END:VEVENT
BEGIN:VEVENT
DTSTART;TZID=America/New_York:20230718T170000
DTEND;TZID=America/New_York:20230718T200000
DTSTAMP:20260425T145153
CREATED:20230718T005643Z
LAST-MODIFIED:20230718T005643Z
UID:20947-1689699600-1689710400@864foodtrucks.com
SUMMARY:Kodesh BBQ Bowls @ Roper Mountain Estates
DESCRIPTION:Kodesh BBQ Bowls is a mobile food trailer that provides a heap amount of Levitical clean\, flavorful\, pit smoked BBQ. We’ve also come up with a link between enjoying our delicious BBQ and providing healthier options\, our cultural inspired bowls!
URL:https://864foodtrucks.com/event/kodesh-bbq-bowls-roper-mountain-estates/
LOCATION:Roper Mountain Estates\, Greenville\, South Carolina
CATEGORIES:Food Truck Schedules,Greenville
ATTACH;FMTTYPE=image/jpeg:https://864foodtrucks.com/wp-content/uploads/2022/05/Kodesh-BBQ.jpg
ORGANIZER;CN="Kodesh BBQ & Bowls":MAILTO:kodeshbbq@gmail.com
GEO:34.8526176;-82.3940104
END:VEVENT
BEGIN:VEVENT
DTSTART;TZID=America/New_York:20230506T190000
DTEND;TZID=America/New_York:20230506T190000
DTSTAMP:20260425T145153
CREATED:20230501T162915Z
LAST-MODIFIED:20230501T162915Z
UID:18557-1683399600-1683399600@864foodtrucks.com
SUMMARY:Vita Nova Coffee & Tea @ Roper Mountain Estates
DESCRIPTION:The vision of Vita Nova is to bring communities together around good coffee\, delicacies and various entertainment!
URL:https://864foodtrucks.com/event/vita-nova-coffee-tea-roper-mountain-estates/
LOCATION:Roper Mountain Estates\, Greenville\, South Carolina
CATEGORIES:Food Truck Schedules,Greenville
ATTACH;FMTTYPE=image/jpeg:https://864foodtrucks.com/wp-content/uploads/2021/12/Vita-Nova.jpg
ORGANIZER;CN="Vita Nova Coffee And Tea":MAILTO:Vitanova3710@gmail.com
GEO:34.8526176;-82.3940104
END:VEVENT
END:VCALENDAR