BEGIN:VCALENDAR
VERSION:2.0
PRODID:-//864 Food Trucks - ECPv6.15.20//NONSGML v1.0//EN
CALSCALE:GREGORIAN
METHOD:PUBLISH
X-WR-CALNAME:864 Food Trucks
X-ORIGINAL-URL:https://864foodtrucks.com
X-WR-CALDESC:Events for 864 Food Trucks
REFRESH-INTERVAL;VALUE=DURATION:PT1H
X-Robots-Tag:noindex
X-PUBLISHED-TTL:PT1H
BEGIN:VTIMEZONE
TZID:America/New_York
BEGIN:DAYLIGHT
TZOFFSETFROM:-0500
TZOFFSETTO:-0400
TZNAME:EDT
DTSTART:20230312T070000
END:DAYLIGHT
BEGIN:STANDARD
TZOFFSETFROM:-0400
TZOFFSETTO:-0500
TZNAME:EST
DTSTART:20231105T060000
END:STANDARD
BEGIN:DAYLIGHT
TZOFFSETFROM:-0500
TZOFFSETTO:-0400
TZNAME:EDT
DTSTART:20240310T070000
END:DAYLIGHT
BEGIN:STANDARD
TZOFFSETFROM:-0400
TZOFFSETTO:-0500
TZNAME:EST
DTSTART:20241103T060000
END:STANDARD
BEGIN:DAYLIGHT
TZOFFSETFROM:-0500
TZOFFSETTO:-0400
TZNAME:EDT
DTSTART:20250309T070000
END:DAYLIGHT
BEGIN:STANDARD
TZOFFSETFROM:-0400
TZOFFSETTO:-0500
TZNAME:EST
DTSTART:20251102T060000
END:STANDARD
BEGIN:DAYLIGHT
TZOFFSETFROM:-0500
TZOFFSETTO:-0400
TZNAME:EDT
DTSTART:20260308T070000
END:DAYLIGHT
BEGIN:STANDARD
TZOFFSETFROM:-0400
TZOFFSETTO:-0500
TZNAME:EST
DTSTART:20261101T060000
END:STANDARD
END:VTIMEZONE
BEGIN:VEVENT
DTSTART;TZID=America/New_York:20250325T163000
DTEND;TZID=America/New_York:20250325T193000
DTSTAMP:20260425T101703
CREATED:20250323T001926Z
LAST-MODIFIED:20250406T202548Z
UID:43239-1742920200-1742931000@864foodtrucks.com
SUMMARY:Spinx Cluk Truk @ Rudolph Gordon Spring Sporting Event
DESCRIPTION:Your favorite southern fried chicken is hitting the road—and it’s going to be legendary. Our community comes first\, and we want to share that tender love by bringing our homegrown menu to you. The Cluk Truk is coming Fall 2020 to the Upstate!
URL:https://864foodtrucks.com/event/spinx-cluk-truk-rudolph-gordon-spring-sporting-event/2025-03-25/
LOCATION:Rudolph Gordon Elementary School\, 1507 Scuffletown Road\, Simpsonville\, SC\, 29681\, United States
CATEGORIES:Food Truck Schedules,Simpsonville
ATTACH;FMTTYPE=image/jpeg:https://864foodtrucks.com/wp-content/uploads/2021/05/Spinx-Cluk-Truk-Truck.jpg
ORGANIZER;CN="Spinx Cluk Truk":MAILTO:cluktruk@spinxco.com
GEO:34.7467854;-82.1926135
X-APPLE-STRUCTURED-LOCATION;VALUE=URI;X-ADDRESS=Rudolph Gordon Elementary School 1507 Scuffletown Road Simpsonville SC 29681 United States;X-APPLE-RADIUS=500;X-TITLE=1507 Scuffletown Road:geo:-82.1926135,34.7467854
END:VEVENT
BEGIN:VEVENT
DTSTART;TZID=America/New_York:20241116T080000
DTEND;TZID=America/New_York:20241116T130000
DTSTAMP:20260425T101703
CREATED:20241113T133855Z
LAST-MODIFIED:20241113T133855Z
UID:39916-1731744000-1731762000@864foodtrucks.com
SUMMARY:Roaming Ritual @ Rudolph Gordon Craft Fair
DESCRIPTION:A mobile coffee trailer serving parts of Greenville County\, SC !
URL:https://864foodtrucks.com/event/roaming-ritual-rudolph-gordon-craft-fair/
LOCATION:Rudolph Gordon Elementary School\, 1507 Scuffletown Road\, Simpsonville\, SC\, 29681\, United States
CATEGORIES:Food Truck Schedules,Simpsonville
ATTACH;FMTTYPE=image/jpeg:https://864foodtrucks.com/wp-content/uploads/2022/10/Roaming-Ritual-Trailer-e1666182278753.jpg
ORGANIZER;CN="Roaming Ritual":MAILTO:Roamingritualcoffee@gmail.com
GEO:34.7467854;-82.1926135
X-APPLE-STRUCTURED-LOCATION;VALUE=URI;X-ADDRESS=Rudolph Gordon Elementary School 1507 Scuffletown Road Simpsonville SC 29681 United States;X-APPLE-RADIUS=500;X-TITLE=1507 Scuffletown Road:geo:-82.1926135,34.7467854
END:VEVENT
END:VCALENDAR