BEGIN:VCALENDAR
VERSION:2.0
PRODID:-//864 Food Trucks - ECPv6.15.20//NONSGML v1.0//EN
CALSCALE:GREGORIAN
METHOD:PUBLISH
X-WR-CALNAME:864 Food Trucks
X-ORIGINAL-URL:https://864foodtrucks.com
X-WR-CALDESC:Events for 864 Food Trucks
REFRESH-INTERVAL;VALUE=DURATION:PT1H
X-Robots-Tag:noindex
X-PUBLISHED-TTL:PT1H
BEGIN:VTIMEZONE
TZID:America/New_York
BEGIN:DAYLIGHT
TZOFFSETFROM:-0500
TZOFFSETTO:-0400
TZNAME:EDT
DTSTART:20220313T070000
END:DAYLIGHT
BEGIN:STANDARD
TZOFFSETFROM:-0400
TZOFFSETTO:-0500
TZNAME:EST
DTSTART:20221106T060000
END:STANDARD
BEGIN:DAYLIGHT
TZOFFSETFROM:-0500
TZOFFSETTO:-0400
TZNAME:EDT
DTSTART:20230312T070000
END:DAYLIGHT
BEGIN:STANDARD
TZOFFSETFROM:-0400
TZOFFSETTO:-0500
TZNAME:EST
DTSTART:20231105T060000
END:STANDARD
BEGIN:DAYLIGHT
TZOFFSETFROM:-0500
TZOFFSETTO:-0400
TZNAME:EDT
DTSTART:20240310T070000
END:DAYLIGHT
BEGIN:STANDARD
TZOFFSETFROM:-0400
TZOFFSETTO:-0500
TZNAME:EST
DTSTART:20241103T060000
END:STANDARD
BEGIN:DAYLIGHT
TZOFFSETFROM:-0500
TZOFFSETTO:-0400
TZNAME:EDT
DTSTART:20250309T070000
END:DAYLIGHT
BEGIN:STANDARD
TZOFFSETFROM:-0400
TZOFFSETTO:-0500
TZNAME:EST
DTSTART:20251102T060000
END:STANDARD
BEGIN:DAYLIGHT
TZOFFSETFROM:-0500
TZOFFSETTO:-0400
TZNAME:EDT
DTSTART:20260308T070000
END:DAYLIGHT
BEGIN:STANDARD
TZOFFSETFROM:-0400
TZOFFSETTO:-0500
TZNAME:EST
DTSTART:20261101T060000
END:STANDARD
END:VTIMEZONE
BEGIN:VEVENT
DTSTART;TZID=America/New_York:20251028T113000
DTEND;TZID=America/New_York:20251028T133000
DTSTAMP:20260424T004811
CREATED:20251027T123935Z
LAST-MODIFIED:20251027T123935Z
UID:55600-1761651000-1761658200@864foodtrucks.com
SUMMARY:La Katrina Mia @ Ryobi
DESCRIPTION:Latin Cuisine\, book us for your next event we Cater or bring our Food Truck out the choice is yours.
URL:https://864foodtrucks.com/event/la-katrina-mia-ryobi/
LOCATION:Ryobi\, 440 Lithium Ln\, Anderson\, SC\, 29621\, United States
CATEGORIES:Anderson,Food Truck Schedules
ATTACH;FMTTYPE=image/jpeg:https://864foodtrucks.com/wp-content/uploads/2022/06/La-Katrina-Mia-Truck.jpg
ORGANIZER;CN="La Katrina Mia":MAILTO:lakatrinamia@gmail.com
GEO:34.6314402;-82.6131861
X-APPLE-STRUCTURED-LOCATION;VALUE=URI;X-ADDRESS=Ryobi 440 Lithium Ln Anderson SC 29621 United States;X-APPLE-RADIUS=500;X-TITLE=440 Lithium Ln:geo:-82.6131861,34.6314402
END:VEVENT
BEGIN:VEVENT
DTSTART;TZID=America/New_York:20250417T110000
DTEND;TZID=America/New_York:20250417T130000
DTSTAMP:20260424T004811
CREATED:20250414T185726Z
LAST-MODIFIED:20250414T185726Z
UID:43807-1744887600-1744894800@864foodtrucks.com
SUMMARY:Havana Taste @ Ryobi
DESCRIPTION:Authentic Cuban Savor
URL:https://864foodtrucks.com/event/havana-taste-ryobi/
LOCATION:Ryobi\, 440 Lithium Ln\, Anderson\, SC\, 29621\, United States
CATEGORIES:Anderson,Food Truck Schedules
ATTACH;FMTTYPE=image/jpeg:https://864foodtrucks.com/wp-content/uploads/2024/11/Havana-taste.jpg
ORGANIZER;CN="Havana Taste":MAILTO:havanatasteinc@gmail.com
GEO:34.6314402;-82.6131861
X-APPLE-STRUCTURED-LOCATION;VALUE=URI;X-ADDRESS=Ryobi 440 Lithium Ln Anderson SC 29621 United States;X-APPLE-RADIUS=500;X-TITLE=440 Lithium Ln:geo:-82.6131861,34.6314402
END:VEVENT
BEGIN:VEVENT
DTSTART;TZID=America/New_York:20231011T113000
DTEND;TZID=America/New_York:20231011T140000
DTSTAMP:20260424T004811
CREATED:20231009T164222Z
LAST-MODIFIED:20231009T164222Z
UID:23410-1697023800-1697032800@864foodtrucks.com
SUMMARY:Half Rooted @ Ryobi
DESCRIPTION:Half Rooted is a modern Latin-American street food mobile kitchen!
URL:https://864foodtrucks.com/event/half-rooted-ryobi/
LOCATION:Ryobi\, 440 Lithium Ln\, Anderson\, SC\, 29621\, United States
CATEGORIES:Anderson,Food Truck Schedules
ATTACH;FMTTYPE=image/jpeg:https://864foodtrucks.com/wp-content/uploads/2023/05/Half-Rooted.jpg
GEO:34.6314402;-82.6131861
X-APPLE-STRUCTURED-LOCATION;VALUE=URI;X-ADDRESS=Ryobi 440 Lithium Ln Anderson SC 29621 United States;X-APPLE-RADIUS=500;X-TITLE=440 Lithium Ln:geo:-82.6131861,34.6314402
END:VEVENT
BEGIN:VEVENT
DTSTART;TZID=America/New_York:20230622T110000
DTEND;TZID=America/New_York:20230622T140000
DTSTAMP:20260424T004811
CREATED:20230619T182401Z
LAST-MODIFIED:20230619T182401Z
UID:19808-1687431600-1687442400@864foodtrucks.com
SUMMARY:El Coco Loco Mariscos Y Tacos @ Ryobi
DESCRIPTION:EL COCO LOCO MARISCOS Y TACOS TE OFRECE UNA GRAN VARIEDAD DE MARISCOS AL ESTILO CULIACAN SINALOA
URL:https://864foodtrucks.com/event/el-coco-loco-mariscos-y-tacos-ryobi/
LOCATION:Ryobi\, 440 Lithium Ln\, Anderson\, SC\, 29621\, United States
CATEGORIES:Anderson,Food Truck Schedules
ATTACH;FMTTYPE=image/jpeg:https://864foodtrucks.com/wp-content/uploads/2023/06/El-coco-loco.jpg
GEO:34.6314402;-82.6131861
X-APPLE-STRUCTURED-LOCATION;VALUE=URI;X-ADDRESS=Ryobi 440 Lithium Ln Anderson SC 29621 United States;X-APPLE-RADIUS=500;X-TITLE=440 Lithium Ln:geo:-82.6131861,34.6314402
END:VEVENT
BEGIN:VEVENT
DTSTART;TZID=America/New_York:20230613T110000
DTEND;TZID=America/New_York:20230613T140000
DTSTAMP:20260424T004811
CREATED:20230611T141006Z
LAST-MODIFIED:20230827T202351Z
UID:19527-1686654000-1686664800@864foodtrucks.com
SUMMARY:Simpell Sammies @ TTI
DESCRIPTION:Simpell Sammies is open for business and ready to serve you flavorful and delicious sandwiches and hoagies.
URL:https://864foodtrucks.com/event/simpell-sammies-tti/2023-06-13/
LOCATION:Ryobi\, 440 Lithium Ln\, Anderson\, SC\, 29621\, United States
CATEGORIES:Food Truck Schedules,Williamston
ATTACH;FMTTYPE=image/jpeg:https://864foodtrucks.com/wp-content/uploads/2023/06/Simpell-Sammies-Trailer.jpg
ORGANIZER;CN="Simpell Sammies":MAILTO:info@simpelltreats.com
GEO:34.6314402;-82.6131861
X-APPLE-STRUCTURED-LOCATION;VALUE=URI;X-ADDRESS=Ryobi 440 Lithium Ln Anderson SC 29621 United States;X-APPLE-RADIUS=500;X-TITLE=440 Lithium Ln:geo:-82.6131861,34.6314402
END:VEVENT
BEGIN:VEVENT
DTSTART;TZID=America/New_York:20230517T110000
DTEND;TZID=America/New_York:20230517T140000
DTSTAMP:20260424T004811
CREATED:20230515T150328Z
LAST-MODIFIED:20240310T232946Z
UID:18974-1684321200-1684332000@864foodtrucks.com
SUMMARY:Healthy Food Truck GVL @ Ryobi
DESCRIPTION:🌶️MEXICAN FLAVOR\n🍅HEALTHY FOOD\n🥬MEAL PREPS
URL:https://864foodtrucks.com/event/healthy-food-truck-gvl-ryobi/2023-05-17/
LOCATION:Ryobi\, 440 Lithium Ln\, Anderson\, SC\, 29621\, United States
CATEGORIES:Anderson,Food Truck Schedules
ATTACH;FMTTYPE=image/jpeg:https://864foodtrucks.com/wp-content/uploads/2023/02/Healthy-Food-Truck-Greenville.jpg
ORGANIZER;CN="Healthy Food Truck GVL":MAILTO:Nefgym@gmail.com
GEO:34.6314402;-82.6131861
X-APPLE-STRUCTURED-LOCATION;VALUE=URI;X-ADDRESS=Ryobi 440 Lithium Ln Anderson SC 29621 United States;X-APPLE-RADIUS=500;X-TITLE=440 Lithium Ln:geo:-82.6131861,34.6314402
END:VEVENT
BEGIN:VEVENT
DTSTART;TZID=America/New_York:20230417T103000
DTEND;TZID=America/New_York:20230417T133000
DTSTAMP:20260424T004811
CREATED:20230416T142601Z
LAST-MODIFIED:20230416T142601Z
UID:18253-1681727400-1681738200@864foodtrucks.com
SUMMARY:Matty's Pattys @ TTI
DESCRIPTION:We’re serving the friendliest hamburger this side of the Mississippi! Coming soon to Anderson\, SC
URL:https://864foodtrucks.com/event/mattys-pattys-tti/
LOCATION:Ryobi\, 440 Lithium Ln\, Anderson\, SC\, 29621\, United States
CATEGORIES:Anderson,Food Truck Schedules
ATTACH;FMTTYPE=image/jpeg:https://864foodtrucks.com/wp-content/uploads/2022/10/Mattys-Pattys.jpg
ORGANIZER;CN="Mattys Pattys":MAILTO:thebradfordfoodgroup@gmail.com
GEO:34.6314402;-82.6131861
X-APPLE-STRUCTURED-LOCATION;VALUE=URI;X-ADDRESS=Ryobi 440 Lithium Ln Anderson SC 29621 United States;X-APPLE-RADIUS=500;X-TITLE=440 Lithium Ln:geo:-82.6131861,34.6314402
END:VEVENT
BEGIN:VEVENT
DTSTART;TZID=America/New_York:20230302T110000
DTEND;TZID=America/New_York:20230302T130000
DTSTAMP:20260424T004811
CREATED:20230227T193936Z
LAST-MODIFIED:20250506T144313Z
UID:17184-1677754800-1677762000@864foodtrucks.com
SUMMARY:Kodesh BBQ Bowls @ Ryobi
DESCRIPTION:Kodesh BBQ Bowls is a mobile food trailer that provides a heap amount of Levitical clean\, flavorful\, pit smoked BBQ. We’ve also come up with a link between enjoying our delicious BBQ and providing healthier options\, our cultural inspired bowls!
URL:https://864foodtrucks.com/event/kodesh-bbq-bowls-ryobi/2023-03-02/
LOCATION:Ryobi\, 440 Lithium Ln\, Anderson\, SC\, 29621\, United States
CATEGORIES:Food Truck Schedules,Williamston
ATTACH;FMTTYPE=image/jpeg:https://864foodtrucks.com/wp-content/uploads/2022/05/Kodesh-BBQ.jpg
ORGANIZER;CN="Kodesh BBQ & Bowls":MAILTO:kodeshbbq@gmail.com
GEO:34.6314402;-82.6131861
X-APPLE-STRUCTURED-LOCATION;VALUE=URI;X-ADDRESS=Ryobi 440 Lithium Ln Anderson SC 29621 United States;X-APPLE-RADIUS=500;X-TITLE=440 Lithium Ln:geo:-82.6131861,34.6314402
END:VEVENT
BEGIN:VEVENT
DTSTART;TZID=America/New_York:20230207T110000
DTEND;TZID=America/New_York:20230207T130000
DTSTAMP:20260424T004811
CREATED:20230207T002225Z
LAST-MODIFIED:20230207T002225Z
UID:16628-1675767600-1675774800@864foodtrucks.com
SUMMARY:Kodesh BBQ Bowls @ Ryobi TTI
DESCRIPTION:Kodesh BBQ Bowls is a mobile food trailer that provides a heap amount of Levitical clean\, flavorful\, pit smoked BBQ. We’ve also come up with a link between enjoying our delicious BBQ and providing healthier options\, our cultural inspired bowls!
URL:https://864foodtrucks.com/event/kodesh-bbq-bowls-ryobi-tti/
LOCATION:Ryobi\, 440 Lithium Ln\, Anderson\, SC\, 29621\, United States
CATEGORIES:Anderson,Food Truck Schedules
ATTACH;FMTTYPE=image/jpeg:https://864foodtrucks.com/wp-content/uploads/2022/05/Kodesh-BBQ.jpg
ORGANIZER;CN="Kodesh BBQ & Bowls":MAILTO:kodeshbbq@gmail.com
GEO:34.6314402;-82.6131861
X-APPLE-STRUCTURED-LOCATION;VALUE=URI;X-ADDRESS=Ryobi 440 Lithium Ln Anderson SC 29621 United States;X-APPLE-RADIUS=500;X-TITLE=440 Lithium Ln:geo:-82.6131861,34.6314402
END:VEVENT
END:VCALENDAR