BEGIN:VCALENDAR
VERSION:2.0
PRODID:-//864 Food Trucks - ECPv6.15.20//NONSGML v1.0//EN
CALSCALE:GREGORIAN
METHOD:PUBLISH
X-WR-CALNAME:864 Food Trucks
X-ORIGINAL-URL:https://864foodtrucks.com
X-WR-CALDESC:Events for 864 Food Trucks
REFRESH-INTERVAL;VALUE=DURATION:PT1H
X-Robots-Tag:noindex
X-PUBLISHED-TTL:PT1H
BEGIN:VTIMEZONE
TZID:America/New_York
BEGIN:DAYLIGHT
TZOFFSETFROM:-0500
TZOFFSETTO:-0400
TZNAME:EDT
DTSTART:20220313T070000
END:DAYLIGHT
BEGIN:STANDARD
TZOFFSETFROM:-0400
TZOFFSETTO:-0500
TZNAME:EST
DTSTART:20221106T060000
END:STANDARD
BEGIN:DAYLIGHT
TZOFFSETFROM:-0500
TZOFFSETTO:-0400
TZNAME:EDT
DTSTART:20230312T070000
END:DAYLIGHT
BEGIN:STANDARD
TZOFFSETFROM:-0400
TZOFFSETTO:-0500
TZNAME:EST
DTSTART:20231105T060000
END:STANDARD
BEGIN:DAYLIGHT
TZOFFSETFROM:-0500
TZOFFSETTO:-0400
TZNAME:EDT
DTSTART:20240310T070000
END:DAYLIGHT
BEGIN:STANDARD
TZOFFSETFROM:-0400
TZOFFSETTO:-0500
TZNAME:EST
DTSTART:20241103T060000
END:STANDARD
BEGIN:DAYLIGHT
TZOFFSETFROM:-0500
TZOFFSETTO:-0400
TZNAME:EDT
DTSTART:20250309T070000
END:DAYLIGHT
BEGIN:STANDARD
TZOFFSETFROM:-0400
TZOFFSETTO:-0500
TZNAME:EST
DTSTART:20251102T060000
END:STANDARD
BEGIN:DAYLIGHT
TZOFFSETFROM:-0500
TZOFFSETTO:-0400
TZNAME:EDT
DTSTART:20260308T070000
END:DAYLIGHT
BEGIN:STANDARD
TZOFFSETFROM:-0400
TZOFFSETTO:-0500
TZNAME:EST
DTSTART:20261101T060000
END:STANDARD
BEGIN:DAYLIGHT
TZOFFSETFROM:-0500
TZOFFSETTO:-0400
TZNAME:EDT
DTSTART:20270314T070000
END:DAYLIGHT
BEGIN:STANDARD
TZOFFSETFROM:-0400
TZOFFSETTO:-0500
TZNAME:EST
DTSTART:20271107T060000
END:STANDARD
END:VTIMEZONE
BEGIN:VEVENT
DTSTART;TZID=America/New_York:20260422T170000
DTEND;TZID=America/New_York:20260422T193000
DTSTAMP:20260424T035810
CREATED:20240130T003124Z
LAST-MODIFIED:20240130T003124Z
UID:62049-1776877200-1776886200@864foodtrucks.com
SUMMARY:Local Pie Pizza Co @ Saddler's Ridge
DESCRIPTION:Artisan Pizza Food Truck
URL:https://864foodtrucks.com/event/local-pie-pizza-co-saddlers-ridge/2026-04-22/
LOCATION:Saddler’s Ridge Pool\, Harrison Bridge Rd\, Simpsonville\, SC\, United States
CATEGORIES:Food Truck Schedules,Simpsonville
ATTACH;FMTTYPE=image/jpeg:https://864foodtrucks.com/wp-content/uploads/2022/01/Local-Pie-Logo.jpg
ORGANIZER;CN="Local Pie Pizza Company":MAILTO:cory@localpiepizzacompany.com
END:VEVENT
BEGIN:VEVENT
DTSTART;TZID=America/New_York:20250509T170000
DTEND;TZID=America/New_York:20250509T220000
DTSTAMP:20260424T035810
CREATED:20250505T003200Z
LAST-MODIFIED:20250505T003200Z
UID:44332-1746810000-1746828000@864foodtrucks.com
SUMMARY:Dos Bros @ Saddlers Ridge
DESCRIPTION:
URL:https://864foodtrucks.com/event/dos-bros-saddlers-ridge/
LOCATION:Saddler’s Ridge Pool\, Harrison Bridge Rd\, Simpsonville\, SC\, United States
CATEGORIES:Food Truck Schedules,Simpsonville
ATTACH;FMTTYPE=image/jpeg:https://864foodtrucks.com/wp-content/uploads/2021/10/Dos-Bros-Tacos-Truck.jpg
ORGANIZER;CN="Dos Bros Tacos 864":MAILTO:jesusi86@yahoo.com
END:VEVENT
BEGIN:VEVENT
DTSTART;TZID=America/New_York:20240309T100000
DTEND;TZID=America/New_York:20240309T113000
DTSTAMP:20260424T035810
CREATED:20240304T002750Z
LAST-MODIFIED:20240717T132856Z
UID:26456-1709978400-1709983800@864foodtrucks.com
SUMMARY:Donut NV @ Saddler's Ridge Neighborhood
DESCRIPTION:DonutNV brings the party to your door! Hot mini donuts\, fresh squeezed lemonade\, coffee & more!
URL:https://864foodtrucks.com/event/donut-nv-saddlers-ridge-neighborhood/2024-03-09/
LOCATION:Saddler’s Ridge Pool\, Harrison Bridge Rd\, Simpsonville\, SC\, United States
CATEGORIES:Food Truck Schedules,Simpsonville
ATTACH;FMTTYPE=image/jpeg:https://864foodtrucks.com/wp-content/uploads/2023/11/DonutNV.jpg
ORGANIZER;CN="Donut NV Greenville":MAILTO:greenvillesc@donutnv.com
END:VEVENT
BEGIN:VEVENT
DTSTART;TZID=America/New_York:20240131T170000
DTEND;TZID=America/New_York:20240131T193000
DTSTAMP:20260424T035810
CREATED:20240130T003124Z
LAST-MODIFIED:20260420T124229Z
UID:25379-1706720400-1706729400@864foodtrucks.com
SUMMARY:Local Pie Pizza Co @ Saddler's Ridge
DESCRIPTION:Artisan Pizza Food Truck
URL:https://864foodtrucks.com/event/local-pie-pizza-co-saddlers-ridge/2024-01-31/
LOCATION:Saddler’s Ridge Pool\, Harrison Bridge Rd\, Simpsonville\, SC\, United States
CATEGORIES:Food Truck Schedules,Simpsonville
ATTACH;FMTTYPE=image/jpeg:https://864foodtrucks.com/wp-content/uploads/2022/01/Local-Pie-Logo.jpg
ORGANIZER;CN="Local Pie Pizza Company":MAILTO:cory@localpiepizzacompany.com
END:VEVENT
BEGIN:VEVENT
DTSTART;TZID=America/New_York:20240116T173000
DTEND;TZID=America/New_York:20240116T193000
DTSTAMP:20260424T035810
CREATED:20240115T225300Z
LAST-MODIFIED:20240115T225300Z
UID:25158-1705426200-1705433400@864foodtrucks.com
SUMMARY:Big Fuss Fresh Food @ Saddler's Ridge
DESCRIPTION:We are a mobile food truck that specializes in fresh food with amazing flavor.
URL:https://864foodtrucks.com/event/big-fuss-fresh-food-saddlers-ridge/
LOCATION:Saddler’s Ridge Pool\, Harrison Bridge Rd\, Simpsonville\, SC\, United States
CATEGORIES:Food Truck Schedules,Simpsonville
ATTACH;FMTTYPE=image/jpeg:https://864foodtrucks.com/wp-content/uploads/2023/07/Big-Fuss-Fresh-Food.jpg
END:VEVENT
BEGIN:VEVENT
DTSTART;TZID=America/New_York:20231117T180000
DTEND;TZID=America/New_York:20231117T193000
DTSTAMP:20260424T035810
CREATED:20231114T184429Z
LAST-MODIFIED:20231114T184429Z
UID:24143-1700244000-1700249400@864foodtrucks.com
SUMMARY:Churro Masters @ Saddler's Ridge
DESCRIPTION:Delicious CHURROS made fresh!
URL:https://864foodtrucks.com/event/churro-masters-saddlers-ridge/
LOCATION:Saddler’s Ridge Pool\, Harrison Bridge Rd\, Simpsonville\, SC\, United States
CATEGORIES:Food Truck Schedules,Simpsonville
ATTACH;FMTTYPE=image/jpeg:https://864foodtrucks.com/wp-content/uploads/2023/05/Churro-Masters-1.jpg
ORGANIZER;CN="Churro Masters":MAILTO:Churromastersemail@gmail.com
END:VEVENT
BEGIN:VEVENT
DTSTART;TZID=America/New_York:20231115T160000
DTEND;TZID=America/New_York:20231115T180000
DTSTAMP:20260424T035810
CREATED:20231114T200038Z
LAST-MODIFIED:20231114T200038Z
UID:24163-1700064000-1700071200@864foodtrucks.com
SUMMARY:Half Rooted @ Saddler's Ridge
DESCRIPTION:Half Rooted is a modern Latin-American street food mobile kitchen!
URL:https://864foodtrucks.com/event/half-rooted-saddlers-ridge/
LOCATION:Saddler’s Ridge Pool\, Harrison Bridge Rd\, Simpsonville\, SC\, United States
CATEGORIES:Food Truck Schedules,Simpsonville
ATTACH;FMTTYPE=image/jpeg:https://864foodtrucks.com/wp-content/uploads/2023/05/Half-Rooted.jpg
END:VEVENT
BEGIN:VEVENT
DTSTART;TZID=America/New_York:20230827T150000
DTEND;TZID=America/New_York:20230827T180000
DTSTAMP:20260424T035810
CREATED:20230822T165329Z
LAST-MODIFIED:20230822T165329Z
UID:22360-1693148400-1693159200@864foodtrucks.com
SUMMARY:Churro Masters @ Saddlers Ridge Pool Party
DESCRIPTION:Delicious CHURROS made fresh!
URL:https://864foodtrucks.com/event/churro-masters-saddlers-ridge-pool-party/
LOCATION:Saddler’s Ridge Pool\, Harrison Bridge Rd\, Simpsonville\, SC\, United States
CATEGORIES:Food Truck Schedules,Simpsonville
ATTACH;FMTTYPE=image/jpeg:https://864foodtrucks.com/wp-content/uploads/2023/05/Churro-Masters-1.jpg
ORGANIZER;CN="Churro Masters":MAILTO:Churromastersemail@gmail.com
END:VEVENT
BEGIN:VEVENT
DTSTART;TZID=America/New_York:20230701T150000
DTEND;TZID=America/New_York:20230701T180000
DTSTAMP:20260424T035810
CREATED:20230626T182746Z
LAST-MODIFIED:20230626T182746Z
UID:20136-1688223600-1688234400@864foodtrucks.com
SUMMARY:Churro Masters @ Saddler's Ridge Pool
DESCRIPTION:Delicious CHURROS made fresh!
URL:https://864foodtrucks.com/event/churro-masters-saddlers-ridge-pool/
LOCATION:Saddler’s Ridge Pool\, Harrison Bridge Rd\, Simpsonville\, SC\, United States
CATEGORIES:Food Truck Schedules,Simpsonville
ATTACH;FMTTYPE=image/jpeg:https://864foodtrucks.com/wp-content/uploads/2023/05/Churro-Masters-1.jpg
ORGANIZER;CN="Churro Masters":MAILTO:Churromastersemail@gmail.com
END:VEVENT
END:VCALENDAR