BEGIN:VCALENDAR
VERSION:2.0
PRODID:-//864 Food Trucks - ECPv6.15.20//NONSGML v1.0//EN
CALSCALE:GREGORIAN
METHOD:PUBLISH
X-ORIGINAL-URL:https://864foodtrucks.com
X-WR-CALDESC:Events for 864 Food Trucks
REFRESH-INTERVAL;VALUE=DURATION:PT1H
X-Robots-Tag:noindex
X-PUBLISHED-TTL:PT1H
BEGIN:VTIMEZONE
TZID:America/New_York
BEGIN:DAYLIGHT
TZOFFSETFROM:-0500
TZOFFSETTO:-0400
TZNAME:EDT
DTSTART:20220313T070000
END:DAYLIGHT
BEGIN:STANDARD
TZOFFSETFROM:-0400
TZOFFSETTO:-0500
TZNAME:EST
DTSTART:20221106T060000
END:STANDARD
BEGIN:DAYLIGHT
TZOFFSETFROM:-0500
TZOFFSETTO:-0400
TZNAME:EDT
DTSTART:20230312T070000
END:DAYLIGHT
BEGIN:STANDARD
TZOFFSETFROM:-0400
TZOFFSETTO:-0500
TZNAME:EST
DTSTART:20231105T060000
END:STANDARD
BEGIN:DAYLIGHT
TZOFFSETFROM:-0500
TZOFFSETTO:-0400
TZNAME:EDT
DTSTART:20240310T070000
END:DAYLIGHT
BEGIN:STANDARD
TZOFFSETFROM:-0400
TZOFFSETTO:-0500
TZNAME:EST
DTSTART:20241103T060000
END:STANDARD
BEGIN:DAYLIGHT
TZOFFSETFROM:-0500
TZOFFSETTO:-0400
TZNAME:EDT
DTSTART:20250309T070000
END:DAYLIGHT
BEGIN:STANDARD
TZOFFSETFROM:-0400
TZOFFSETTO:-0500
TZNAME:EST
DTSTART:20251102T060000
END:STANDARD
BEGIN:DAYLIGHT
TZOFFSETFROM:-0500
TZOFFSETTO:-0400
TZNAME:EDT
DTSTART:20260308T070000
END:DAYLIGHT
BEGIN:STANDARD
TZOFFSETFROM:-0400
TZOFFSETTO:-0500
TZNAME:EST
DTSTART:20261101T060000
END:STANDARD
END:VTIMEZONE
BEGIN:VEVENT
DTSTART;TZID=America/New_York:20251016T170000
DTEND;TZID=America/New_York:20251016T200000
DTSTAMP:20260424T021236
CREATED:20250519T152948Z
LAST-MODIFIED:20250519T152948Z
UID:55017-1760634000-1760644800@864foodtrucks.com
SUMMARY:Local Pie Pizza Co @ Sassafras Flower Farm
DESCRIPTION:
URL:https://864foodtrucks.com/event/local-pie-pizza-co-sassafras-flower-farm/2025-10-16/
LOCATION:Sassafras Flower Farm\, 255 Alex Dr\, Easley\, South Carolina
CATEGORIES:Easley,Food Truck Schedules
ATTACH;FMTTYPE=image/jpeg:https://864foodtrucks.com/wp-content/uploads/2021/12/Local-Pie-Pizza-3.jpg
ORGANIZER;CN="Local Pie Pizza Company":MAILTO:cory@localpiepizzacompany.com
GEO:34.8913682;-82.5207333
X-APPLE-STRUCTURED-LOCATION;VALUE=URI;X-ADDRESS=Sassafras Flower Farm 255 Alex Dr Easley South Carolina;X-APPLE-RADIUS=500;X-TITLE=255 Alex Dr:geo:-82.5207333,34.8913682
END:VEVENT
BEGIN:VEVENT
DTSTART;TZID=America/New_York:20250918T170000
DTEND;TZID=America/New_York:20250918T200000
DTSTAMP:20260424T021237
CREATED:20250519T152948Z
LAST-MODIFIED:20251012T202743Z
UID:53883-1758214800-1758225600@864foodtrucks.com
SUMMARY:Local Pie Pizza Co @ Sassafras Flower Farm
DESCRIPTION:
URL:https://864foodtrucks.com/event/local-pie-pizza-co-sassafras-flower-farm/2025-09-18/
LOCATION:Sassafras Flower Farm\, 255 Alex Dr\, Easley\, South Carolina
CATEGORIES:Easley,Food Truck Schedules
ATTACH;FMTTYPE=image/jpeg:https://864foodtrucks.com/wp-content/uploads/2021/12/Local-Pie-Pizza-3.jpg
ORGANIZER;CN="Local Pie Pizza Company":MAILTO:cory@localpiepizzacompany.com
GEO:34.8913682;-82.5207333
X-APPLE-STRUCTURED-LOCATION;VALUE=URI;X-ADDRESS=Sassafras Flower Farm 255 Alex Dr Easley South Carolina;X-APPLE-RADIUS=500;X-TITLE=255 Alex Dr:geo:-82.5207333,34.8913682
END:VEVENT
BEGIN:VEVENT
DTSTART;TZID=America/New_York:20250913T090000
DTEND;TZID=America/New_York:20250913T120000
DTSTAMP:20260424T021237
CREATED:20240527T164327Z
LAST-MODIFIED:20240527T164327Z
UID:53311-1757754000-1757764800@864foodtrucks.com
SUMMARY:Vita Nova Coffee & Tea @ Sassafrass Flowers
DESCRIPTION:The vision of Vita Nova is to bring communities together around good coffee\, delicacies and various entertainment!
URL:https://864foodtrucks.com/event/vita-nova-coffee-tea-sassafrass-flowers/2025-09-13/
LOCATION:Sassafras Flower Farm\, 255 Alex Dr\, Easley\, South Carolina
CATEGORIES:Easley,Food Truck Schedules
ATTACH;FMTTYPE=image/jpeg:https://864foodtrucks.com/wp-content/uploads/2023/06/Vita-Nova-2.jpg
ORGANIZER;CN="Vita Nova Coffee And Tea":MAILTO:Vitanova3710@gmail.com
GEO:34.8913682;-82.5207333
X-APPLE-STRUCTURED-LOCATION;VALUE=URI;X-ADDRESS=Sassafras Flower Farm 255 Alex Dr Easley South Carolina;X-APPLE-RADIUS=500;X-TITLE=255 Alex Dr:geo:-82.5207333,34.8913682
END:VEVENT
BEGIN:VEVENT
DTSTART;TZID=America/New_York:20250522T173000
DTEND;TZID=America/New_York:20250522T203000
DTSTAMP:20260424T021237
CREATED:20250519T152948Z
LAST-MODIFIED:20251012T202743Z
UID:45817-1747935000-1747945800@864foodtrucks.com
SUMMARY:Local Pie Pizza Co @ Sassafras Flower Farm
DESCRIPTION:
URL:https://864foodtrucks.com/event/local-pie-pizza-co-sassafras-flower-farm/2025-05-22/
LOCATION:Sassafras Flower Farm\, 255 Alex Dr\, Easley\, South Carolina
CATEGORIES:Easley,Food Truck Schedules
ATTACH;FMTTYPE=image/jpeg:https://864foodtrucks.com/wp-content/uploads/2021/12/Local-Pie-Pizza-3.jpg
ORGANIZER;CN="Local Pie Pizza Company":MAILTO:cory@localpiepizzacompany.com
GEO:34.8913682;-82.5207333
X-APPLE-STRUCTURED-LOCATION;VALUE=URI;X-ADDRESS=Sassafras Flower Farm 255 Alex Dr Easley South Carolina;X-APPLE-RADIUS=500;X-TITLE=255 Alex Dr:geo:-82.5207333,34.8913682
END:VEVENT
BEGIN:VEVENT
DTSTART;TZID=America/New_York:20240601T080000
DTEND;TZID=America/New_York:20240601T120000
DTSTAMP:20260424T021237
CREATED:20240527T164327Z
LAST-MODIFIED:20250908T013818Z
UID:28489-1717228800-1717243200@864foodtrucks.com
SUMMARY:Vita Nova Coffee & Tea @ Sassafrass Flowers
DESCRIPTION:The vision of Vita Nova is to bring communities together around good coffee\, delicacies and various entertainment!
URL:https://864foodtrucks.com/event/vita-nova-coffee-tea-sassafrass-flowers/2024-06-01/
LOCATION:Sassafras Flower Farm\, 255 Alex Dr\, Easley\, South Carolina
CATEGORIES:Easley,Food Truck Schedules
ATTACH;FMTTYPE=image/jpeg:https://864foodtrucks.com/wp-content/uploads/2023/06/Vita-Nova-2.jpg
ORGANIZER;CN="Vita Nova Coffee And Tea":MAILTO:Vitanova3710@gmail.com
GEO:34.8913682;-82.5207333
X-APPLE-STRUCTURED-LOCATION;VALUE=URI;X-ADDRESS=Sassafras Flower Farm 255 Alex Dr Easley South Carolina;X-APPLE-RADIUS=500;X-TITLE=255 Alex Dr:geo:-82.5207333,34.8913682
END:VEVENT
BEGIN:VEVENT
DTSTART;TZID=America/New_York:20230625T080000
DTEND;TZID=America/New_York:20230625T110000
DTSTAMP:20260424T021237
CREATED:20230619T191922Z
LAST-MODIFIED:20230717T160529Z
UID:19849-1687680000-1687690800@864foodtrucks.com
SUMMARY:Local Pie Pizza Co @ Sassafras UPICK
DESCRIPTION:Artisan Pizza Food Truck
URL:https://864foodtrucks.com/event/local-pie-pizza-co-sassafras-upick-brunch/2023-06-25/
LOCATION:Sassafras Flower Farm\, 255 Alex Dr\, Easley\, South Carolina
CATEGORIES:Easley,Food Truck Schedules
ATTACH;FMTTYPE=image/jpeg:https://864foodtrucks.com/wp-content/uploads/2021/12/Local-Pie-Pizza-3.jpg
ORGANIZER;CN="Local Pie Pizza Company":MAILTO:cory@localpiepizzacompany.com
GEO:34.8913682;-82.5207333
X-APPLE-STRUCTURED-LOCATION;VALUE=URI;X-ADDRESS=Sassafras Flower Farm 255 Alex Dr Easley South Carolina;X-APPLE-RADIUS=500;X-TITLE=255 Alex Dr:geo:-82.5207333,34.8913682
END:VEVENT
END:VCALENDAR