BEGIN:VCALENDAR
VERSION:2.0
PRODID:-//864 Food Trucks - ECPv6.15.20//NONSGML v1.0//EN
CALSCALE:GREGORIAN
METHOD:PUBLISH
X-WR-CALNAME:864 Food Trucks
X-ORIGINAL-URL:https://864foodtrucks.com
X-WR-CALDESC:Events for 864 Food Trucks
REFRESH-INTERVAL;VALUE=DURATION:PT1H
X-Robots-Tag:noindex
X-PUBLISHED-TTL:PT1H
BEGIN:VTIMEZONE
TZID:America/New_York
BEGIN:DAYLIGHT
TZOFFSETFROM:-0500
TZOFFSETTO:-0400
TZNAME:EDT
DTSTART:20220313T070000
END:DAYLIGHT
BEGIN:STANDARD
TZOFFSETFROM:-0400
TZOFFSETTO:-0500
TZNAME:EST
DTSTART:20221106T060000
END:STANDARD
BEGIN:DAYLIGHT
TZOFFSETFROM:-0500
TZOFFSETTO:-0400
TZNAME:EDT
DTSTART:20230312T070000
END:DAYLIGHT
BEGIN:STANDARD
TZOFFSETFROM:-0400
TZOFFSETTO:-0500
TZNAME:EST
DTSTART:20231105T060000
END:STANDARD
BEGIN:DAYLIGHT
TZOFFSETFROM:-0500
TZOFFSETTO:-0400
TZNAME:EDT
DTSTART:20240310T070000
END:DAYLIGHT
BEGIN:STANDARD
TZOFFSETFROM:-0400
TZOFFSETTO:-0500
TZNAME:EST
DTSTART:20241103T060000
END:STANDARD
END:VTIMEZONE
BEGIN:VEVENT
DTSTART;TZID=America/New_York:20230621T153000
DTEND;TZID=America/New_York:20230621T180000
DTSTAMP:20260425T145844
CREATED:20230618T200250Z
LAST-MODIFIED:20230618T200250Z
UID:19780-1687361400-1687370400@864foodtrucks.com
SUMMARY:Sky Cream Ice Cream @ Spaulding Farm
DESCRIPTION:Greenville’s cutest ice cream truck coming to a neighborhood near you!
URL:https://864foodtrucks.com/event/sky-cream-ice-cream-spaulding-farm/
LOCATION:Spaulding Farm\, 100 Spaulding Farm Rd\, Greenville\, South Carolina
CATEGORIES:Food Truck Schedules,Greenville
ATTACH;FMTTYPE=image/jpeg:https://864foodtrucks.com/wp-content/uploads/2022/05/Sky-Cream-Ice-Cream-Truck.jpg
ORGANIZER;CN="Sky Cream Ice Cream Truck":MAILTO:skycreamicecreamtruck@gmail.com
GEO:34.8345228;-82.2523885
X-APPLE-STRUCTURED-LOCATION;VALUE=URI;X-ADDRESS=Spaulding Farm 100 Spaulding Farm Rd Greenville South Carolina;X-APPLE-RADIUS=500;X-TITLE=100 Spaulding Farm Rd:geo:-82.2523885,34.8345228
END:VEVENT
BEGIN:VEVENT
DTSTART;TZID=America/New_York:20230619T080000
DTEND;TZID=America/New_York:20230619T100000
DTSTAMP:20260425T145844
CREATED:20230619T184608Z
LAST-MODIFIED:20230619T184608Z
UID:19821-1687161600-1687168800@864foodtrucks.com
SUMMARY:Vita Nova Coffee & Tea @ Spaulding Farms
DESCRIPTION:The vision of Vita Nova is to bring communities together around good coffee\, delicacies and various entertainment!
URL:https://864foodtrucks.com/event/vita-nova-coffee-tea-spaulding-farms/
LOCATION:Spaulding Farm\, 100 Spaulding Farm Rd\, Greenville\, South Carolina
CATEGORIES:Food Truck Schedules,Greenville
ATTACH;FMTTYPE=image/jpeg:https://864foodtrucks.com/wp-content/uploads/2023/06/Vita-Nova-1.jpg
ORGANIZER;CN="Vita Nova Coffee And Tea":MAILTO:Vitanova3710@gmail.com
GEO:34.8345228;-82.2523885
X-APPLE-STRUCTURED-LOCATION;VALUE=URI;X-ADDRESS=Spaulding Farm 100 Spaulding Farm Rd Greenville South Carolina;X-APPLE-RADIUS=500;X-TITLE=100 Spaulding Farm Rd:geo:-82.2523885,34.8345228
END:VEVENT
BEGIN:VEVENT
DTSTART;TZID=America/New_York:20230612T080000
DTEND;TZID=America/New_York:20230612T113000
DTSTAMP:20260425T145844
CREATED:20230612T115251Z
LAST-MODIFIED:20230612T115251Z
UID:19633-1686556800-1686569400@864foodtrucks.com
SUMMARY:Roaming Ritual @ Spaulding Farm
DESCRIPTION:A mobile coffee trailer serving parts of Greenville County\, SC !
URL:https://864foodtrucks.com/event/roaming-ritual-spaulding-farm/
LOCATION:Spaulding Farm\, 100 Spaulding Farm Rd\, Greenville\, South Carolina
CATEGORIES:Food Truck Schedules,Greenville
ATTACH;FMTTYPE=image/jpeg:https://864foodtrucks.com/wp-content/uploads/2022/10/Roaming-Ritual-Trailer-e1666182278753.jpg
ORGANIZER;CN="Roaming Ritual":MAILTO:Roamingritualcoffee@gmail.com
GEO:34.8345228;-82.2523885
X-APPLE-STRUCTURED-LOCATION;VALUE=URI;X-ADDRESS=Spaulding Farm 100 Spaulding Farm Rd Greenville South Carolina;X-APPLE-RADIUS=500;X-TITLE=100 Spaulding Farm Rd:geo:-82.2523885,34.8345228
END:VEVENT
BEGIN:VEVENT
DTSTART;TZID=America/New_York:20230516T180000
DTEND;TZID=America/New_York:20230516T200000
DTSTAMP:20260425T145844
CREATED:20230515T143634Z
LAST-MODIFIED:20250605T180825Z
UID:18956-1684260000-1684267200@864foodtrucks.com
SUMMARY:The Noodle Lady @ Spaulding Farm
DESCRIPTION:Authentic Chinese dishes for catering and events. Artisan Noodles and 100% Natural. Check out here our events calendar in Greenville\, South Carolina. #TheNoodleLady
URL:https://864foodtrucks.com/event/the-noodle-lady-spaulding-farm/2023-05-16/
LOCATION:Spaulding Farm\, 100 Spaulding Farm Rd\, Greenville\, South Carolina
CATEGORIES:Food Truck Schedules,Greenville
ATTACH;FMTTYPE=image/jpeg:https://864foodtrucks.com/wp-content/uploads/2023/07/Noodle-lady.jpg
ORGANIZER;CN="The Noodle Lady":MAILTO:thenoodlelady@yahoo.com
GEO:34.8345228;-82.2523885
X-APPLE-STRUCTURED-LOCATION;VALUE=URI;X-ADDRESS=Spaulding Farm 100 Spaulding Farm Rd Greenville South Carolina;X-APPLE-RADIUS=500;X-TITLE=100 Spaulding Farm Rd:geo:-82.2523885,34.8345228
END:VEVENT
END:VCALENDAR