BEGIN:VCALENDAR
VERSION:2.0
PRODID:-//864 Food Trucks - ECPv6.15.20//NONSGML v1.0//EN
CALSCALE:GREGORIAN
METHOD:PUBLISH
X-WR-CALNAME:864 Food Trucks
X-ORIGINAL-URL:https://864foodtrucks.com
X-WR-CALDESC:Events for 864 Food Trucks
REFRESH-INTERVAL;VALUE=DURATION:PT1H
X-Robots-Tag:noindex
X-PUBLISHED-TTL:PT1H
BEGIN:VTIMEZONE
TZID:America/New_York
BEGIN:DAYLIGHT
TZOFFSETFROM:-0500
TZOFFSETTO:-0400
TZNAME:EDT
DTSTART:20230312T070000
END:DAYLIGHT
BEGIN:STANDARD
TZOFFSETFROM:-0400
TZOFFSETTO:-0500
TZNAME:EST
DTSTART:20231105T060000
END:STANDARD
BEGIN:DAYLIGHT
TZOFFSETFROM:-0500
TZOFFSETTO:-0400
TZNAME:EDT
DTSTART:20240310T070000
END:DAYLIGHT
BEGIN:STANDARD
TZOFFSETFROM:-0400
TZOFFSETTO:-0500
TZNAME:EST
DTSTART:20241103T060000
END:STANDARD
BEGIN:DAYLIGHT
TZOFFSETFROM:-0500
TZOFFSETTO:-0400
TZNAME:EDT
DTSTART:20250309T070000
END:DAYLIGHT
BEGIN:STANDARD
TZOFFSETFROM:-0400
TZOFFSETTO:-0500
TZNAME:EST
DTSTART:20251102T060000
END:STANDARD
BEGIN:DAYLIGHT
TZOFFSETFROM:-0500
TZOFFSETTO:-0400
TZNAME:EDT
DTSTART:20260308T070000
END:DAYLIGHT
BEGIN:STANDARD
TZOFFSETFROM:-0400
TZOFFSETTO:-0500
TZNAME:EST
DTSTART:20261101T060000
END:STANDARD
END:VTIMEZONE
BEGIN:VEVENT
DTSTART;TZID=America/New_York:20250426T190000
DTEND;TZID=America/New_York:20250426T210000
DTSTAMP:20260425T204044
CREATED:20250420T010708Z
LAST-MODIFIED:20250420T010708Z
UID:43928-1745694000-1745701200@864foodtrucks.com
SUMMARY:Sky Cream Ice Cream @ St Joseph's Catholic School Prom
DESCRIPTION:Greenville’s cutest ice cream truck coming to a neighborhood near you!
URL:https://864foodtrucks.com/event/sky-cream-ice-cream-st-josephs-catholic-school-prom/
LOCATION:St Joseph’s Catholic School\, 100 St Joseph's Drive\, Greenville\, South Carolina
CATEGORIES:Food Truck Schedules,Greenville
ATTACH;FMTTYPE=image/jpeg:https://864foodtrucks.com/wp-content/uploads/2022/05/image2.jpeg
ORGANIZER;CN="Sky Cream Ice Cream Truck":MAILTO:skycreamicecreamtruck@gmail.com
GEO:34.8526176;-82.3940104
X-APPLE-STRUCTURED-LOCATION;VALUE=URI;X-ADDRESS=St Joseph’s Catholic School 100 St Joseph's Drive Greenville South Carolina;X-APPLE-RADIUS=500;X-TITLE=100 St Joseph's Drive:geo:-82.3940104,34.8526176
END:VEVENT
BEGIN:VEVENT
DTSTART;TZID=America/New_York:20240915T130000
DTEND;TZID=America/New_York:20240915T150000
DTSTAMP:20260425T204044
CREATED:20240909T171328Z
LAST-MODIFIED:20240909T171328Z
UID:33835-1726405200-1726412400@864foodtrucks.com
SUMMARY:Local Pie Pizza Co @ St Joseph's High School
DESCRIPTION:
URL:https://864foodtrucks.com/event/local-pie-pizza-co-st-josephs-high-school/
LOCATION:St Joseph’s Catholic School\, 100 St Joseph's Drive\, Greenville\, South Carolina
CATEGORIES:Food Truck Schedules,Greenville
ATTACH;FMTTYPE=image/png:https://864foodtrucks.com/wp-content/uploads/2022/01/Local-Pie.png
ORGANIZER;CN="Local Pie Pizza Company":MAILTO:cory@localpiepizzacompany.com
GEO:34.8526176;-82.3940104
X-APPLE-STRUCTURED-LOCATION;VALUE=URI;X-ADDRESS=St Joseph’s Catholic School 100 St Joseph's Drive Greenville South Carolina;X-APPLE-RADIUS=500;X-TITLE=100 St Joseph's Drive:geo:-82.3940104,34.8526176
END:VEVENT
END:VCALENDAR