BEGIN:VCALENDAR
VERSION:2.0
PRODID:-//864 Food Trucks - ECPv6.15.20//NONSGML v1.0//EN
CALSCALE:GREGORIAN
METHOD:PUBLISH
X-WR-CALNAME:864 Food Trucks
X-ORIGINAL-URL:https://864foodtrucks.com
X-WR-CALDESC:Events for 864 Food Trucks
REFRESH-INTERVAL;VALUE=DURATION:PT1H
X-Robots-Tag:noindex
X-PUBLISHED-TTL:PT1H
BEGIN:VTIMEZONE
TZID:America/New_York
BEGIN:DAYLIGHT
TZOFFSETFROM:-0500
TZOFFSETTO:-0400
TZNAME:EDT
DTSTART:20230312T070000
END:DAYLIGHT
BEGIN:STANDARD
TZOFFSETFROM:-0400
TZOFFSETTO:-0500
TZNAME:EST
DTSTART:20231105T060000
END:STANDARD
BEGIN:DAYLIGHT
TZOFFSETFROM:-0500
TZOFFSETTO:-0400
TZNAME:EDT
DTSTART:20240310T070000
END:DAYLIGHT
BEGIN:STANDARD
TZOFFSETFROM:-0400
TZOFFSETTO:-0500
TZNAME:EST
DTSTART:20241103T060000
END:STANDARD
BEGIN:DAYLIGHT
TZOFFSETFROM:-0500
TZOFFSETTO:-0400
TZNAME:EDT
DTSTART:20250309T070000
END:DAYLIGHT
BEGIN:STANDARD
TZOFFSETFROM:-0400
TZOFFSETTO:-0500
TZNAME:EST
DTSTART:20251102T060000
END:STANDARD
BEGIN:DAYLIGHT
TZOFFSETFROM:-0500
TZOFFSETTO:-0400
TZNAME:EDT
DTSTART:20260308T070000
END:DAYLIGHT
BEGIN:STANDARD
TZOFFSETFROM:-0400
TZOFFSETTO:-0500
TZNAME:EST
DTSTART:20261101T060000
END:STANDARD
END:VTIMEZONE
BEGIN:VEVENT
DTSTART;TZID=America/New_York:20251122T190000
DTEND;TZID=America/New_York:20251122T220000
DTSTAMP:20260425T142952
CREATED:20251026T225032Z
LAST-MODIFIED:20251026T225032Z
UID:56408-1763838000-1763848800@864foodtrucks.com
SUMMARY:Island Sun @ Greenville Night Market
DESCRIPTION:Mobile Kitchen serving Caribbean Cuisine to the upstate\, SC\nCaterings\, pop ups\, and private dinners\nDm for more info
URL:https://864foodtrucks.com/event/island-sun-greenville-night-market-2/2025-11-22/
LOCATION:Sum Bar\, 307 E Washington St\, Greenville\, SC\, United States
CATEGORIES:Food Truck Schedules,Greenville
ATTACH;FMTTYPE=image/jpeg:https://864foodtrucks.com/wp-content/uploads/2023/07/IslandSun864.jpg
END:VEVENT
BEGIN:VEVENT
DTSTART;TZID=America/New_York:20251031T190000
DTEND;TZID=America/New_York:20251031T220000
DTSTAMP:20260425T142952
CREATED:20251026T225032Z
LAST-MODIFIED:20251118T005956Z
UID:55566-1761937200-1761948000@864foodtrucks.com
SUMMARY:Island Sun @ Greenville Night Market
DESCRIPTION:Mobile Kitchen serving Caribbean Cuisine to the upstate\, SC\nCaterings\, pop ups\, and private dinners\nDm for more info
URL:https://864foodtrucks.com/event/island-sun-greenville-night-market-2/2025-10-31/
LOCATION:Sum Bar\, 307 E Washington St\, Greenville\, SC\, United States
CATEGORIES:Food Truck Schedules,Greenville
ATTACH;FMTTYPE=image/jpeg:https://864foodtrucks.com/wp-content/uploads/2023/07/IslandSun864.jpg
END:VEVENT
BEGIN:VEVENT
DTSTART;TZID=America/New_York:20240217T180000
DTEND;TZID=America/New_York:20240217T220000
DTSTAMP:20260425T142952
CREATED:20240212T202740Z
LAST-MODIFIED:20240212T202740Z
UID:25914-1708192800-1708207200@864foodtrucks.com
SUMMARY:We Got the Beets @ Sum Bar
DESCRIPTION:YUMMY EATS WITHOUT THE MEATS!\nPowered by love…and plants 🌱🌈\n📍 Greenville\, SC
URL:https://864foodtrucks.com/event/we-got-the-beets-sum-bar/
LOCATION:Sum Bar\, 307 E Washington St\, Greenville\, SC\, United States
CATEGORIES:Food Truck Schedules,Greenville
ATTACH;FMTTYPE=image/jpeg:https://864foodtrucks.com/wp-content/uploads/2023/10/We-Got-the-Beets.jpg
END:VEVENT
END:VCALENDAR