BEGIN:VCALENDAR
VERSION:2.0
PRODID:-//864 Food Trucks - ECPv6.15.20//NONSGML v1.0//EN
CALSCALE:GREGORIAN
METHOD:PUBLISH
X-ORIGINAL-URL:https://864foodtrucks.com
X-WR-CALDESC:Events for 864 Food Trucks
REFRESH-INTERVAL;VALUE=DURATION:PT1H
X-Robots-Tag:noindex
X-PUBLISHED-TTL:PT1H
BEGIN:VTIMEZONE
TZID:America/New_York
BEGIN:DAYLIGHT
TZOFFSETFROM:-0500
TZOFFSETTO:-0400
TZNAME:EDT
DTSTART:20220313T070000
END:DAYLIGHT
BEGIN:STANDARD
TZOFFSETFROM:-0400
TZOFFSETTO:-0500
TZNAME:EST
DTSTART:20221106T060000
END:STANDARD
BEGIN:DAYLIGHT
TZOFFSETFROM:-0500
TZOFFSETTO:-0400
TZNAME:EDT
DTSTART:20230312T070000
END:DAYLIGHT
BEGIN:STANDARD
TZOFFSETFROM:-0400
TZOFFSETTO:-0500
TZNAME:EST
DTSTART:20231105T060000
END:STANDARD
BEGIN:DAYLIGHT
TZOFFSETFROM:-0500
TZOFFSETTO:-0400
TZNAME:EDT
DTSTART:20240310T070000
END:DAYLIGHT
BEGIN:STANDARD
TZOFFSETFROM:-0400
TZOFFSETTO:-0500
TZNAME:EST
DTSTART:20241103T060000
END:STANDARD
BEGIN:DAYLIGHT
TZOFFSETFROM:-0500
TZOFFSETTO:-0400
TZNAME:EDT
DTSTART:20250309T070000
END:DAYLIGHT
BEGIN:STANDARD
TZOFFSETFROM:-0400
TZOFFSETTO:-0500
TZNAME:EST
DTSTART:20251102T060000
END:STANDARD
END:VTIMEZONE
BEGIN:VEVENT
DTSTART;TZID=America/New_York:20240524T173000
DTEND;TZID=America/New_York:20240524T200000
DTSTAMP:20260424T211144
CREATED:20240519T221328Z
LAST-MODIFIED:20241202T150131Z
UID:28313-1716571800-1716580800@864foodtrucks.com
SUMMARY:Matty's Pattys @ Kitchen Emporium
DESCRIPTION:We’re serving the friendliest hamburger this side of the Mississippi! Coming soon to Anderson\, SC
URL:https://864foodtrucks.com/event/mattys-pattys-kitchen-emporium-3/2024-05-24/
LOCATION:The Kitchen Emporium\, 418 N Main St\, Anderson\, South Carolina
CATEGORIES:Anderson,Food Truck Schedules
ATTACH;FMTTYPE=image/jpeg:https://864foodtrucks.com/wp-content/uploads/2022/10/Mattys-Pattys.jpg
ORGANIZER;CN="Mattys Pattys":MAILTO:thebradfordfoodgroup@gmail.com
GEO:34.5066776;-82.6506018
X-APPLE-STRUCTURED-LOCATION;VALUE=URI;X-ADDRESS=The Kitchen Emporium 418 N Main St Anderson South Carolina;X-APPLE-RADIUS=500;X-TITLE=418 N Main St:geo:-82.6506018,34.5066776
END:VEVENT
BEGIN:VEVENT
DTSTART;TZID=America/New_York:20240510T173000
DTEND;TZID=America/New_York:20240510T200000
DTSTAMP:20260424T211144
CREATED:20240506T005421Z
LAST-MODIFIED:20240915T162555Z
UID:28102-1715362200-1715371200@864foodtrucks.com
SUMMARY:Matty's Pattys @ Kitchen Emporium
DESCRIPTION:We’re serving the friendliest hamburger this side of the Mississippi! Coming soon to Anderson\, SC
URL:https://864foodtrucks.com/event/mattys-pattys-kitchen-emporium-2/2024-05-10/
LOCATION:The Kitchen Emporium\, 418 N Main St\, Anderson\, South Carolina
CATEGORIES:Food Truck Schedules,Greenville
ATTACH;FMTTYPE=image/jpeg:https://864foodtrucks.com/wp-content/uploads/2022/10/Mattys-Pattys.jpg
ORGANIZER;CN="Mattys Pattys":MAILTO:thebradfordfoodgroup@gmail.com
GEO:34.5066776;-82.6506018
X-APPLE-STRUCTURED-LOCATION;VALUE=URI;X-ADDRESS=The Kitchen Emporium 418 N Main St Anderson South Carolina;X-APPLE-RADIUS=500;X-TITLE=418 N Main St:geo:-82.6506018,34.5066776
END:VEVENT
BEGIN:VEVENT
DTSTART;TZID=America/New_York:20231124T103000
DTEND;TZID=America/New_York:20231124T103000
DTSTAMP:20260424T211144
CREATED:20231122T164153Z
LAST-MODIFIED:20231122T164153Z
UID:24259-1700821800-1700821800@864foodtrucks.com
SUMMARY:Rad Dad's BBQ @ The Kitchen Emporium
DESCRIPTION:We at Rad Dad’s are determined to bring the best BBQ and friendliest service possible. If there is one thing we love more than slow cooked BBQ it’s people! We want to bring family and friends together because that’s what BBQ truly represents.
URL:https://864foodtrucks.com/event/rad-dads-bbq-the-kitchen-emporium-2/
LOCATION:The Kitchen Emporium\, 418 N Main St\, Anderson\, South Carolina
CATEGORIES:Anderson,Food Truck Schedules
ATTACH;FMTTYPE=image/jpeg:https://864foodtrucks.com/wp-content/uploads/2021/05/Rad-Dads-BBQ-and-Catering-Truck.jpg
ORGANIZER;CN="Rad Dad's BBQ and Catering":MAILTO:info@raddadsbbq.com
GEO:34.5066776;-82.6506018
X-APPLE-STRUCTURED-LOCATION;VALUE=URI;X-ADDRESS=The Kitchen Emporium 418 N Main St Anderson South Carolina;X-APPLE-RADIUS=500;X-TITLE=418 N Main St:geo:-82.6506018,34.5066776
END:VEVENT
BEGIN:VEVENT
DTSTART;TZID=America/New_York:20230811T170000
DTEND;TZID=America/New_York:20230811T200000
DTSTAMP:20260424T211144
CREATED:20230808T134532Z
LAST-MODIFIED:20231214T233822Z
UID:21945-1691773200-1691784000@864foodtrucks.com
SUMMARY:Kodesh BBQ Bowls @ The Kitchen Emporium
DESCRIPTION:Kodesh BBQ Bowls is a mobile food trailer that provides a heap amount of Levitical clean\, flavorful\, pit smoked BBQ. We’ve also come up with a link between enjoying our delicious BBQ and providing healthier options\, our cultural inspired bowls!
URL:https://864foodtrucks.com/event/kodesh-bbq-bowls-the-kitchen-emporium-2/2023-08-11/
LOCATION:The Kitchen Emporium\, 418 N Main St\, Anderson\, South Carolina
CATEGORIES:Anderson,Food Truck Schedules
ATTACH;FMTTYPE=image/jpeg:https://864foodtrucks.com/wp-content/uploads/2023/07/Kodesh-BBQ.jpg
ORGANIZER;CN="Kodesh BBQ & Bowls":MAILTO:kodeshbbq@gmail.com
GEO:34.5066776;-82.6506018
X-APPLE-STRUCTURED-LOCATION;VALUE=URI;X-ADDRESS=The Kitchen Emporium 418 N Main St Anderson South Carolina;X-APPLE-RADIUS=500;X-TITLE=418 N Main St:geo:-82.6506018,34.5066776
END:VEVENT
BEGIN:VEVENT
DTSTART;TZID=America/New_York:20230707T170000
DTEND;TZID=America/New_York:20230707T200000
DTSTAMP:20260424T211144
CREATED:20230706T155856Z
LAST-MODIFIED:20230706T155856Z
UID:20591-1688749200-1688760000@864foodtrucks.com
SUMMARY:Kodesh BBQ Bowls @ The Kitchen Emporium
DESCRIPTION:Kodesh BBQ Bowls is a mobile food trailer that provides a heap amount of Levitical clean\, flavorful\, pit smoked BBQ. We’ve also come up with a link between enjoying our delicious BBQ and providing healthier options\, our cultural inspired bowls!
URL:https://864foodtrucks.com/event/kodesh-bbq-bowls-the-kitchen-emporium/
LOCATION:The Kitchen Emporium\, 418 N Main St\, Anderson\, South Carolina
CATEGORIES:Anderson,Food Truck Schedules
ATTACH;FMTTYPE=image/jpeg:https://864foodtrucks.com/wp-content/uploads/2022/05/Kodesh-BBQ.jpg
ORGANIZER;CN="Kodesh BBQ & Bowls":MAILTO:kodeshbbq@gmail.com
GEO:34.5066776;-82.6506018
X-APPLE-STRUCTURED-LOCATION;VALUE=URI;X-ADDRESS=The Kitchen Emporium 418 N Main St Anderson South Carolina;X-APPLE-RADIUS=500;X-TITLE=418 N Main St:geo:-82.6506018,34.5066776
END:VEVENT
BEGIN:VEVENT
DTSTART;TZID=America/New_York:20230310T170000
DTEND;TZID=America/New_York:20230310T200000
DTSTAMP:20260424T211144
CREATED:20230308T193818Z
LAST-MODIFIED:20231030T132338Z
UID:17356-1678467600-1678478400@864foodtrucks.com
SUMMARY:Rad Dad's BBQ @ The Kitchen Emporium
DESCRIPTION:We at Rad Dad’s are determined to bring the best BBQ and friendliest service possible. If there is one thing we love more than slow cooked BBQ it’s people! We want to bring family and friends together because that’s what BBQ truly represents.
URL:https://864foodtrucks.com/event/rad-dads-bbq-the-kitchen-emporium/2023-03-10/
LOCATION:The Kitchen Emporium\, 418 N Main St\, Anderson\, South Carolina
CATEGORIES:Anderson,Food Truck Schedules
ATTACH;FMTTYPE=image/jpeg:https://864foodtrucks.com/wp-content/uploads/2021/05/Rad-Dads-BBQ-and-Catering-Truck.jpg
ORGANIZER;CN="Rad Dad's BBQ and Catering":MAILTO:info@raddadsbbq.com
GEO:34.5066776;-82.6506018
X-APPLE-STRUCTURED-LOCATION;VALUE=URI;X-ADDRESS=The Kitchen Emporium 418 N Main St Anderson South Carolina;X-APPLE-RADIUS=500;X-TITLE=418 N Main St:geo:-82.6506018,34.5066776
END:VEVENT
BEGIN:VEVENT
DTSTART;TZID=America/New_York:20230127T170000
DTEND;TZID=America/New_York:20230127T190000
DTSTAMP:20260424T211144
CREATED:20230122T205345Z
LAST-MODIFIED:20240325T183024Z
UID:16261-1674838800-1674846000@864foodtrucks.com
SUMMARY:Matty's Pattys @ The Kitchen Emporium
DESCRIPTION:We’re serving the friendliest hamburger this side of the Mississippi! Coming soon to Anderson\, SC
URL:https://864foodtrucks.com/event/mattys-pattys-the-kitchen-emporium/2023-01-27/
LOCATION:The Kitchen Emporium\, 418 N Main St\, Anderson\, South Carolina
CATEGORIES:Anderson,Food Truck Schedules
ATTACH;FMTTYPE=image/jpeg:https://864foodtrucks.com/wp-content/uploads/2022/10/Mattys-Pattys.jpg
ORGANIZER;CN="Mattys Pattys":MAILTO:thebradfordfoodgroup@gmail.com
GEO:34.5066776;-82.6506018
X-APPLE-STRUCTURED-LOCATION;VALUE=URI;X-ADDRESS=The Kitchen Emporium 418 N Main St Anderson South Carolina;X-APPLE-RADIUS=500;X-TITLE=418 N Main St:geo:-82.6506018,34.5066776
END:VEVENT
BEGIN:VEVENT
DTSTART;TZID=America/New_York:20230106T170000
DTEND;TZID=America/New_York:20230106T190000
DTSTAMP:20260424T211144
CREATED:20230101T213821Z
LAST-MODIFIED:20230101T213821Z
UID:15871-1673024400-1673031600@864foodtrucks.com
SUMMARY:Matty's Pattys @ Kitchen Emporium
DESCRIPTION:We’re serving the friendliest hamburger this side of the Mississippi! Coming soon to Anderson\, SC
URL:https://864foodtrucks.com/event/mattys-pattys-kitchen-emporium/
LOCATION:The Kitchen Emporium\, 418 N Main St\, Anderson\, South Carolina
CATEGORIES:Anderson,Food Truck Schedules
ATTACH;FMTTYPE=image/jpeg:https://864foodtrucks.com/wp-content/uploads/2022/10/Mattys-Pattys.jpg
ORGANIZER;CN="Mattys Pattys":MAILTO:thebradfordfoodgroup@gmail.com
GEO:34.5066776;-82.6506018
X-APPLE-STRUCTURED-LOCATION;VALUE=URI;X-ADDRESS=The Kitchen Emporium 418 N Main St Anderson South Carolina;X-APPLE-RADIUS=500;X-TITLE=418 N Main St:geo:-82.6506018,34.5066776
END:VEVENT
END:VCALENDAR