BEGIN:VCALENDAR
VERSION:2.0
PRODID:-//864 Food Trucks - ECPv6.15.20//NONSGML v1.0//EN
CALSCALE:GREGORIAN
METHOD:PUBLISH
X-ORIGINAL-URL:https://864foodtrucks.com
X-WR-CALDESC:Events for 864 Food Trucks
REFRESH-INTERVAL;VALUE=DURATION:PT1H
X-Robots-Tag:noindex
X-PUBLISHED-TTL:PT1H
BEGIN:VTIMEZONE
TZID:America/New_York
BEGIN:DAYLIGHT
TZOFFSETFROM:-0500
TZOFFSETTO:-0400
TZNAME:EDT
DTSTART:20230312T070000
END:DAYLIGHT
BEGIN:STANDARD
TZOFFSETFROM:-0400
TZOFFSETTO:-0500
TZNAME:EST
DTSTART:20231105T060000
END:STANDARD
BEGIN:DAYLIGHT
TZOFFSETFROM:-0500
TZOFFSETTO:-0400
TZNAME:EDT
DTSTART:20240310T070000
END:DAYLIGHT
BEGIN:STANDARD
TZOFFSETFROM:-0400
TZOFFSETTO:-0500
TZNAME:EST
DTSTART:20241103T060000
END:STANDARD
BEGIN:DAYLIGHT
TZOFFSETFROM:-0500
TZOFFSETTO:-0400
TZNAME:EDT
DTSTART:20250309T070000
END:DAYLIGHT
BEGIN:STANDARD
TZOFFSETFROM:-0400
TZOFFSETTO:-0500
TZNAME:EST
DTSTART:20251102T060000
END:STANDARD
BEGIN:DAYLIGHT
TZOFFSETFROM:-0500
TZOFFSETTO:-0400
TZNAME:EDT
DTSTART:20260308T070000
END:DAYLIGHT
BEGIN:STANDARD
TZOFFSETFROM:-0400
TZOFFSETTO:-0500
TZNAME:EST
DTSTART:20261101T060000
END:STANDARD
END:VTIMEZONE
BEGIN:VEVENT
DTSTART;TZID=America/New_York:20251120T160000
DTEND;TZID=America/New_York:20251120T180000
DTSTAMP:20260425T131008
CREATED:20240715T144804Z
LAST-MODIFIED:20240715T144804Z
UID:56413-1763654400-1763661600@864foodtrucks.com
SUMMARY:Churro Masters @ The Shoals Apartments
DESCRIPTION:Delicious CHURROS made fresh!
URL:https://864foodtrucks.com/event/churro-masters-the-shoals-apartments/2025-11-20/
LOCATION:The Shoals Apartments\, Enoree Shoals Road\, Greer\, South Carolina\, 29650\, United States
CATEGORIES:Food Truck Schedules,Greer
ATTACH;FMTTYPE=image/jpeg:https://864foodtrucks.com/wp-content/uploads/2023/05/Churro-Masters-1.jpg
ORGANIZER;CN="Churro Masters":MAILTO:Churromastersemail@gmail.com
GEO:34.876285;-82.2408139
X-APPLE-STRUCTURED-LOCATION;VALUE=URI;X-ADDRESS=The Shoals Apartments Enoree Shoals Road Greer South Carolina 29650 United States;X-APPLE-RADIUS=500;X-TITLE=Enoree Shoals Road:geo:-82.2408139,34.876285
END:VEVENT
BEGIN:VEVENT
DTSTART;TZID=America/New_York:20250314T153000
DTEND;TZID=America/New_York:20250314T190000
DTSTAMP:20260425T131008
CREATED:20250308T183749Z
LAST-MODIFIED:20250308T183749Z
UID:42908-1741966200-1741978800@864foodtrucks.com
SUMMARY:Cinnabon @ The Shoals
DESCRIPTION:Cinnabon Food Truck Greenville
URL:https://864foodtrucks.com/event/cinnabon-the-shoals/
LOCATION:The Shoals Apartments\, Enoree Shoals Road\, Greer\, South Carolina\, 29650\, United States
CATEGORIES:Food Truck Schedules,Greer
ATTACH;FMTTYPE=image/jpeg:https://864foodtrucks.com/wp-content/uploads/2024/12/326870080_1829549937401559_2632445834433428235_n-2.jpg
ORGANIZER;CN="Cinnabon Greenville":MAILTO:info@hotbonssc.com
GEO:34.876285;-82.2408139
X-APPLE-STRUCTURED-LOCATION;VALUE=URI;X-ADDRESS=The Shoals Apartments Enoree Shoals Road Greer South Carolina 29650 United States;X-APPLE-RADIUS=500;X-TITLE=Enoree Shoals Road:geo:-82.2408139,34.876285
END:VEVENT
BEGIN:VEVENT
DTSTART;TZID=America/New_York:20250221T153000
DTEND;TZID=America/New_York:20250221T190000
DTSTAMP:20260425T131008
CREATED:20250217T003111Z
LAST-MODIFIED:20250217T003111Z
UID:42437-1740151800-1740164400@864foodtrucks.com
SUMMARY:Cinnabon Food Truck @ The Shaols
DESCRIPTION:Cinnabon Food Truck Greenville
URL:https://864foodtrucks.com/event/cinnabon-food-truck-the-shaols/
LOCATION:The Shoals Apartments\, Enoree Shoals Road\, Greer\, South Carolina\, 29650\, United States
CATEGORIES:Food Truck Schedules,Greer
ATTACH;FMTTYPE=image/jpeg:https://864foodtrucks.com/wp-content/uploads/2024/12/326870080_1829549937401559_2632445834433428235_n-2.jpg
ORGANIZER;CN="Cinnabon Greenville":MAILTO:info@hotbonssc.com
GEO:34.876285;-82.2408139
X-APPLE-STRUCTURED-LOCATION;VALUE=URI;X-ADDRESS=The Shoals Apartments Enoree Shoals Road Greer South Carolina 29650 United States;X-APPLE-RADIUS=500;X-TITLE=Enoree Shoals Road:geo:-82.2408139,34.876285
END:VEVENT
BEGIN:VEVENT
DTSTART;TZID=America/New_York:20250131T170000
DTEND;TZID=America/New_York:20250131T203000
DTSTAMP:20260425T131008
CREATED:20250127T185740Z
LAST-MODIFIED:20250624T132348Z
UID:42000-1738342800-1738355400@864foodtrucks.com
SUMMARY:Las Cazuelas @ The Shoals
DESCRIPTION:
URL:https://864foodtrucks.com/event/las-cazuelas-the-shoals/2025-01-31/
LOCATION:The Shoals Apartments\, Enoree Shoals Road\, Greer\, South Carolina\, 29650\, United States
CATEGORIES:Food Truck Schedules,Greer
ATTACH;FMTTYPE=image/png:https://864foodtrucks.com/wp-content/uploads/2024/12/Las-Cazuelas.png
ORGANIZER;CN="Las Cazuelas":MAILTO:lascazuelascatering.llc@gmail.com
GEO:34.876285;-82.2408139
X-APPLE-STRUCTURED-LOCATION;VALUE=URI;X-ADDRESS=The Shoals Apartments Enoree Shoals Road Greer South Carolina 29650 United States;X-APPLE-RADIUS=500;X-TITLE=Enoree Shoals Road:geo:-82.2408139,34.876285
END:VEVENT
BEGIN:VEVENT
DTSTART;TZID=America/New_York:20240719T170000
DTEND;TZID=America/New_York:20240719T200000
DTSTAMP:20260425T131009
CREATED:20240715T144804Z
LAST-MODIFIED:20251118T010250Z
UID:32294-1721408400-1721419200@864foodtrucks.com
SUMMARY:Churro Masters @ The Shoals Apartments
DESCRIPTION:Delicious CHURROS made fresh!
URL:https://864foodtrucks.com/event/churro-masters-the-shoals-apartments/2024-07-19/
LOCATION:The Shoals Apartments\, Enoree Shoals Road\, Greer\, South Carolina\, 29650\, United States
CATEGORIES:Food Truck Schedules,Greer
ATTACH;FMTTYPE=image/jpeg:https://864foodtrucks.com/wp-content/uploads/2023/05/Churro-Masters-1.jpg
ORGANIZER;CN="Churro Masters":MAILTO:Churromastersemail@gmail.com
GEO:34.876285;-82.2408139
X-APPLE-STRUCTURED-LOCATION;VALUE=URI;X-ADDRESS=The Shoals Apartments Enoree Shoals Road Greer South Carolina 29650 United States;X-APPLE-RADIUS=500;X-TITLE=Enoree Shoals Road:geo:-82.2408139,34.876285
END:VEVENT
END:VCALENDAR