BEGIN:VCALENDAR
VERSION:2.0
PRODID:-//864 Food Trucks - ECPv6.15.20//NONSGML v1.0//EN
CALSCALE:GREGORIAN
METHOD:PUBLISH
X-WR-CALNAME:864 Food Trucks
X-ORIGINAL-URL:https://864foodtrucks.com
X-WR-CALDESC:Events for 864 Food Trucks
REFRESH-INTERVAL;VALUE=DURATION:PT1H
X-Robots-Tag:noindex
X-PUBLISHED-TTL:PT1H
BEGIN:VTIMEZONE
TZID:America/New_York
BEGIN:DAYLIGHT
TZOFFSETFROM:-0500
TZOFFSETTO:-0400
TZNAME:EDT
DTSTART:20230312T070000
END:DAYLIGHT
BEGIN:STANDARD
TZOFFSETFROM:-0400
TZOFFSETTO:-0500
TZNAME:EST
DTSTART:20231105T060000
END:STANDARD
BEGIN:DAYLIGHT
TZOFFSETFROM:-0500
TZOFFSETTO:-0400
TZNAME:EDT
DTSTART:20240310T070000
END:DAYLIGHT
BEGIN:STANDARD
TZOFFSETFROM:-0400
TZOFFSETTO:-0500
TZNAME:EST
DTSTART:20241103T060000
END:STANDARD
BEGIN:DAYLIGHT
TZOFFSETFROM:-0500
TZOFFSETTO:-0400
TZNAME:EDT
DTSTART:20250309T070000
END:DAYLIGHT
BEGIN:STANDARD
TZOFFSETFROM:-0400
TZOFFSETTO:-0500
TZNAME:EST
DTSTART:20251102T060000
END:STANDARD
END:VTIMEZONE
BEGIN:VEVENT
DTSTART;TZID=America/New_York:20240712T170000
DTEND;TZID=America/New_York:20240712T200000
DTSTAMP:20260424T195045
CREATED:20240708T152837Z
LAST-MODIFIED:20241209T214849Z
UID:31458-1720803600-1720814400@864foodtrucks.com
SUMMARY:Lobster Dogs @ The Vault
DESCRIPTION:Food truck serving the Best Lobster Rolls & Stuffed Avocados in the Carolinas
URL:https://864foodtrucks.com/event/lobster-dogs-the-vault-2/2024-07-12/
LOCATION:The Vault Bottle Shop\, 131 N Main St\, Clover\, South Carolina
CATEGORIES:Clover,Food Truck Schedules
ATTACH;FMTTYPE=image/jpeg:https://864foodtrucks.com/wp-content/uploads/2021/05/lobster-dogs-Food-Truck.jpg
ORGANIZER;CN="Lobster Dogs":MAILTO:lobsterdogs3@gmail.com
GEO:35.1253843;-81.2188326
X-APPLE-STRUCTURED-LOCATION;VALUE=URI;X-ADDRESS=The Vault Bottle Shop 131 N Main St Clover South Carolina;X-APPLE-RADIUS=500;X-TITLE=131 N Main St:geo:-81.2188326,35.1253843
END:VEVENT
BEGIN:VEVENT
DTSTART;TZID=America/New_York:20240510T170000
DTEND;TZID=America/New_York:20240510T200000
DTSTAMP:20260424T195045
CREATED:20240507T001538Z
LAST-MODIFIED:20240507T001538Z
UID:28131-1715360400-1715371200@864foodtrucks.com
SUMMARY:Lobster Dogs @ The Vault
DESCRIPTION:Food truck serving the Best Lobster Rolls & Stuffed Avocados in the Carolinas
URL:https://864foodtrucks.com/event/lobster-dogs-the-vault/
LOCATION:The Vault Bottle Shop\, 131 N Main St\, Clover\, South Carolina
CATEGORIES:Food Truck Schedules
ATTACH;FMTTYPE=image/jpeg:https://864foodtrucks.com/wp-content/uploads/2021/05/lobster-dogs-Food-Truck.jpg
ORGANIZER;CN="Lobster Dogs":MAILTO:lobsterdogs3@gmail.com
GEO:35.1253843;-81.2188326
X-APPLE-STRUCTURED-LOCATION;VALUE=URI;X-ADDRESS=The Vault Bottle Shop 131 N Main St Clover South Carolina;X-APPLE-RADIUS=500;X-TITLE=131 N Main St:geo:-81.2188326,35.1253843
END:VEVENT
BEGIN:VEVENT
DTSTART;TZID=America/New_York:20240403T170000
DTEND;TZID=America/New_York:20240403T190000
DTSTAMP:20260424T195045
CREATED:20240401T190002Z
LAST-MODIFIED:20240401T190002Z
UID:27105-1712163600-1712170800@864foodtrucks.com
SUMMARY:Lobster Dogs @ The Vault Bottle Shop
DESCRIPTION:Food truck serving the Best Lobster Rolls & Stuffed Avocados in the Carolinas
URL:https://864foodtrucks.com/event/lobster-dogs-the-vault-bottle-shop-2/
LOCATION:The Vault Bottle Shop\, 131 N Main St\, Clover\, South Carolina
CATEGORIES:Clover,Food Truck Schedules
ATTACH;FMTTYPE=image/jpeg:https://864foodtrucks.com/wp-content/uploads/2021/05/lobster-dogs-Food-Truck.jpg
ORGANIZER;CN="Lobster Dogs":MAILTO:lobsterdogs3@gmail.com
GEO:35.1253843;-81.2188326
X-APPLE-STRUCTURED-LOCATION;VALUE=URI;X-ADDRESS=The Vault Bottle Shop 131 N Main St Clover South Carolina;X-APPLE-RADIUS=500;X-TITLE=131 N Main St:geo:-81.2188326,35.1253843
END:VEVENT
BEGIN:VEVENT
DTSTART;TZID=America/New_York:20240306T170000
DTEND;TZID=America/New_York:20240306T200000
DTSTAMP:20260424T195045
CREATED:20240302T223602Z
LAST-MODIFIED:20240302T223602Z
UID:26451-1709744400-1709755200@864foodtrucks.com
SUMMARY:Lobster Dogs @ The Vault Bottle Shop
DESCRIPTION:Food truck serving the Best Lobster Rolls & Stuffed Avocados in the Carolinas
URL:https://864foodtrucks.com/event/lobster-dogs-the-vault-bottle-shop/
LOCATION:The Vault Bottle Shop\, 131 N Main St\, Clover\, South Carolina
CATEGORIES:Clover,Food Truck Schedules
ATTACH;FMTTYPE=image/jpeg:https://864foodtrucks.com/wp-content/uploads/2021/05/lobster-dogs-Food-Truck.jpg
ORGANIZER;CN="Lobster Dogs":MAILTO:lobsterdogs3@gmail.com
GEO:35.1253843;-81.2188326
X-APPLE-STRUCTURED-LOCATION;VALUE=URI;X-ADDRESS=The Vault Bottle Shop 131 N Main St Clover South Carolina;X-APPLE-RADIUS=500;X-TITLE=131 N Main St:geo:-81.2188326,35.1253843
END:VEVENT
END:VCALENDAR