BEGIN:VCALENDAR
VERSION:2.0
PRODID:-//864 Food Trucks - ECPv6.15.20//NONSGML v1.0//EN
CALSCALE:GREGORIAN
METHOD:PUBLISH
X-ORIGINAL-URL:https://864foodtrucks.com
X-WR-CALDESC:Events for 864 Food Trucks
REFRESH-INTERVAL;VALUE=DURATION:PT1H
X-Robots-Tag:noindex
X-PUBLISHED-TTL:PT1H
BEGIN:VTIMEZONE
TZID:America/New_York
BEGIN:DAYLIGHT
TZOFFSETFROM:-0500
TZOFFSETTO:-0400
TZNAME:EDT
DTSTART:20220313T070000
END:DAYLIGHT
BEGIN:STANDARD
TZOFFSETFROM:-0400
TZOFFSETTO:-0500
TZNAME:EST
DTSTART:20221106T060000
END:STANDARD
BEGIN:DAYLIGHT
TZOFFSETFROM:-0500
TZOFFSETTO:-0400
TZNAME:EDT
DTSTART:20230312T070000
END:DAYLIGHT
BEGIN:STANDARD
TZOFFSETFROM:-0400
TZOFFSETTO:-0500
TZNAME:EST
DTSTART:20231105T060000
END:STANDARD
BEGIN:DAYLIGHT
TZOFFSETFROM:-0500
TZOFFSETTO:-0400
TZNAME:EDT
DTSTART:20240310T070000
END:DAYLIGHT
BEGIN:STANDARD
TZOFFSETFROM:-0400
TZOFFSETTO:-0500
TZNAME:EST
DTSTART:20241103T060000
END:STANDARD
END:VTIMEZONE
BEGIN:VEVENT
DTSTART;TZID=America/New_York:20230520T080000
DTEND;TZID=America/New_York:20230520T120000
DTSTAMP:20260425T163932
CREATED:20230515T202632Z
LAST-MODIFIED:20230515T202632Z
UID:19030-1684569600-1684584000@864foodtrucks.com
SUMMARY:Obey the Crave @ Toyota of Greenville
DESCRIPTION:Homemade Cookies Baked randomly. Please follow our Instagram to see when we are taking orders. Best way to get cookies fresh. Currently servicing the Greenville SC area.
URL:https://864foodtrucks.com/event/obey-the-crave-toyota-of-greenville/
LOCATION:Toyota of Greenville\, 2686 Laurens Rd\, Greenville\, South Carolina
CATEGORIES:Food Truck Schedules,Greenville
ATTACH;FMTTYPE=image/jpeg:https://864foodtrucks.com/wp-content/uploads/2021/05/obey-the-crave-truck.jpg
ORGANIZER;CN="Obey the Crave":MAILTO:creamcookiesmiami@gmail.com
GEO:34.8191455;-82.3421622
X-APPLE-STRUCTURED-LOCATION;VALUE=URI;X-ADDRESS=Toyota of Greenville 2686 Laurens Rd Greenville South Carolina;X-APPLE-RADIUS=500;X-TITLE=2686 Laurens Rd:geo:-82.3421622,34.8191455
END:VEVENT
END:VCALENDAR