BEGIN:VCALENDAR
VERSION:2.0
PRODID:-//864 Food Trucks - ECPv6.15.20//NONSGML v1.0//EN
CALSCALE:GREGORIAN
METHOD:PUBLISH
X-ORIGINAL-URL:https://864foodtrucks.com
X-WR-CALDESC:Events for 864 Food Trucks
REFRESH-INTERVAL;VALUE=DURATION:PT1H
X-Robots-Tag:noindex
X-PUBLISHED-TTL:PT1H
BEGIN:VTIMEZONE
TZID:America/New_York
BEGIN:DAYLIGHT
TZOFFSETFROM:-0500
TZOFFSETTO:-0400
TZNAME:EDT
DTSTART:20220313T070000
END:DAYLIGHT
BEGIN:STANDARD
TZOFFSETFROM:-0400
TZOFFSETTO:-0500
TZNAME:EST
DTSTART:20221106T060000
END:STANDARD
BEGIN:DAYLIGHT
TZOFFSETFROM:-0500
TZOFFSETTO:-0400
TZNAME:EDT
DTSTART:20230312T070000
END:DAYLIGHT
BEGIN:STANDARD
TZOFFSETFROM:-0400
TZOFFSETTO:-0500
TZNAME:EST
DTSTART:20231105T060000
END:STANDARD
BEGIN:DAYLIGHT
TZOFFSETFROM:-0500
TZOFFSETTO:-0400
TZNAME:EDT
DTSTART:20240310T070000
END:DAYLIGHT
BEGIN:STANDARD
TZOFFSETFROM:-0400
TZOFFSETTO:-0500
TZNAME:EST
DTSTART:20241103T060000
END:STANDARD
BEGIN:DAYLIGHT
TZOFFSETFROM:-0500
TZOFFSETTO:-0400
TZNAME:EDT
DTSTART:20250309T070000
END:DAYLIGHT
BEGIN:STANDARD
TZOFFSETFROM:-0400
TZOFFSETTO:-0500
TZNAME:EST
DTSTART:20251102T060000
END:STANDARD
END:VTIMEZONE
BEGIN:VEVENT
DTSTART;TZID=America/New_York:20240206T173000
DTEND;TZID=America/New_York:20240206T193000
DTSTAMP:20260425T103549
CREATED:20240206T004525Z
LAST-MODIFIED:20240206T004525Z
UID:25706-1707240600-1707247800@864foodtrucks.com
SUMMARY:The Big Fuss @ Trailside Verdae
DESCRIPTION:We are a mobile food truck that specializes in fresh food with amazing flavor.
URL:https://864foodtrucks.com/event/the-big-fuss-trailside-verdae/
LOCATION:Trailside Verdae Apartments\, 180 Woodruff Rd\, Greenville\, South Carolina
CATEGORIES:Food Truck Schedules,Greenville
ATTACH;FMTTYPE=image/jpeg:https://864foodtrucks.com/wp-content/uploads/2023/07/Big-Fuss-Fresh-Food.jpg
GEO:34.8305244;-82.344078
X-APPLE-STRUCTURED-LOCATION;VALUE=URI;X-ADDRESS=Trailside Verdae Apartments 180 Woodruff Rd Greenville South Carolina;X-APPLE-RADIUS=500;X-TITLE=180 Woodruff Rd:geo:-82.344078,34.8305244
END:VEVENT
BEGIN:VEVENT
DTSTART;TZID=America/New_York:20240117T170000
DTEND;TZID=America/New_York:20240117T193000
DTSTAMP:20260425T103549
CREATED:20240114T192144Z
LAST-MODIFIED:20260330T184615Z
UID:25083-1705510800-1705519800@864foodtrucks.com
SUMMARY:Local Pie Pizza Co @ Trailside Verdae
DESCRIPTION:Artisan Pizza Food Truck
URL:https://864foodtrucks.com/event/local-pie-pizza-co-trailside-verdae-2/2024-01-17/
LOCATION:Trailside Verdae Apartments\, 180 Woodruff Rd\, Greenville\, South Carolina
CATEGORIES:Food Truck Schedules,Greenville
ATTACH;FMTTYPE=image/jpeg:https://864foodtrucks.com/wp-content/uploads/2021/12/Local-Pie-Pizza-3.jpg
ORGANIZER;CN="Local Pie Pizza Company":MAILTO:cory@localpiepizzacompany.com
GEO:34.8305244;-82.344078
X-APPLE-STRUCTURED-LOCATION;VALUE=URI;X-ADDRESS=Trailside Verdae Apartments 180 Woodruff Rd Greenville South Carolina;X-APPLE-RADIUS=500;X-TITLE=180 Woodruff Rd:geo:-82.344078,34.8305244
END:VEVENT
BEGIN:VEVENT
DTSTART;TZID=America/New_York:20230825T173000
DTEND;TZID=America/New_York:20230825T193000
DTSTAMP:20260425T103549
CREATED:20230821T181442Z
LAST-MODIFIED:20231030T225207Z
UID:22320-1692984600-1692991800@864foodtrucks.com
SUMMARY:The Krispy Cow @ Trailside Verdae
DESCRIPTION:
URL:https://864foodtrucks.com/event/the-krispy-cow-trailside-verdae/2023-08-25/
LOCATION:Trailside Verdae Apartments\, 180 Woodruff Rd\, Greenville\, South Carolina
CATEGORIES:Food Truck Schedules,Greenville
ATTACH;FMTTYPE=image/png:https://864foodtrucks.com/wp-content/uploads/2023/07/Krispy-Cow.png
ORGANIZER;CN="The Krispy Cow":MAILTO:info@thekrispycow.com
GEO:34.8305244;-82.344078
X-APPLE-STRUCTURED-LOCATION;VALUE=URI;X-ADDRESS=Trailside Verdae Apartments 180 Woodruff Rd Greenville South Carolina;X-APPLE-RADIUS=500;X-TITLE=180 Woodruff Rd:geo:-82.344078,34.8305244
END:VEVENT
BEGIN:VEVENT
DTSTART;TZID=America/New_York:20230608T170000
DTEND;TZID=America/New_York:20230608T193000
DTSTAMP:20260425T103549
CREATED:20230605T191115Z
LAST-MODIFIED:20230605T191115Z
UID:19432-1686243600-1686252600@864foodtrucks.com
SUMMARY:Trailside Verdae @ Local Pie Pizza Co
DESCRIPTION:Artisan Pizza Food Truck
URL:https://864foodtrucks.com/event/trailside-verdae-local-pie-pizza-co/
LOCATION:Trailside Verdae Apartments\, 180 Woodruff Rd\, Greenville\, South Carolina
CATEGORIES:Food Truck Schedules,Greenville
ATTACH;FMTTYPE=image/jpeg:https://864foodtrucks.com/wp-content/uploads/2021/12/Local-Pie-Pizza-3.jpg
ORGANIZER;CN="Local Pie Pizza Company":MAILTO:cory@localpiepizzacompany.com
GEO:34.8305244;-82.344078
X-APPLE-STRUCTURED-LOCATION;VALUE=URI;X-ADDRESS=Trailside Verdae Apartments 180 Woodruff Rd Greenville South Carolina;X-APPLE-RADIUS=500;X-TITLE=180 Woodruff Rd:geo:-82.344078,34.8305244
END:VEVENT
BEGIN:VEVENT
DTSTART;TZID=America/New_York:20230321T170000
DTEND;TZID=America/New_York:20230321T190000
DTSTAMP:20260425T103549
CREATED:20230320T214956Z
LAST-MODIFIED:20230320T214956Z
UID:17719-1679418000-1679425200@864foodtrucks.com
SUMMARY:Mac Attack @ Trailside Verdae Apartments
DESCRIPTION:Mac & Cheese Artists for catering and events in the Upcountry.
URL:https://864foodtrucks.com/event/mac-attack-trailside-verdae-apartments/
LOCATION:Trailside Verdae Apartments\, 180 Woodruff Rd\, Greenville\, South Carolina
CATEGORIES:Food Truck Schedules,Greenville
ATTACH;FMTTYPE=image/jpeg:https://864foodtrucks.com/wp-content/uploads/2021/05/Mac-Attack.jpg
ORGANIZER;CN="Mac Attack":MAILTO:macattackgvl@gmail.com
GEO:34.8305244;-82.344078
X-APPLE-STRUCTURED-LOCATION;VALUE=URI;X-ADDRESS=Trailside Verdae Apartments 180 Woodruff Rd Greenville South Carolina;X-APPLE-RADIUS=500;X-TITLE=180 Woodruff Rd:geo:-82.344078,34.8305244
END:VEVENT
BEGIN:VEVENT
DTSTART;TZID=America/New_York:20230112T170000
DTEND;TZID=America/New_York:20230112T193000
DTSTAMP:20260425T103549
CREATED:20230111T191934Z
LAST-MODIFIED:20230111T191934Z
UID:16120-1673542800-1673551800@864foodtrucks.com
SUMMARY:Mak & Cheesecakes @ Trailside Verdae
DESCRIPTION:
URL:https://864foodtrucks.com/event/mak-cheesecakes-trailside-verdae/
LOCATION:Trailside Verdae Apartments\, 180 Woodruff Rd\, Greenville\, South Carolina
CATEGORIES:Food Truck Schedules,Greenville
ATTACH;FMTTYPE=image/jpeg:https://864foodtrucks.com/wp-content/uploads/2021/12/Mak-cheesecakes-Cart.jpg
GEO:34.8305244;-82.344078
X-APPLE-STRUCTURED-LOCATION;VALUE=URI;X-ADDRESS=Trailside Verdae Apartments 180 Woodruff Rd Greenville South Carolina;X-APPLE-RADIUS=500;X-TITLE=180 Woodruff Rd:geo:-82.344078,34.8305244
END:VEVENT
BEGIN:VEVENT
DTSTART;TZID=America/New_York:20230112T170000
DTEND;TZID=America/New_York:20230112T193000
DTSTAMP:20260425T103549
CREATED:20230109T192950Z
LAST-MODIFIED:20240729T133321Z
UID:16015-1673542800-1673551800@864foodtrucks.com
SUMMARY:Local Pie Pizza Co @ Trailside Verdae
DESCRIPTION:
URL:https://864foodtrucks.com/event/local-pie-pizza-co-trailside-verdae/2023-01-12/
LOCATION:Trailside Verdae Apartments\, 180 Woodruff Rd\, Greenville\, South Carolina
CATEGORIES:Food Truck Schedules,Greenville
ATTACH;FMTTYPE=image/jpeg:https://864foodtrucks.com/wp-content/uploads/2021/12/Local-Pie-Pizza-3.jpg
ORGANIZER;CN="Local Pie Pizza Company":MAILTO:cory@localpiepizzacompany.com
GEO:34.8305244;-82.344078
X-APPLE-STRUCTURED-LOCATION;VALUE=URI;X-ADDRESS=Trailside Verdae Apartments 180 Woodruff Rd Greenville South Carolina;X-APPLE-RADIUS=500;X-TITLE=180 Woodruff Rd:geo:-82.344078,34.8305244
END:VEVENT
END:VCALENDAR