BEGIN:VCALENDAR
VERSION:2.0
PRODID:-//864 Food Trucks - ECPv6.15.20//NONSGML v1.0//EN
CALSCALE:GREGORIAN
METHOD:PUBLISH
X-ORIGINAL-URL:https://864foodtrucks.com
X-WR-CALDESC:Events for 864 Food Trucks
REFRESH-INTERVAL;VALUE=DURATION:PT1H
X-Robots-Tag:noindex
X-PUBLISHED-TTL:PT1H
BEGIN:VTIMEZONE
TZID:America/New_York
BEGIN:DAYLIGHT
TZOFFSETFROM:-0500
TZOFFSETTO:-0400
TZNAME:EDT
DTSTART:20210314T070000
END:DAYLIGHT
BEGIN:STANDARD
TZOFFSETFROM:-0400
TZOFFSETTO:-0500
TZNAME:EST
DTSTART:20211107T060000
END:STANDARD
BEGIN:DAYLIGHT
TZOFFSETFROM:-0500
TZOFFSETTO:-0400
TZNAME:EDT
DTSTART:20220313T070000
END:DAYLIGHT
BEGIN:STANDARD
TZOFFSETFROM:-0400
TZOFFSETTO:-0500
TZNAME:EST
DTSTART:20221106T060000
END:STANDARD
BEGIN:DAYLIGHT
TZOFFSETFROM:-0500
TZOFFSETTO:-0400
TZNAME:EDT
DTSTART:20230312T070000
END:DAYLIGHT
BEGIN:STANDARD
TZOFFSETFROM:-0400
TZOFFSETTO:-0500
TZNAME:EST
DTSTART:20231105T060000
END:STANDARD
BEGIN:DAYLIGHT
TZOFFSETFROM:-0500
TZOFFSETTO:-0400
TZNAME:EDT
DTSTART:20240310T070000
END:DAYLIGHT
BEGIN:STANDARD
TZOFFSETFROM:-0400
TZOFFSETTO:-0500
TZNAME:EST
DTSTART:20241103T060000
END:STANDARD
END:VTIMEZONE
BEGIN:VEVENT
DTSTART;TZID=America/New_York:20231118T173000
DTEND;TZID=America/New_York:20231118T203000
DTSTAMP:20260424T211310
CREATED:20231113T201054Z
LAST-MODIFIED:20231113T201054Z
UID:24128-1700328600-1700339400@864foodtrucks.com
SUMMARY:Bingbi Sushi @ Traveler's Taproom
DESCRIPTION:The one and only Sushi Truck in Greenville\n🍣🥙 contact us for all events 📱813-838-7887
URL:https://864foodtrucks.com/event/bingbi-sushi-travelers-taproom/
LOCATION:Travelers Taproom\, 2624 Poinsett Hwy\, Greenville\, South Carolina
CATEGORIES:Food Truck Schedules,Greenville
ATTACH;FMTTYPE=image/jpeg:https://864foodtrucks.com/wp-content/uploads/2023/11/Bingbi-Sushi.jpg
ORGANIZER;CN="Bingbi Sushi":MAILTO:bingbisushi@gmail.com
GEO:34.9015748;-82.4159581
X-APPLE-STRUCTURED-LOCATION;VALUE=URI;X-ADDRESS=Travelers Taproom 2624 Poinsett Hwy Greenville South Carolina;X-APPLE-RADIUS=500;X-TITLE=2624 Poinsett Hwy:geo:-82.4159581,34.9015748
END:VEVENT
BEGIN:VEVENT
DTSTART;TZID=America/New_York:20231013T180000
DTEND;TZID=America/New_York:20231013T203000
DTSTAMP:20260424T211310
CREATED:20231009T163302Z
LAST-MODIFIED:20240205T213703Z
UID:23398-1697220000-1697229000@864foodtrucks.com
SUMMARY:Big Fuss Fresh Food @ Traveler's Taproom
DESCRIPTION:We are a mobile food truck that specializes in fresh food with amazing flavor.
URL:https://864foodtrucks.com/event/big-fuss-fresh-food-travelers-taproom/2023-10-13/
LOCATION:Travelers Taproom\, 2624 Poinsett Hwy\, Greenville\, South Carolina
CATEGORIES:Food Truck Schedules,Greenville
ATTACH;FMTTYPE=image/jpeg:https://864foodtrucks.com/wp-content/uploads/2023/07/Big-Fuss-Fresh-Food.jpg
GEO:34.9015748;-82.4159581
X-APPLE-STRUCTURED-LOCATION;VALUE=URI;X-ADDRESS=Travelers Taproom 2624 Poinsett Hwy Greenville South Carolina;X-APPLE-RADIUS=500;X-TITLE=2624 Poinsett Hwy:geo:-82.4159581,34.9015748
END:VEVENT
BEGIN:VEVENT
DTSTART;TZID=America/New_York:20230907T180000
DTEND;TZID=America/New_York:20230907T210000
DTSTAMP:20260424T211310
CREATED:20230903T201837Z
LAST-MODIFIED:20240205T182205Z
UID:22557-1694109600-1694120400@864foodtrucks.com
SUMMARY:Krispy Cow @ Traveler's Taproom
DESCRIPTION:
URL:https://864foodtrucks.com/event/krispy-cow-travelers-taproom/2023-09-07/
LOCATION:Travelers Taproom\, 2624 Poinsett Hwy\, Greenville\, South Carolina
CATEGORIES:Food Truck Schedules,Greenville
ATTACH;FMTTYPE=image/png:https://864foodtrucks.com/wp-content/uploads/2023/07/Krispy-Cow.png
ORGANIZER;CN="The Krispy Cow":MAILTO:info@thekrispycow.com
GEO:34.9015748;-82.4159581
X-APPLE-STRUCTURED-LOCATION;VALUE=URI;X-ADDRESS=Travelers Taproom 2624 Poinsett Hwy Greenville South Carolina;X-APPLE-RADIUS=500;X-TITLE=2624 Poinsett Hwy:geo:-82.4159581,34.9015748
END:VEVENT
BEGIN:VEVENT
DTSTART;TZID=America/New_York:20230816T180000
DTEND;TZID=America/New_York:20230816T203000
DTSTAMP:20260424T211310
CREATED:20230814T003656Z
LAST-MODIFIED:20231211T182649Z
UID:22067-1692208800-1692217800@864foodtrucks.com
SUMMARY:IslandSun864 @ Traveler's Taproom
DESCRIPTION:Mobile Kitchen serving Caribbean Cuisine to the upstate\, SC\nCaterings\, pop ups\, and private dinners\nDm for more info
URL:https://864foodtrucks.com/event/islandsun864-travelers-taproom/2023-08-16/
LOCATION:Travelers Taproom\, 2624 Poinsett Hwy\, Greenville\, South Carolina
CATEGORIES:Food Truck Schedules,Greenville
ATTACH;FMTTYPE=image/jpeg:https://864foodtrucks.com/wp-content/uploads/2023/07/IslandSun864.jpg
GEO:34.9015748;-82.4159581
X-APPLE-STRUCTURED-LOCATION;VALUE=URI;X-ADDRESS=Travelers Taproom 2624 Poinsett Hwy Greenville South Carolina;X-APPLE-RADIUS=500;X-TITLE=2624 Poinsett Hwy:geo:-82.4159581,34.9015748
END:VEVENT
BEGIN:VEVENT
DTSTART;TZID=America/New_York:20230805T180000
DTEND;TZID=America/New_York:20230805T210000
DTSTAMP:20260424T211310
CREATED:20230731T190310Z
LAST-MODIFIED:20230821T181252Z
UID:21700-1691258400-1691269200@864foodtrucks.com
SUMMARY:The Krispy Cow @ Traveler's Taproom
DESCRIPTION:
URL:https://864foodtrucks.com/event/the-krispy-cow-travelers-taproom/2023-08-05/
LOCATION:Travelers Taproom\, 2624 Poinsett Hwy\, Greenville\, South Carolina
CATEGORIES:Food Truck Schedules,Greenville
ATTACH;FMTTYPE=image/png:https://864foodtrucks.com/wp-content/uploads/2023/07/Krispy-Cow.png
ORGANIZER;CN="The Krispy Cow":MAILTO:info@thekrispycow.com
GEO:34.9015748;-82.4159581
X-APPLE-STRUCTURED-LOCATION;VALUE=URI;X-ADDRESS=Travelers Taproom 2624 Poinsett Hwy Greenville South Carolina;X-APPLE-RADIUS=500;X-TITLE=2624 Poinsett Hwy:geo:-82.4159581,34.9015748
END:VEVENT
BEGIN:VEVENT
DTSTART;TZID=America/New_York:20230728T173000
DTEND;TZID=America/New_York:20230728T200000
DTSTAMP:20260424T211310
CREATED:20230724T173238Z
LAST-MODIFIED:20230821T180203Z
UID:21012-1690565400-1690574400@864foodtrucks.com
SUMMARY:Healthy Food Truck GVL @ Traveler's Taproom
DESCRIPTION:🌶️MEXICAN FLAVOR\n🍅HEALTHY FOOD\n🥬MEAL PREPS
URL:https://864foodtrucks.com/event/healthy-food-truck-gvl-travelers-taproom/2023-07-28/
LOCATION:Travelers Taproom\, 2624 Poinsett Hwy\, Greenville\, South Carolina
CATEGORIES:Food Truck Schedules,Greenville
ATTACH;FMTTYPE=image/jpeg:https://864foodtrucks.com/wp-content/uploads/2023/02/Healthy-Food-Truck-Greenville.jpg
ORGANIZER;CN="Healthy Food Truck GVL":MAILTO:Nefgym@gmail.com
GEO:34.9015748;-82.4159581
X-APPLE-STRUCTURED-LOCATION;VALUE=URI;X-ADDRESS=Travelers Taproom 2624 Poinsett Hwy Greenville South Carolina;X-APPLE-RADIUS=500;X-TITLE=2624 Poinsett Hwy:geo:-82.4159581,34.9015748
END:VEVENT
BEGIN:VEVENT
DTSTART;TZID=America/New_York:20230706T180000
DTEND;TZID=America/New_York:20230706T203000
DTSTAMP:20260424T211310
CREATED:20230703T183310Z
LAST-MODIFIED:20231120T184125Z
UID:20513-1688666400-1688675400@864foodtrucks.com
SUMMARY:Half Rooted @ Traveler's Taproom
DESCRIPTION:Half Rooted is a modern Latin-American street food mobile kitchen!
URL:https://864foodtrucks.com/event/half-rooted-travelers-taproom/2023-07-06/
LOCATION:Travelers Taproom\, 2624 Poinsett Hwy\, Greenville\, South Carolina
CATEGORIES:Food Truck Schedules,Greenville
ATTACH;FMTTYPE=image/jpeg:https://864foodtrucks.com/wp-content/uploads/2023/05/Half-Rooted.jpg
GEO:34.9015748;-82.4159581
X-APPLE-STRUCTURED-LOCATION;VALUE=URI;X-ADDRESS=Travelers Taproom 2624 Poinsett Hwy Greenville South Carolina;X-APPLE-RADIUS=500;X-TITLE=2624 Poinsett Hwy:geo:-82.4159581,34.9015748
END:VEVENT
BEGIN:VEVENT
DTSTART;TZID=America/New_York:20230628T180000
DTEND;TZID=America/New_York:20230628T203000
DTSTAMP:20260424T211310
CREATED:20230627T175942Z
LAST-MODIFIED:20250421T183259Z
UID:20316-1687975200-1687984200@864foodtrucks.com
SUMMARY:La Katrina Mia @ Traveler's Taproom
DESCRIPTION:Latin Cuisine\, book us for your next event we Cater or bring our Food Truck out the choice is yours.
URL:https://864foodtrucks.com/event/la-katrina-mia-travelers-taproom-2/2023-06-28/
LOCATION:Travelers Taproom\, 2624 Poinsett Hwy\, Greenville\, South Carolina
CATEGORIES:Food Truck Schedules,Greenville
ATTACH;FMTTYPE=image/jpeg:https://864foodtrucks.com/wp-content/uploads/2022/06/La-Katrina-Mia-Truck.jpg
ORGANIZER;CN="La Katrina Mia":MAILTO:lakatrinamia@gmail.com
GEO:34.9015748;-82.4159581
X-APPLE-STRUCTURED-LOCATION;VALUE=URI;X-ADDRESS=Travelers Taproom 2624 Poinsett Hwy Greenville South Carolina;X-APPLE-RADIUS=500;X-TITLE=2624 Poinsett Hwy:geo:-82.4159581,34.9015748
END:VEVENT
BEGIN:VEVENT
DTSTART;TZID=America/New_York:20230520T180000
DTEND;TZID=America/New_York:20230520T210000
DTSTAMP:20260424T211310
CREATED:20230515T142921Z
LAST-MODIFIED:20230925T002427Z
UID:18946-1684605600-1684616400@864foodtrucks.com
SUMMARY:Birria Boy @ Traveler's Taproom
DESCRIPTION:
URL:https://864foodtrucks.com/event/birria-boy-travelers-taproom/2023-05-20/
LOCATION:Travelers Taproom\, 2624 Poinsett Hwy\, Greenville\, South Carolina
CATEGORIES:Food Truck Schedules,Greenville
ATTACH;FMTTYPE=image/jpeg:https://864foodtrucks.com/wp-content/uploads/2022/08/Birria-Boy.jpg
ORGANIZER;CN="Birria Boy":MAILTO:Birriaboy77@gmail.com
GEO:34.9015748;-82.4159581
X-APPLE-STRUCTURED-LOCATION;VALUE=URI;X-ADDRESS=Travelers Taproom 2624 Poinsett Hwy Greenville South Carolina;X-APPLE-RADIUS=500;X-TITLE=2624 Poinsett Hwy:geo:-82.4159581,34.9015748
END:VEVENT
BEGIN:VEVENT
DTSTART;TZID=America/New_York:20230511T180000
DTEND;TZID=America/New_York:20230511T203000
DTSTAMP:20260424T211310
CREATED:20230508T144353Z
LAST-MODIFIED:20230618T233636Z
UID:18758-1683828000-1683837000@864foodtrucks.com
SUMMARY:The Healthy Food Truck @ Traveler's Taproom
DESCRIPTION:🌶️MEXICAN FLAVOR\n🍅HEALTHY FOOD\n🥬MEAL PREPS
URL:https://864foodtrucks.com/event/the-healthy-food-truck-travelers-taproom/2023-05-11/
LOCATION:Travelers Taproom\, 2624 Poinsett Hwy\, Greenville\, South Carolina
CATEGORIES:Food Truck Schedules,Greenville
ATTACH;FMTTYPE=image/jpeg:https://864foodtrucks.com/wp-content/uploads/2023/02/Healthy-Food-Truck-Greenville.jpg
ORGANIZER;CN="Healthy Food Truck GVL":MAILTO:Nefgym@gmail.com
GEO:34.9015748;-82.4159581
X-APPLE-STRUCTURED-LOCATION;VALUE=URI;X-ADDRESS=Travelers Taproom 2624 Poinsett Hwy Greenville South Carolina;X-APPLE-RADIUS=500;X-TITLE=2624 Poinsett Hwy:geo:-82.4159581,34.9015748
END:VEVENT
BEGIN:VEVENT
DTSTART;TZID=America/New_York:20230506T173000
DTEND;TZID=America/New_York:20230506T200000
DTSTAMP:20260424T211310
CREATED:20230501T191115Z
LAST-MODIFIED:20231016T215348Z
UID:18573-1683394200-1683403200@864foodtrucks.com
SUMMARY:Just a Smile Caribbean @ Traveler's Taproom
DESCRIPTION:JUST-A-SMILE ENTERTAINMENT PROVIDING YOUR PLACE OR VENUE COMPLETE CARIBBEAN EXPERIENCE THROUGH FOOD DANCE AND UNITY. WE BRING SMILES.
URL:https://864foodtrucks.com/event/just-a-smile-caribbean-travelers-taproom/2023-05-06/
LOCATION:Travelers Taproom\, 2624 Poinsett Hwy\, Greenville\, South Carolina
CATEGORIES:Food Truck Schedules,Greenville
ATTACH;FMTTYPE=image/jpeg:https://864foodtrucks.com/wp-content/uploads/2021/05/Just-A-Smile.jpg
GEO:34.9015748;-82.4159581
X-APPLE-STRUCTURED-LOCATION;VALUE=URI;X-ADDRESS=Travelers Taproom 2624 Poinsett Hwy Greenville South Carolina;X-APPLE-RADIUS=500;X-TITLE=2624 Poinsett Hwy:geo:-82.4159581,34.9015748
END:VEVENT
BEGIN:VEVENT
DTSTART;TZID=America/New_York:20230505T173000
DTEND;TZID=America/New_York:20230505T200000
DTSTAMP:20260424T211310
CREATED:20230501T181222Z
LAST-MODIFIED:20230501T181222Z
UID:18571-1683307800-1683316800@864foodtrucks.com
SUMMARY:Black Thai @ Traveler's Taproom
DESCRIPTION:
URL:https://864foodtrucks.com/event/black-thai-travelers-taproom/
LOCATION:Travelers Taproom\, 2624 Poinsett Hwy\, Greenville\, South Carolina
CATEGORIES:Food Truck Schedules,Greenville
ATTACH;FMTTYPE=image/jpeg:https://864foodtrucks.com/wp-content/uploads/2023/01/Black-Thai-Truck.jpg
GEO:34.9015748;-82.4159581
X-APPLE-STRUCTURED-LOCATION;VALUE=URI;X-ADDRESS=Travelers Taproom 2624 Poinsett Hwy Greenville South Carolina;X-APPLE-RADIUS=500;X-TITLE=2624 Poinsett Hwy:geo:-82.4159581,34.9015748
END:VEVENT
BEGIN:VEVENT
DTSTART;TZID=America/New_York:20230427T173000
DTEND;TZID=America/New_York:20230427T200000
DTSTAMP:20260424T211310
CREATED:20230424T181203Z
LAST-MODIFIED:20240226T181325Z
UID:18407-1682616600-1682625600@864foodtrucks.com
SUMMARY:Abella Catering and Food Truck @ Traveler's Taproom
DESCRIPTION:
URL:https://864foodtrucks.com/event/abella-catering-and-food-truck-travelers-taproom/2023-04-27/
LOCATION:Travelers Taproom\, 2624 Poinsett Hwy\, Greenville\, South Carolina
CATEGORIES:Food Truck Schedules,Greenville
ATTACH;FMTTYPE=image/jpeg:https://864foodtrucks.com/wp-content/uploads/2021/10/ABella-Catering-Vehicle.jpg
ORGANIZER;CN="Abella Catering":MAILTO:chefabella@iamabella.com
GEO:34.9015748;-82.4159581
X-APPLE-STRUCTURED-LOCATION;VALUE=URI;X-ADDRESS=Travelers Taproom 2624 Poinsett Hwy Greenville South Carolina;X-APPLE-RADIUS=500;X-TITLE=2624 Poinsett Hwy:geo:-82.4159581,34.9015748
END:VEVENT
BEGIN:VEVENT
DTSTART;TZID=America/New_York:20230422T180000
DTEND;TZID=America/New_York:20230422T200000
DTSTAMP:20260424T211310
CREATED:20230417T181815Z
LAST-MODIFIED:20230605T001229Z
UID:18294-1682186400-1682193600@864foodtrucks.com
SUMMARY:The Noodle Lady @ Traveler's Taproom
DESCRIPTION:Authentic Chinese dishes for catering and events. Artisan Noodles and 100% Natural. Check out here our events calendar in Greenville\, South Carolina. #TheNoodleLady
URL:https://864foodtrucks.com/event/the-noodle-lady-travelers-taproom-2/2023-04-22/
LOCATION:Travelers Taproom\, 2624 Poinsett Hwy\, Greenville\, South Carolina
CATEGORIES:Food Truck Schedules,Greenville
ATTACH;FMTTYPE=image/jpeg:https://864foodtrucks.com/wp-content/uploads/2021/05/The-Noodle-Lady-Truck.jpg
ORGANIZER;CN="The Noodle Lady":MAILTO:thenoodlelady@yahoo.com
GEO:34.9015748;-82.4159581
X-APPLE-STRUCTURED-LOCATION;VALUE=URI;X-ADDRESS=Travelers Taproom 2624 Poinsett Hwy Greenville South Carolina;X-APPLE-RADIUS=500;X-TITLE=2624 Poinsett Hwy:geo:-82.4159581,34.9015748
END:VEVENT
BEGIN:VEVENT
DTSTART;TZID=America/New_York:20230331T173000
DTEND;TZID=America/New_York:20230331T200000
DTSTAMP:20260424T211310
CREATED:20230328T121318Z
LAST-MODIFIED:20240527T162132Z
UID:17866-1680283800-1680292800@864foodtrucks.com
SUMMARY:The Cheez Press @ Traveler's Taproom
DESCRIPTION:Food Truck with gourmet grilled cheese sandwiches and soup.
URL:https://864foodtrucks.com/event/the-cheez-press-travelers-taproom/2023-03-31/
LOCATION:Travelers Taproom\, 2624 Poinsett Hwy\, Greenville\, South Carolina
CATEGORIES:Food Truck Schedules,Greenville
ATTACH;FMTTYPE=image/png:https://864foodtrucks.com/wp-content/uploads/2021/05/The-Cheez-press.png
ORGANIZER;CN="The Cheez Press":MAILTO:jimbonnie2000@gmail.com
GEO:34.9015748;-82.4159581
X-APPLE-STRUCTURED-LOCATION;VALUE=URI;X-ADDRESS=Travelers Taproom 2624 Poinsett Hwy Greenville South Carolina;X-APPLE-RADIUS=500;X-TITLE=2624 Poinsett Hwy:geo:-82.4159581,34.9015748
END:VEVENT
BEGIN:VEVENT
DTSTART;TZID=America/New_York:20230217T170000
DTEND;TZID=America/New_York:20230217T210000
DTSTAMP:20260424T211310
CREATED:20230213T215318Z
LAST-MODIFIED:20240624T155753Z
UID:16845-1676653200-1676667600@864foodtrucks.com
SUMMARY:The Electric Food Truck @ Traveler's Taproom
DESCRIPTION:We are the world’s first all electric food truck\, serving Greenville\, SC.
URL:https://864foodtrucks.com/event/the-electric-food-truck-travelers-taproom-2/2023-02-17/
LOCATION:Travelers Taproom\, 2624 Poinsett Hwy\, Greenville\, South Carolina
CATEGORIES:Food Truck Schedules,Greenville
ATTACH;FMTTYPE=image/jpeg:https://864foodtrucks.com/wp-content/uploads/2023/02/The-Electric-Food-Truck.jpg
ORGANIZER;CN="The Electric Food Truck":MAILTO:team@theelectricfoodtruck.com
GEO:34.9015748;-82.4159581
X-APPLE-STRUCTURED-LOCATION;VALUE=URI;X-ADDRESS=Travelers Taproom 2624 Poinsett Hwy Greenville South Carolina;X-APPLE-RADIUS=500;X-TITLE=2624 Poinsett Hwy:geo:-82.4159581,34.9015748
END:VEVENT
BEGIN:VEVENT
DTSTART;TZID=America/New_York:20230216T170000
DTEND;TZID=America/New_York:20230216T200000
DTSTAMP:20260424T211310
CREATED:20230212T202716Z
LAST-MODIFIED:20231009T163103Z
UID:16703-1676566800-1676577600@864foodtrucks.com
SUMMARY:The Wok Lobster @ Traveler's Taproom
DESCRIPTION:First and only Asian American🥢🥟food truck🚚 booking for festivals\, music venues AL\, TN\, GA\, NC\, SC
URL:https://864foodtrucks.com/event/the-wok-lobster-travelers-taproom/2023-02-16/
LOCATION:Travelers Taproom\, 2624 Poinsett Hwy\, Greenville\, South Carolina
CATEGORIES:Food Truck Schedules,Greenville
ATTACH;FMTTYPE=image/jpeg:https://864foodtrucks.com/wp-content/uploads/2023/02/The-Wok-Lobster.jpg
ORGANIZER;CN="The Wok Lobster":MAILTO:thewoklobster@thewoklobster.net
GEO:34.9015748;-82.4159581
X-APPLE-STRUCTURED-LOCATION;VALUE=URI;X-ADDRESS=Travelers Taproom 2624 Poinsett Hwy Greenville South Carolina;X-APPLE-RADIUS=500;X-TITLE=2624 Poinsett Hwy:geo:-82.4159581,34.9015748
END:VEVENT
BEGIN:VEVENT
DTSTART;TZID=America/New_York:20230215T173000
DTEND;TZID=America/New_York:20230215T210000
DTSTAMP:20260424T211310
CREATED:20230213T220054Z
LAST-MODIFIED:20230227T184446Z
UID:16850-1676482200-1676494800@864foodtrucks.com
SUMMARY:Damn Good Bird @ Traveler's Taproom
DESCRIPTION:DAMN GOOD BIRD\nCLASSIC AMERICAN STREET FOOD\nWINGS – BURGERS – PHILLYS – FRIED CHKN\nGREENVILLE\, SC
URL:https://864foodtrucks.com/event/damn-good-bird-travelers-taproom/2023-02-15/
LOCATION:Travelers Taproom\, 2624 Poinsett Hwy\, Greenville\, South Carolina
CATEGORIES:Food Truck Schedules,Greenville
ATTACH;FMTTYPE=image/jpeg:https://864foodtrucks.com/wp-content/uploads/2023/02/damn-good-bird.jpg
ORGANIZER;CN="Damn Good Bird":MAILTO:kitchenconnect411@gmail.com
GEO:34.9015748;-82.4159581
X-APPLE-STRUCTURED-LOCATION;VALUE=URI;X-ADDRESS=Travelers Taproom 2624 Poinsett Hwy Greenville South Carolina;X-APPLE-RADIUS=500;X-TITLE=2624 Poinsett Hwy:geo:-82.4159581,34.9015748
END:VEVENT
BEGIN:VEVENT
DTSTART;TZID=America/New_York:20230211T120000
DTEND;TZID=America/New_York:20230211T160000
DTSTAMP:20260424T211310
CREATED:20230206T013718Z
LAST-MODIFIED:20231101T120632Z
UID:16587-1676116800-1676131200@864foodtrucks.com
SUMMARY:Hawaiian Donut Co @ Travelers Taproom
DESCRIPTION:
URL:https://864foodtrucks.com/event/hawaiian-donut-co-travelers-taproom/2023-02-11/
LOCATION:Travelers Taproom\, 2624 Poinsett Hwy\, Greenville\, South Carolina
CATEGORIES:Food Truck Schedules,Greenville
ATTACH;FMTTYPE=image/jpeg:https://864foodtrucks.com/wp-content/uploads/2022/08/Hawaiian-Donut-Co.jpg
GEO:34.9015748;-82.4159581
X-APPLE-STRUCTURED-LOCATION;VALUE=URI;X-ADDRESS=Travelers Taproom 2624 Poinsett Hwy Greenville South Carolina;X-APPLE-RADIUS=500;X-TITLE=2624 Poinsett Hwy:geo:-82.4159581,34.9015748
END:VEVENT
BEGIN:VEVENT
DTSTART;TZID=America/New_York:20230202T180000
DTEND;TZID=America/New_York:20230202T203000
DTSTAMP:20260424T211310
CREATED:20230131T004025Z
LAST-MODIFIED:20250210T133155Z
UID:16485-1675360800-1675369800@864foodtrucks.com
SUMMARY:Yum Bai @ Travelers Taproom
DESCRIPTION:Asian fusion street food
URL:https://864foodtrucks.com/event/yum-bai-travelers-taproom-2/2023-02-02/
LOCATION:Travelers Taproom\, 2624 Poinsett Hwy\, Greenville\, South Carolina
CATEGORIES:Food Truck Schedules,Greenville
ATTACH;FMTTYPE=image/jpeg:https://864foodtrucks.com/wp-content/uploads/2021/05/Yum-Bai.jpg
ORGANIZER;CN="Yum Bai":MAILTO:yumbaisc@gmail.com
GEO:34.9015748;-82.4159581
X-APPLE-STRUCTURED-LOCATION;VALUE=URI;X-ADDRESS=Travelers Taproom 2624 Poinsett Hwy Greenville South Carolina;X-APPLE-RADIUS=500;X-TITLE=2624 Poinsett Hwy:geo:-82.4159581,34.9015748
END:VEVENT
BEGIN:VEVENT
DTSTART;TZID=America/New_York:20230114T180000
DTEND;TZID=America/New_York:20230114T200000
DTSTAMP:20260424T211310
CREATED:20230109T192220Z
LAST-MODIFIED:20230220T010001Z
UID:16006-1673719200-1673726400@864foodtrucks.com
SUMMARY:The Noodle Lady @ Traveler's Taproom
DESCRIPTION:Authentic Chinese dishes for catering and events. Artisan Noodles and 100% Natural. Check out here our events calendar in Greenville\, South Carolina. #TheNoodleLady
URL:https://864foodtrucks.com/event/the-noodle-lady-travelers-taproom/2023-01-14/
LOCATION:Travelers Taproom\, 2624 Poinsett Hwy\, Greenville\, South Carolina
CATEGORIES:Food Truck Schedules,Greenville
ATTACH;FMTTYPE=image/jpeg:https://864foodtrucks.com/wp-content/uploads/2021/05/The-Noodle-Lady-Truck.jpg
ORGANIZER;CN="The Noodle Lady":MAILTO:thenoodlelady@yahoo.com
GEO:34.9015748;-82.4159581
X-APPLE-STRUCTURED-LOCATION;VALUE=URI;X-ADDRESS=Travelers Taproom 2624 Poinsett Hwy Greenville South Carolina;X-APPLE-RADIUS=500;X-TITLE=2624 Poinsett Hwy:geo:-82.4159581,34.9015748
END:VEVENT
BEGIN:VEVENT
DTSTART;TZID=America/New_York:20230113T180000
DTEND;TZID=America/New_York:20230113T183000
DTSTAMP:20260424T211310
CREATED:20230110T191452Z
LAST-MODIFIED:20230123T195116Z
UID:16105-1673632800-1673634600@864foodtrucks.com
SUMMARY:Chaos Cafe @ Traveler's Taproom
DESCRIPTION:
URL:https://864foodtrucks.com/event/chaos-cafe-travelers-taproom/2023-01-13/
LOCATION:Travelers Taproom\, 2624 Poinsett Hwy\, Greenville\, South Carolina
CATEGORIES:Food Truck Schedules,Greenville
ATTACH;FMTTYPE=image/jpeg:https://864foodtrucks.com/wp-content/uploads/2022/12/Chaos-Cafe-GVL.jpg
ORGANIZER;CN="Chaos Cafe GVL":MAILTO:clay@chaoscafegvl.com
GEO:34.9015748;-82.4159581
X-APPLE-STRUCTURED-LOCATION;VALUE=URI;X-ADDRESS=Travelers Taproom 2624 Poinsett Hwy Greenville South Carolina;X-APPLE-RADIUS=500;X-TITLE=2624 Poinsett Hwy:geo:-82.4159581,34.9015748
END:VEVENT
BEGIN:VEVENT
DTSTART;TZID=America/New_York:20221228T180000
DTEND;TZID=America/New_York:20221228T203000
DTSTAMP:20260424T211310
CREATED:20221227T000723Z
LAST-MODIFIED:20250630T165236Z
UID:15829-1672250400-1672259400@864foodtrucks.com
SUMMARY:J&S Wings @ Traveler's Taproom
DESCRIPTION:
URL:https://864foodtrucks.com/event/js-wings-travelers-taproom/2022-12-28/
LOCATION:Travelers Taproom\, 2624 Poinsett Hwy\, Greenville\, South Carolina
CATEGORIES:Food Truck Schedules,Greenville
ATTACH;FMTTYPE=image/jpeg:https://864foodtrucks.com/wp-content/uploads/2022/03/J-and-S-Wings-2-Go-Food.jpg
ORGANIZER;CN="J and S Wings 2 Go":MAILTO:jandswings2go@gmail.com
GEO:34.9015748;-82.4159581
X-APPLE-STRUCTURED-LOCATION;VALUE=URI;X-ADDRESS=Travelers Taproom 2624 Poinsett Hwy Greenville South Carolina;X-APPLE-RADIUS=500;X-TITLE=2624 Poinsett Hwy:geo:-82.4159581,34.9015748
END:VEVENT
BEGIN:VEVENT
DTSTART;TZID=America/New_York:20221222T173000
DTEND;TZID=America/New_York:20221222T200000
DTSTAMP:20260424T211310
CREATED:20221219T003814Z
LAST-MODIFIED:20221219T003814Z
UID:15700-1671730200-1671739200@864foodtrucks.com
SUMMARY:Chili the Kids @ Traveler's Taproom
DESCRIPTION:Chili the Kid is Dangerously Good. When you think of Chili\, you should think of Chili the Kid. We offer 6 flavors of chili every day\, and every week we have a special unique flavor. You can order your favorite chili any way you want it.
URL:https://864foodtrucks.com/event/chili-the-kids-travelers-taproom/
LOCATION:Travelers Taproom\, 2624 Poinsett Hwy\, Greenville\, South Carolina
CATEGORIES:Food Truck Schedules,Greenville
ATTACH;FMTTYPE=image/jpeg:https://864foodtrucks.com/wp-content/uploads/2022/03/Chili-the-Kid-Truck.jpg
GEO:34.9015748;-82.4159581
X-APPLE-STRUCTURED-LOCATION;VALUE=URI;X-ADDRESS=Travelers Taproom 2624 Poinsett Hwy Greenville South Carolina;X-APPLE-RADIUS=500;X-TITLE=2624 Poinsett Hwy:geo:-82.4159581,34.9015748
END:VEVENT
BEGIN:VEVENT
DTSTART;TZID=America/New_York:20221210T173000
DTEND;TZID=America/New_York:20221210T200000
DTSTAMP:20260424T211310
CREATED:20221205T191157Z
LAST-MODIFIED:20221205T191157Z
UID:15422-1670693400-1670702400@864foodtrucks.com
SUMMARY:Chili the Kid @ Travelers Taproom
DESCRIPTION:Chili the Kid is Dangerously Good. When you think of Chili\, you should think of Chili the Kid. We offer 6 flavors of chili every day\, and every week we have a special unique flavor. You can order your favorite chili any way you want it.
URL:https://864foodtrucks.com/event/chili-the-kid-travelers-taproom/
LOCATION:Travelers Taproom\, 2624 Poinsett Hwy\, Greenville\, South Carolina
CATEGORIES:Food Truck Schedules,Greenville
ATTACH;FMTTYPE=image/jpeg:https://864foodtrucks.com/wp-content/uploads/2022/03/Chili-the-Kid-Truck.jpg
GEO:34.9015748;-82.4159581
X-APPLE-STRUCTURED-LOCATION;VALUE=URI;X-ADDRESS=Travelers Taproom 2624 Poinsett Hwy Greenville South Carolina;X-APPLE-RADIUS=500;X-TITLE=2624 Poinsett Hwy:geo:-82.4159581,34.9015748
END:VEVENT
BEGIN:VEVENT
DTSTART;TZID=America/New_York:20221208T173000
DTEND;TZID=America/New_York:20221208T203000
DTSTAMP:20260424T211310
CREATED:20221205T190958Z
LAST-MODIFIED:20221205T190958Z
UID:15420-1670520600-1670531400@864foodtrucks.com
SUMMARY:Street Pizza @ Traveler's Taproom
DESCRIPTION:
URL:https://864foodtrucks.com/event/street-pizza-travelers-taproom/
LOCATION:Travelers Taproom\, 2624 Poinsett Hwy\, Greenville\, South Carolina
CATEGORIES:Food Truck Schedules,Greenville
ATTACH;FMTTYPE=image/jpeg:https://864foodtrucks.com/wp-content/uploads/2022/09/Street-Pizza-Truck-e1663960601749.jpg
ORGANIZER;CN="Street Pizza":MAILTO:Streetpizzausa@gmail.com
GEO:34.9015748;-82.4159581
X-APPLE-STRUCTURED-LOCATION;VALUE=URI;X-ADDRESS=Travelers Taproom 2624 Poinsett Hwy Greenville South Carolina;X-APPLE-RADIUS=500;X-TITLE=2624 Poinsett Hwy:geo:-82.4159581,34.9015748
END:VEVENT
BEGIN:VEVENT
DTSTART;TZID=America/New_York:20221207T173000
DTEND;TZID=America/New_York:20221207T203000
DTSTAMP:20260424T211310
CREATED:20221205T190559Z
LAST-MODIFIED:20230626T183958Z
UID:15417-1670434200-1670445000@864foodtrucks.com
SUMMARY:La Katrina Mia @ Traveler's Taproom
DESCRIPTION:Latin Cuisine\, book us for your next event we Cater or bring our Food Truck out the choice is yours.
URL:https://864foodtrucks.com/event/la-katrina-mia-travelers-taproom/2022-12-07/
LOCATION:Travelers Taproom\, 2624 Poinsett Hwy\, Greenville\, South Carolina
CATEGORIES:Food Truck Schedules,Greenville
ATTACH;FMTTYPE=image/jpeg:https://864foodtrucks.com/wp-content/uploads/2022/06/La-Katrina-Mia-Truck.jpg
ORGANIZER;CN="La Katrina Mia":MAILTO:lakatrinamia@gmail.com
GEO:34.9015748;-82.4159581
X-APPLE-STRUCTURED-LOCATION;VALUE=URI;X-ADDRESS=Travelers Taproom 2624 Poinsett Hwy Greenville South Carolina;X-APPLE-RADIUS=500;X-TITLE=2624 Poinsett Hwy:geo:-82.4159581,34.9015748
END:VEVENT
BEGIN:VEVENT
DTSTART;TZID=America/New_York:20221202T180000
DTEND;TZID=America/New_York:20221202T210000
DTSTAMP:20260424T211310
CREATED:20221128T190820Z
LAST-MODIFIED:20221212T185657Z
UID:15024-1670004000-1670014800@864foodtrucks.com
SUMMARY:Bronzeville Bites @ Traveler's Taproom
DESCRIPTION:Chicago Style Food
URL:https://864foodtrucks.com/event/bronzeville-bites-travelers-tap/2022-12-02/
LOCATION:Travelers Taproom\, 2624 Poinsett Hwy\, Greenville\, South Carolina
CATEGORIES:Food Truck Schedules,Greenville
ATTACH;FMTTYPE=image/jpeg:https://864foodtrucks.com/wp-content/uploads/2022/11/Bronzeville-Bites.jpg
ORGANIZER;CN="Bronzeville Bites":MAILTO:bronzevillebites@gmail.com
GEO:34.9015748;-82.4159581
X-APPLE-STRUCTURED-LOCATION;VALUE=URI;X-ADDRESS=Travelers Taproom 2624 Poinsett Hwy Greenville South Carolina;X-APPLE-RADIUS=500;X-TITLE=2624 Poinsett Hwy:geo:-82.4159581,34.9015748
END:VEVENT
BEGIN:VEVENT
DTSTART;TZID=America/New_York:20221201T180000
DTEND;TZID=America/New_York:20221201T210000
DTSTAMP:20260424T211310
CREATED:20221128T185825Z
LAST-MODIFIED:20241210T135518Z
UID:15020-1669917600-1669928400@864foodtrucks.com
SUMMARY:Yum Bai @ Traveler's Taproom
DESCRIPTION:Asian fusion street food
URL:https://864foodtrucks.com/event/yum-bai-travelers-taproom/2022-12-01/
LOCATION:Travelers Taproom\, 2624 Poinsett Hwy\, Greenville\, South Carolina
CATEGORIES:Food Truck Schedules,Greenville
ATTACH;FMTTYPE=image/jpeg:https://864foodtrucks.com/wp-content/uploads/2021/05/Yum-Bai.jpg
ORGANIZER;CN="Yum Bai":MAILTO:yumbaisc@gmail.com
GEO:34.9015748;-82.4159581
X-APPLE-STRUCTURED-LOCATION;VALUE=URI;X-ADDRESS=Travelers Taproom 2624 Poinsett Hwy Greenville South Carolina;X-APPLE-RADIUS=500;X-TITLE=2624 Poinsett Hwy:geo:-82.4159581,34.9015748
END:VEVENT
BEGIN:VEVENT
DTSTART;TZID=America/New_York:20221113T000000
DTEND;TZID=America/New_York:20221113T000000
DTSTAMP:20260424T211310
CREATED:20221108T015807Z
LAST-MODIFIED:20221108T015807Z
UID:14492-1668297600-1668297600@864foodtrucks.com
SUMMARY:Doggy Style @ Holiday Pop-up Market
DESCRIPTION:
URL:https://864foodtrucks.com/event/doggy-style-holiday-pop-up-market/
LOCATION:Travelers Taproom\, 2624 Poinsett Hwy\, Greenville\, South Carolina
CATEGORIES:Food Truck Schedules,Greenville
ATTACH;FMTTYPE=image/jpeg:https://864foodtrucks.com/wp-content/uploads/2022/11/DoggyStye.jpg
GEO:34.9015748;-82.4159581
X-APPLE-STRUCTURED-LOCATION;VALUE=URI;X-ADDRESS=Travelers Taproom 2624 Poinsett Hwy Greenville South Carolina;X-APPLE-RADIUS=500;X-TITLE=2624 Poinsett Hwy:geo:-82.4159581,34.9015748
END:VEVENT
END:VCALENDAR