BEGIN:VCALENDAR
VERSION:2.0
PRODID:-//864 Food Trucks - ECPv6.15.20//NONSGML v1.0//EN
CALSCALE:GREGORIAN
METHOD:PUBLISH
X-WR-CALNAME:864 Food Trucks
X-ORIGINAL-URL:https://864foodtrucks.com
X-WR-CALDESC:Events for 864 Food Trucks
REFRESH-INTERVAL;VALUE=DURATION:PT1H
X-Robots-Tag:noindex
X-PUBLISHED-TTL:PT1H
BEGIN:VTIMEZONE
TZID:America/New_York
BEGIN:DAYLIGHT
TZOFFSETFROM:-0500
TZOFFSETTO:-0400
TZNAME:EDT
DTSTART:20220313T070000
END:DAYLIGHT
BEGIN:STANDARD
TZOFFSETFROM:-0400
TZOFFSETTO:-0500
TZNAME:EST
DTSTART:20221106T060000
END:STANDARD
BEGIN:DAYLIGHT
TZOFFSETFROM:-0500
TZOFFSETTO:-0400
TZNAME:EDT
DTSTART:20230312T070000
END:DAYLIGHT
BEGIN:STANDARD
TZOFFSETFROM:-0400
TZOFFSETTO:-0500
TZNAME:EST
DTSTART:20231105T060000
END:STANDARD
BEGIN:DAYLIGHT
TZOFFSETFROM:-0500
TZOFFSETTO:-0400
TZNAME:EDT
DTSTART:20240310T070000
END:DAYLIGHT
BEGIN:STANDARD
TZOFFSETFROM:-0400
TZOFFSETTO:-0500
TZNAME:EST
DTSTART:20241103T060000
END:STANDARD
BEGIN:DAYLIGHT
TZOFFSETFROM:-0500
TZOFFSETTO:-0400
TZNAME:EDT
DTSTART:20250309T070000
END:DAYLIGHT
BEGIN:STANDARD
TZOFFSETFROM:-0400
TZOFFSETTO:-0500
TZNAME:EST
DTSTART:20251102T060000
END:STANDARD
END:VTIMEZONE
BEGIN:VEVENT
DTSTART;TZID=America/New_York:20240207T170000
DTEND;TZID=America/New_York:20240207T190000
DTSTAMP:20260424T145136
CREATED:20240204T234241Z
LAST-MODIFIED:20250512T164504Z
UID:25621-1707325200-1707332400@864foodtrucks.com
SUMMARY:Simpell Sammies @ Tuscany
DESCRIPTION:Simpell Sammies is open for business and ready to serve you flavorful and delicious sandwiches and hoagies.
URL:https://864foodtrucks.com/event/simpell-sammies-tuscany-3/2024-02-07/
LOCATION:Tuscany Subdivision\, 100 Viaroma Dr\, Anderson\, South Carolina
CATEGORIES:Food Truck Schedules,Greenville
ATTACH;FMTTYPE=image/jpeg:https://864foodtrucks.com/wp-content/uploads/2023/06/Simpell-Sammies-Trailer.jpg
ORGANIZER;CN="Simpell Sammies":MAILTO:info@simpelltreats.com
GEO:34.6096492;-82.6357464
X-APPLE-STRUCTURED-LOCATION;VALUE=URI;X-ADDRESS=Tuscany Subdivision 100 Viaroma Dr Anderson South Carolina;X-APPLE-RADIUS=500;X-TITLE=100 Viaroma Dr:geo:-82.6357464,34.6096492
END:VEVENT
BEGIN:VEVENT
DTSTART;TZID=America/New_York:20230819T113000
DTEND;TZID=America/New_York:20230819T140000
DTSTAMP:20260424T145136
CREATED:20230812T230442Z
LAST-MODIFIED:20231126T211129Z
UID:22020-1692444600-1692453600@864foodtrucks.com
SUMMARY:Simpell Sammies @ Tuscany
DESCRIPTION:Simpell Sammies is open for business and ready to serve you flavorful and delicious sandwiches and hoagies.
URL:https://864foodtrucks.com/event/simpell-sammies-tuscany-2/2023-08-19/
LOCATION:Tuscany Subdivision\, 100 Viaroma Dr\, Anderson\, South Carolina
CATEGORIES:Anderson,Food Truck Schedules
ATTACH;FMTTYPE=image/jpeg:https://864foodtrucks.com/wp-content/uploads/2023/06/Simpell-Sammies-Trailer.jpg
ORGANIZER;CN="Simpell Sammies":MAILTO:info@simpelltreats.com
GEO:34.6096492;-82.6357464
X-APPLE-STRUCTURED-LOCATION;VALUE=URI;X-ADDRESS=Tuscany Subdivision 100 Viaroma Dr Anderson South Carolina;X-APPLE-RADIUS=500;X-TITLE=100 Viaroma Dr:geo:-82.6357464,34.6096492
END:VEVENT
BEGIN:VEVENT
DTSTART;TZID=America/New_York:20230708T110000
DTEND;TZID=America/New_York:20230708T133000
DTSTAMP:20260424T145136
CREATED:20230706T161720Z
LAST-MODIFIED:20250625T183831Z
UID:20595-1688814000-1688823000@864foodtrucks.com
SUMMARY:La Katrina Mia @ Tuscany
DESCRIPTION:Latin Cuisine\, book us for your next event we Cater or bring our Food Truck out the choice is yours.
URL:https://864foodtrucks.com/event/la-katrina-mia-tuscany/2023-07-08/
LOCATION:Tuscany Subdivision\, 100 Viaroma Dr\, Anderson\, South Carolina
CATEGORIES:Anderson
ATTACH;FMTTYPE=image/jpeg:https://864foodtrucks.com/wp-content/uploads/2022/06/La-Katrina-Mia-Truck.jpg
ORGANIZER;CN="La Katrina Mia":MAILTO:lakatrinamia@gmail.com
GEO:34.6096492;-82.6357464
X-APPLE-STRUCTURED-LOCATION;VALUE=URI;X-ADDRESS=Tuscany Subdivision 100 Viaroma Dr Anderson South Carolina;X-APPLE-RADIUS=500;X-TITLE=100 Viaroma Dr:geo:-82.6357464,34.6096492
END:VEVENT
BEGIN:VEVENT
DTSTART;TZID=America/New_York:20230629T170000
DTEND;TZID=America/New_York:20230629T190000
DTSTAMP:20260424T145136
CREATED:20230627T181447Z
LAST-MODIFIED:20230627T181447Z
UID:20334-1688058000-1688065200@864foodtrucks.com
SUMMARY:Kodesh BBQ Bowls @ Tuscany
DESCRIPTION:Kodesh BBQ Bowls is a mobile food trailer that provides a heap amount of Levitical clean\, flavorful\, pit smoked BBQ. We’ve also come up with a link between enjoying our delicious BBQ and providing healthier options\, our cultural inspired bowls!
URL:https://864foodtrucks.com/event/kodesh-bbq-bowls-tuscany/
LOCATION:Tuscany Subdivision\, 100 Viaroma Dr\, Anderson\, South Carolina
CATEGORIES:Food Truck Schedules
ATTACH;FMTTYPE=image/jpeg:https://864foodtrucks.com/wp-content/uploads/2022/05/Kodesh-BBQ.jpg
ORGANIZER;CN="Kodesh BBQ & Bowls":MAILTO:kodeshbbq@gmail.com
GEO:34.6096492;-82.6357464
X-APPLE-STRUCTURED-LOCATION;VALUE=URI;X-ADDRESS=Tuscany Subdivision 100 Viaroma Dr Anderson South Carolina;X-APPLE-RADIUS=500;X-TITLE=100 Viaroma Dr:geo:-82.6357464,34.6096492
END:VEVENT
BEGIN:VEVENT
DTSTART;TZID=America/New_York:20230624T120000
DTEND;TZID=America/New_York:20230624T140000
DTSTAMP:20260424T145136
CREATED:20230619T190022Z
LAST-MODIFIED:20230619T190022Z
UID:19836-1687608000-1687615200@864foodtrucks.com
SUMMARY:Kiss My Asada @ Tuscany
DESCRIPTION:Rollin’ homemade Mexican deliciousness through the SC upstate. Locally sourced when possible!
URL:https://864foodtrucks.com/event/kiss-my-asada-tuscany/
LOCATION:Tuscany Subdivision\, 100 Viaroma Dr\, Anderson\, South Carolina
CATEGORIES:Anderson,Food Truck Schedules
ATTACH;FMTTYPE=image/jpeg:https://864foodtrucks.com/wp-content/uploads/2023/03/Kiss-my-asada.jpg
ORGANIZER;CN="Kiss My Asada":MAILTO:kissmyasada@gmail.com
GEO:34.6096492;-82.6357464
X-APPLE-STRUCTURED-LOCATION;VALUE=URI;X-ADDRESS=Tuscany Subdivision 100 Viaroma Dr Anderson South Carolina;X-APPLE-RADIUS=500;X-TITLE=100 Viaroma Dr:geo:-82.6357464,34.6096492
END:VEVENT
BEGIN:VEVENT
DTSTART;TZID=America/New_York:20230609T120000
DTEND;TZID=America/New_York:20230609T140000
DTSTAMP:20260424T145136
CREATED:20230605T182551Z
LAST-MODIFIED:20230605T182551Z
UID:19410-1686312000-1686319200@864foodtrucks.com
SUMMARY:Simpell Sammies @ Tuscany
DESCRIPTION:Simpell Sammies is open for business and ready to serve you flavorful and delicious sandwiches and hoagies.
URL:https://864foodtrucks.com/event/simpell-sammies-tuscany/
LOCATION:Tuscany Subdivision\, 100 Viaroma Dr\, Anderson\, South Carolina
CATEGORIES:Anderson,Food Truck Schedules
ATTACH;FMTTYPE=image/jpeg:https://864foodtrucks.com/wp-content/uploads/2021/12/Simpell-Sammies-Trailer.jpg
ORGANIZER;CN="Simpell Sammies":MAILTO:info@simpelltreats.com
GEO:34.6096492;-82.6357464
X-APPLE-STRUCTURED-LOCATION;VALUE=URI;X-ADDRESS=Tuscany Subdivision 100 Viaroma Dr Anderson South Carolina;X-APPLE-RADIUS=500;X-TITLE=100 Viaroma Dr:geo:-82.6357464,34.6096492
END:VEVENT
END:VCALENDAR