BEGIN:VCALENDAR
VERSION:2.0
PRODID:-//864 Food Trucks - ECPv6.15.20//NONSGML v1.0//EN
CALSCALE:GREGORIAN
METHOD:PUBLISH
X-ORIGINAL-URL:https://864foodtrucks.com
X-WR-CALDESC:Events for 864 Food Trucks
REFRESH-INTERVAL;VALUE=DURATION:PT1H
X-Robots-Tag:noindex
X-PUBLISHED-TTL:PT1H
BEGIN:VTIMEZONE
TZID:America/New_York
BEGIN:DAYLIGHT
TZOFFSETFROM:-0500
TZOFFSETTO:-0400
TZNAME:EDT
DTSTART:20220313T070000
END:DAYLIGHT
BEGIN:STANDARD
TZOFFSETFROM:-0400
TZOFFSETTO:-0500
TZNAME:EST
DTSTART:20221106T060000
END:STANDARD
BEGIN:DAYLIGHT
TZOFFSETFROM:-0500
TZOFFSETTO:-0400
TZNAME:EDT
DTSTART:20230312T070000
END:DAYLIGHT
BEGIN:STANDARD
TZOFFSETFROM:-0400
TZOFFSETTO:-0500
TZNAME:EST
DTSTART:20231105T060000
END:STANDARD
BEGIN:DAYLIGHT
TZOFFSETFROM:-0500
TZOFFSETTO:-0400
TZNAME:EDT
DTSTART:20240310T070000
END:DAYLIGHT
BEGIN:STANDARD
TZOFFSETFROM:-0400
TZOFFSETTO:-0500
TZNAME:EST
DTSTART:20241103T060000
END:STANDARD
END:VTIMEZONE
BEGIN:VEVENT
DTSTART;TZID=America/New_York:20231121T210000
DTEND;TZID=America/New_York:20231121T230000
DTSTAMP:20260425T201531
CREATED:20231120T185753Z
LAST-MODIFIED:20231120T185753Z
UID:24225-1700600400-1700607600@864foodtrucks.com
SUMMARY:Local Pie Pizza Co @ Ty's Food & Sprits
DESCRIPTION:
URL:https://864foodtrucks.com/event/local-pie-pizza-co-tys-food-sprits/
LOCATION:Ty’s Food & Spirits\, Wade Hampton Boulevard 326\, Greenville\, South Carolina\, 29609\, United States
CATEGORIES:Food Truck Schedules,Greenville
ATTACH;FMTTYPE=image/jpeg:https://864foodtrucks.com/wp-content/uploads/2021/12/Local-Pie-Pizza-3.jpg
ORGANIZER;CN="Local Pie Pizza Company":MAILTO:cory@localpiepizzacompany.com
GEO:34.8643275;-82.3821662
X-APPLE-STRUCTURED-LOCATION;VALUE=URI;X-ADDRESS=Ty’s Food & Spirits Wade Hampton Boulevard 326 Greenville South Carolina 29609 United States;X-APPLE-RADIUS=500;X-TITLE=Wade Hampton Boulevard 326:geo:-82.3821662,34.8643275
END:VEVENT
END:VCALENDAR