BEGIN:VCALENDAR
VERSION:2.0
PRODID:-//864 Food Trucks - ECPv6.15.20//NONSGML v1.0//EN
CALSCALE:GREGORIAN
METHOD:PUBLISH
X-ORIGINAL-URL:https://864foodtrucks.com
X-WR-CALDESC:Events for 864 Food Trucks
REFRESH-INTERVAL;VALUE=DURATION:PT1H
X-Robots-Tag:noindex
X-PUBLISHED-TTL:PT1H
BEGIN:VTIMEZONE
TZID:America/New_York
BEGIN:DAYLIGHT
TZOFFSETFROM:-0500
TZOFFSETTO:-0400
TZNAME:EDT
DTSTART:20240310T070000
END:DAYLIGHT
BEGIN:STANDARD
TZOFFSETFROM:-0400
TZOFFSETTO:-0500
TZNAME:EST
DTSTART:20241103T060000
END:STANDARD
BEGIN:DAYLIGHT
TZOFFSETFROM:-0500
TZOFFSETTO:-0400
TZNAME:EDT
DTSTART:20250309T070000
END:DAYLIGHT
BEGIN:STANDARD
TZOFFSETFROM:-0400
TZOFFSETTO:-0500
TZNAME:EST
DTSTART:20251102T060000
END:STANDARD
BEGIN:DAYLIGHT
TZOFFSETFROM:-0500
TZOFFSETTO:-0400
TZNAME:EDT
DTSTART:20260308T070000
END:DAYLIGHT
BEGIN:STANDARD
TZOFFSETFROM:-0400
TZOFFSETTO:-0500
TZNAME:EST
DTSTART:20261101T060000
END:STANDARD
END:VTIMEZONE
BEGIN:VEVENT
DTSTART;TZID=America/New_York:20251025T100000
DTEND;TZID=America/New_York:20251025T140000
DTSTAMP:20260424T042435
CREATED:20251022T130703Z
LAST-MODIFIED:20251022T130703Z
UID:55443-1761386400-1761400800@864foodtrucks.com
SUMMARY:La Katrina Mia @ United Way Charity Event
DESCRIPTION:Latin Cuisine\, book us for your next event we Cater or bring our Food Truck out the choice is yours.
URL:https://864foodtrucks.com/event/la-katrina-mia-united-way-charity-event/
LOCATION:United Way Charity Event\, 515 Michelin Rd\, Greenville\, South Carolina\, 29605
CATEGORIES:Food Truck Schedules,Greenville
ATTACH;FMTTYPE=image/jpeg:https://864foodtrucks.com/wp-content/uploads/2022/06/La-Katrina-Mia-Truck.jpg
ORGANIZER;CN="La Katrina Mia":MAILTO:lakatrinamia@gmail.com
GEO:34.7265465;-82.3658398
X-APPLE-STRUCTURED-LOCATION;VALUE=URI;X-ADDRESS=United Way Charity Event 515 Michelin Rd Greenville South Carolina 29605;X-APPLE-RADIUS=500;X-TITLE=515 Michelin Rd:geo:-82.3658398,34.7265465
END:VEVENT
END:VCALENDAR