BEGIN:VCALENDAR
VERSION:2.0
PRODID:-//864 Food Trucks - ECPv6.15.20//NONSGML v1.0//EN
CALSCALE:GREGORIAN
METHOD:PUBLISH
X-ORIGINAL-URL:https://864foodtrucks.com
X-WR-CALDESC:Events for 864 Food Trucks
REFRESH-INTERVAL;VALUE=DURATION:PT1H
X-Robots-Tag:noindex
X-PUBLISHED-TTL:PT1H
BEGIN:VTIMEZONE
TZID:America/New_York
BEGIN:DAYLIGHT
TZOFFSETFROM:-0500
TZOFFSETTO:-0400
TZNAME:EDT
DTSTART:20210314T070000
END:DAYLIGHT
BEGIN:STANDARD
TZOFFSETFROM:-0400
TZOFFSETTO:-0500
TZNAME:EST
DTSTART:20211107T060000
END:STANDARD
BEGIN:DAYLIGHT
TZOFFSETFROM:-0500
TZOFFSETTO:-0400
TZNAME:EDT
DTSTART:20220313T070000
END:DAYLIGHT
BEGIN:STANDARD
TZOFFSETFROM:-0400
TZOFFSETTO:-0500
TZNAME:EST
DTSTART:20221106T060000
END:STANDARD
BEGIN:DAYLIGHT
TZOFFSETFROM:-0500
TZOFFSETTO:-0400
TZNAME:EDT
DTSTART:20230312T070000
END:DAYLIGHT
BEGIN:STANDARD
TZOFFSETFROM:-0400
TZOFFSETTO:-0500
TZNAME:EST
DTSTART:20231105T060000
END:STANDARD
BEGIN:DAYLIGHT
TZOFFSETFROM:-0500
TZOFFSETTO:-0400
TZNAME:EDT
DTSTART:20240310T070000
END:DAYLIGHT
BEGIN:STANDARD
TZOFFSETFROM:-0400
TZOFFSETTO:-0500
TZNAME:EST
DTSTART:20241103T060000
END:STANDARD
BEGIN:DAYLIGHT
TZOFFSETFROM:-0500
TZOFFSETTO:-0400
TZNAME:EDT
DTSTART:20250309T070000
END:DAYLIGHT
BEGIN:STANDARD
TZOFFSETFROM:-0400
TZOFFSETTO:-0500
TZNAME:EST
DTSTART:20251102T060000
END:STANDARD
BEGIN:DAYLIGHT
TZOFFSETFROM:-0500
TZOFFSETTO:-0400
TZNAME:EDT
DTSTART:20260308T070000
END:DAYLIGHT
BEGIN:STANDARD
TZOFFSETFROM:-0400
TZOFFSETTO:-0500
TZNAME:EST
DTSTART:20261101T060000
END:STANDARD
END:VTIMEZONE
BEGIN:VEVENT
DTSTART;TZID=America/New_York:20250320T170000
DTEND;TZID=America/New_York:20250320T200000
DTSTAMP:20260425T145242
CREATED:20250317T175108Z
LAST-MODIFIED:20250317T175108Z
UID:43105-1742490000-1742500800@864foodtrucks.com
SUMMARY:Fuel Foods @ Vine & Barrel
DESCRIPTION:Fuel Foods – Food Truck & Catering\nClean\, Unique & Delicious!\nLocated in Clemson & Upstate\, SC 📍\nBook Us for Events! Contact for More Info!
URL:https://864foodtrucks.com/event/fuel-foods-vine-barrel/
LOCATION:Vine & Barrel\, 3737 North Hwy 81\, Anderson\, SC\, United States
CATEGORIES:Anderson,Food Truck Schedules
ATTACH;FMTTYPE=image/png:https://864foodtrucks.com/wp-content/uploads/2025/03/Fuel-Foods-.png
ORGANIZER;CN="Fuel Foods Food Truck":MAILTO:fuelfoods.truck@gmail.com
GEO:34.599848;-82.6155472
X-APPLE-STRUCTURED-LOCATION;VALUE=URI;X-ADDRESS=Vine & Barrel 3737 North Hwy 81 Anderson SC United States;X-APPLE-RADIUS=500;X-TITLE=3737 North Hwy 81:geo:-82.6155472,34.599848
END:VEVENT
BEGIN:VEVENT
DTSTART;TZID=America/New_York:20241104T080000
DTEND;TZID=America/New_York:20241104T170000
DTSTAMP:20260425T145242
CREATED:20241105T003014Z
LAST-MODIFIED:20241202T150117Z
UID:39588-1730707200-1730739600@864foodtrucks.com
SUMMARY:Matty's Pattys @ Vine & Barrell
DESCRIPTION:We’re serving the friendliest hamburger this side of the Mississippi! Coming soon to Anderson\, SC
URL:https://864foodtrucks.com/event/mattys-pattys-vine-barrell/2024-11-04/
LOCATION:Vine & Barrel\, 3737 North Hwy 81\, Anderson\, SC\, United States
CATEGORIES:Anderson,Food Truck Schedules
ATTACH;FMTTYPE=image/jpeg:https://864foodtrucks.com/wp-content/uploads/2022/10/Mattys-Pattys.jpg
ORGANIZER;CN="Mattys Pattys":MAILTO:thebradfordfoodgroup@gmail.com
GEO:34.599848;-82.6155472
X-APPLE-STRUCTURED-LOCATION;VALUE=URI;X-ADDRESS=Vine & Barrel 3737 North Hwy 81 Anderson SC United States;X-APPLE-RADIUS=500;X-TITLE=3737 North Hwy 81:geo:-82.6155472,34.599848
END:VEVENT
BEGIN:VEVENT
DTSTART;TZID=America/New_York:20231207T173000
DTEND;TZID=America/New_York:20231207T200000
DTSTAMP:20260425T145242
CREATED:20231203T152411Z
LAST-MODIFIED:20241012T185035Z
UID:24447-1701970200-1701979200@864foodtrucks.com
SUMMARY:Matty's Pattys @ Vine & Barrel
DESCRIPTION:We’re serving the friendliest hamburger this side of the Mississippi! Coming soon to Anderson\, SC
URL:https://864foodtrucks.com/event/mattys-pattys-vine-barrel-3/2023-12-07/
LOCATION:Vine & Barrel\, 3737 North Hwy 81\, Anderson\, SC\, United States
CATEGORIES:Anderson,Food Truck Schedules
ATTACH;FMTTYPE=image/jpeg:https://864foodtrucks.com/wp-content/uploads/2022/10/Mattys-Pattys.jpg
ORGANIZER;CN="Mattys Pattys":MAILTO:thebradfordfoodgroup@gmail.com
GEO:34.599848;-82.6155472
X-APPLE-STRUCTURED-LOCATION;VALUE=URI;X-ADDRESS=Vine & Barrel 3737 North Hwy 81 Anderson SC United States;X-APPLE-RADIUS=500;X-TITLE=3737 North Hwy 81:geo:-82.6155472,34.599848
END:VEVENT
BEGIN:VEVENT
DTSTART;TZID=America/New_York:20230907T173000
DTEND;TZID=America/New_York:20230907T200000
DTSTAMP:20260425T145242
CREATED:20230903T200201Z
LAST-MODIFIED:20230903T200201Z
UID:22542-1694107800-1694116800@864foodtrucks.com
SUMMARY:Matty's Pattys @ Vine & Barrel
DESCRIPTION:We’re serving the friendliest hamburger this side of the Mississippi! Coming soon to Anderson\, SC
URL:https://864foodtrucks.com/event/mattys-pattys-vine-barrel-2/
LOCATION:Vine & Barrel\, 3737 North Hwy 81\, Anderson\, SC\, United States
CATEGORIES:Anderson,Food Truck Schedules
ATTACH;FMTTYPE=image/jpeg:https://864foodtrucks.com/wp-content/uploads/2022/10/Mattys-Pattys.jpg
ORGANIZER;CN="Mattys Pattys":MAILTO:thebradfordfoodgroup@gmail.com
GEO:34.599848;-82.6155472
X-APPLE-STRUCTURED-LOCATION;VALUE=URI;X-ADDRESS=Vine & Barrel 3737 North Hwy 81 Anderson SC United States;X-APPLE-RADIUS=500;X-TITLE=3737 North Hwy 81:geo:-82.6155472,34.599848
END:VEVENT
BEGIN:VEVENT
DTSTART;TZID=America/New_York:20221117T173000
DTEND;TZID=America/New_York:20221117T200000
DTSTAMP:20260425T145242
CREATED:20221116T214714Z
LAST-MODIFIED:20221116T214714Z
UID:14726-1668706200-1668715200@864foodtrucks.com
SUMMARY:Kodesh BBQ Bowls @ Vine & Barrel
DESCRIPTION:Kodesh BBQ Bowls is a mobile food trailer that provides a heap amount of Levitical clean\, flavorful\, pit smoked BBQ. We’ve also come up with a link between enjoying our delicious BBQ and providing healthier options\, our cultural inspired bowls!
URL:https://864foodtrucks.com/event/kodesh-bbq-bowls-vine-barrel/
LOCATION:Vine & Barrel\, 3737 North Hwy 81\, Anderson\, SC\, United States
CATEGORIES:Anderson,Food Truck Schedules
ATTACH;FMTTYPE=image/jpeg:https://864foodtrucks.com/wp-content/uploads/2022/05/Kodesh-BBQ.jpg
ORGANIZER;CN="Kodesh BBQ & Bowls":MAILTO:kodeshbbq@gmail.com
GEO:34.599848;-82.6155472
X-APPLE-STRUCTURED-LOCATION;VALUE=URI;X-ADDRESS=Vine & Barrel 3737 North Hwy 81 Anderson SC United States;X-APPLE-RADIUS=500;X-TITLE=3737 North Hwy 81:geo:-82.6155472,34.599848
END:VEVENT
BEGIN:VEVENT
DTSTART;TZID=America/New_York:20221110T173000
DTEND;TZID=America/New_York:20221110T193000
DTSTAMP:20260425T145242
CREATED:20221108T010344Z
LAST-MODIFIED:20221108T010344Z
UID:14477-1668101400-1668108600@864foodtrucks.com
SUMMARY:Too Sauc'd Up @ Vine & Barrell
DESCRIPTION:
URL:https://864foodtrucks.com/event/too-saucd-up-vine-barrell/
LOCATION:Vine & Barrel\, 3737 North Hwy 81\, Anderson\, SC\, United States
CATEGORIES:Anderson,Food Truck Schedules
ATTACH;FMTTYPE=image/jpeg:https://864foodtrucks.com/wp-content/uploads/2022/07/Too-Saucd-Up.jpg
ORGANIZER;CN="Too Sauc'D Up":MAILTO:toosauc.dup@gmail.com
GEO:34.599848;-82.6155472
X-APPLE-STRUCTURED-LOCATION;VALUE=URI;X-ADDRESS=Vine & Barrel 3737 North Hwy 81 Anderson SC United States;X-APPLE-RADIUS=500;X-TITLE=3737 North Hwy 81:geo:-82.6155472,34.599848
END:VEVENT
BEGIN:VEVENT
DTSTART;TZID=America/New_York:20221103T173000
DTEND;TZID=America/New_York:20221103T200000
DTSTAMP:20260425T145242
CREATED:20221031T162831Z
LAST-MODIFIED:20230709T204230Z
UID:13926-1667496600-1667505600@864foodtrucks.com
SUMMARY:Matty's Pattys @ Vine & Barrel
DESCRIPTION:We’re serving the friendliest hamburger this side of the Mississippi! Coming soon to Anderson\, SC
URL:https://864foodtrucks.com/event/mattys-pattys-vine-barrel/2022-11-03/
LOCATION:Vine & Barrel\, 3737 North Hwy 81\, Anderson\, SC\, United States
CATEGORIES:Anderson,Food Truck Schedules
ATTACH;FMTTYPE=image/jpeg:https://864foodtrucks.com/wp-content/uploads/2022/10/Mattys-Pattys.jpg
ORGANIZER;CN="Mattys Pattys":MAILTO:thebradfordfoodgroup@gmail.com
GEO:34.599848;-82.6155472
X-APPLE-STRUCTURED-LOCATION;VALUE=URI;X-ADDRESS=Vine & Barrel 3737 North Hwy 81 Anderson SC United States;X-APPLE-RADIUS=500;X-TITLE=3737 North Hwy 81:geo:-82.6155472,34.599848
END:VEVENT
END:VCALENDAR