BEGIN:VCALENDAR
VERSION:2.0
PRODID:-//864 Food Trucks - ECPv6.15.20//NONSGML v1.0//EN
CALSCALE:GREGORIAN
METHOD:PUBLISH
X-WR-CALNAME:864 Food Trucks
X-ORIGINAL-URL:https://864foodtrucks.com
X-WR-CALDESC:Events for 864 Food Trucks
REFRESH-INTERVAL;VALUE=DURATION:PT1H
X-Robots-Tag:noindex
X-PUBLISHED-TTL:PT1H
BEGIN:VTIMEZONE
TZID:America/New_York
BEGIN:DAYLIGHT
TZOFFSETFROM:-0500
TZOFFSETTO:-0400
TZNAME:EDT
DTSTART:20230312T070000
END:DAYLIGHT
BEGIN:STANDARD
TZOFFSETFROM:-0400
TZOFFSETTO:-0500
TZNAME:EST
DTSTART:20231105T060000
END:STANDARD
BEGIN:DAYLIGHT
TZOFFSETFROM:-0500
TZOFFSETTO:-0400
TZNAME:EDT
DTSTART:20240310T070000
END:DAYLIGHT
BEGIN:STANDARD
TZOFFSETFROM:-0400
TZOFFSETTO:-0500
TZNAME:EST
DTSTART:20241103T060000
END:STANDARD
BEGIN:DAYLIGHT
TZOFFSETFROM:-0500
TZOFFSETTO:-0400
TZNAME:EDT
DTSTART:20250309T070000
END:DAYLIGHT
BEGIN:STANDARD
TZOFFSETFROM:-0400
TZOFFSETTO:-0500
TZNAME:EST
DTSTART:20251102T060000
END:STANDARD
END:VTIMEZONE
BEGIN:VEVENT
DTSTART;TZID=America/New_York:20241221T120000
DTEND;TZID=America/New_York:20241221T160000
DTSTAMP:20260424T020239
CREATED:20241216T011511Z
LAST-MODIFIED:20241216T011511Z
UID:41216-1734782400-1734796800@864foodtrucks.com
SUMMARY:Lobster Dogs @ Walmart Simpsonville
DESCRIPTION:Food truck serving the Best Lobster Rolls & Stuffed Avocados in the Carolinas
URL:https://864foodtrucks.com/event/lobster-dogs-walmart-simpsonville/
LOCATION:Walmart Simpsonville\, Grandview Drive\, Simpsonville\, South Carolina\, United States
CATEGORIES:Food Truck Schedules,Simpsonville
ATTACH;FMTTYPE=image/jpeg:https://864foodtrucks.com/wp-content/uploads/2021/05/lobster-dogs-Food-Truck.jpg
ORGANIZER;CN="Lobster Dogs":MAILTO:lobsterdogs3@gmail.com
GEO:34.7291607;-82.2646431
X-APPLE-STRUCTURED-LOCATION;VALUE=URI;X-ADDRESS=Walmart Simpsonville Grandview Drive Simpsonville South Carolina United States;X-APPLE-RADIUS=500;X-TITLE=Grandview Drive:geo:-82.2646431,34.7291607
END:VEVENT
END:VCALENDAR