BEGIN:VCALENDAR
VERSION:2.0
PRODID:-//864 Food Trucks - ECPv6.15.20//NONSGML v1.0//EN
CALSCALE:GREGORIAN
METHOD:PUBLISH
X-WR-CALNAME:864 Food Trucks
X-ORIGINAL-URL:https://864foodtrucks.com
X-WR-CALDESC:Events for 864 Food Trucks
REFRESH-INTERVAL;VALUE=DURATION:PT1H
X-Robots-Tag:noindex
X-PUBLISHED-TTL:PT1H
BEGIN:VTIMEZONE
TZID:America/New_York
BEGIN:DAYLIGHT
TZOFFSETFROM:-0500
TZOFFSETTO:-0400
TZNAME:EDT
DTSTART:20210314T070000
END:DAYLIGHT
BEGIN:STANDARD
TZOFFSETFROM:-0400
TZOFFSETTO:-0500
TZNAME:EST
DTSTART:20211107T060000
END:STANDARD
BEGIN:DAYLIGHT
TZOFFSETFROM:-0500
TZOFFSETTO:-0400
TZNAME:EDT
DTSTART:20220313T070000
END:DAYLIGHT
BEGIN:STANDARD
TZOFFSETFROM:-0400
TZOFFSETTO:-0500
TZNAME:EST
DTSTART:20221106T060000
END:STANDARD
BEGIN:DAYLIGHT
TZOFFSETFROM:-0500
TZOFFSETTO:-0400
TZNAME:EDT
DTSTART:20230312T070000
END:DAYLIGHT
BEGIN:STANDARD
TZOFFSETFROM:-0400
TZOFFSETTO:-0500
TZNAME:EST
DTSTART:20231105T060000
END:STANDARD
BEGIN:DAYLIGHT
TZOFFSETFROM:-0500
TZOFFSETTO:-0400
TZNAME:EDT
DTSTART:20240310T070000
END:DAYLIGHT
BEGIN:STANDARD
TZOFFSETFROM:-0400
TZOFFSETTO:-0500
TZNAME:EST
DTSTART:20241103T060000
END:STANDARD
BEGIN:DAYLIGHT
TZOFFSETFROM:-0500
TZOFFSETTO:-0400
TZNAME:EDT
DTSTART:20250309T070000
END:DAYLIGHT
BEGIN:STANDARD
TZOFFSETFROM:-0400
TZOFFSETTO:-0500
TZNAME:EST
DTSTART:20251102T060000
END:STANDARD
END:VTIMEZONE
BEGIN:VEVENT
DTSTART;TZID=America/New_York:20240820T180000
DTEND;TZID=America/New_York:20240820T200000
DTSTAMP:20260424T224131
CREATED:20240819T174159Z
LAST-MODIFIED:20240819T174159Z
UID:33579-1724176800-1724184000@864foodtrucks.com
SUMMARY:Island Sun @ What Ales You
DESCRIPTION:Mobile Kitchen serving Caribbean Cuisine to the upstate\, SC\nCaterings\, pop ups\, and private dinners\nDm for more info
URL:https://864foodtrucks.com/event/island-sun-what-ales-you/
LOCATION:What Ales You Pub\, 105 New Plaza Dr C\, Greenville\, SC\, 29617\, United States
CATEGORIES:Food Truck Schedules,Greenville
ATTACH;FMTTYPE=image/jpeg:https://864foodtrucks.com/wp-content/uploads/2023/07/IslandSun864.jpg
GEO:34.9124747;-82.4284012
X-APPLE-STRUCTURED-LOCATION;VALUE=URI;X-ADDRESS=What Ales You Pub 105 New Plaza Dr C Greenville SC 29617 United States;X-APPLE-RADIUS=500;X-TITLE=105 New Plaza Dr C:geo:-82.4284012,34.9124747
END:VEVENT
BEGIN:VEVENT
DTSTART;TZID=America/New_York:20230811T000000
DTEND;TZID=America/New_York:20230811T000000
DTSTAMP:20260424T224131
CREATED:20230807T150536Z
LAST-MODIFIED:20230807T150536Z
UID:21852-1691712000-1691712000@864foodtrucks.com
SUMMARY:The Electric Food Truck @ What Ales You
DESCRIPTION:We are the world’s first all electric food truck\, serving Greenville\, SC.
URL:https://864foodtrucks.com/event/the-electric-food-truck-what-ales-you/
LOCATION:What Ales You Pub\, 105 New Plaza Dr C\, Greenville\, SC\, 29617\, United States
CATEGORIES:Food Truck Schedules,Greenville
ATTACH;FMTTYPE=image/jpeg:https://864foodtrucks.com/wp-content/uploads/2023/03/Electric-Food-Truck.jpg
ORGANIZER;CN="The Electric Food Truck":MAILTO:team@theelectricfoodtruck.com
GEO:34.9124747;-82.4284012
X-APPLE-STRUCTURED-LOCATION;VALUE=URI;X-ADDRESS=What Ales You Pub 105 New Plaza Dr C Greenville SC 29617 United States;X-APPLE-RADIUS=500;X-TITLE=105 New Plaza Dr C:geo:-82.4284012,34.9124747
END:VEVENT
BEGIN:VEVENT
DTSTART;TZID=America/New_York:20230728T173000
DTEND;TZID=America/New_York:20230728T200000
DTSTAMP:20260424T224131
CREATED:20230724T184725Z
LAST-MODIFIED:20230724T184725Z
UID:21083-1690565400-1690574400@864foodtrucks.com
SUMMARY:Lobster Dogs @ What Ales You
DESCRIPTION:Food truck serving the Best Lobster Rolls & Stuffed Avocados in the Carolinas
URL:https://864foodtrucks.com/event/lobster-dogs-what-ales-you-3/
LOCATION:What Ales You Pub\, 105 New Plaza Dr C\, Greenville\, SC\, 29617\, United States
CATEGORIES:Food Truck Schedules,Greenville
ATTACH;FMTTYPE=image/jpeg:https://864foodtrucks.com/wp-content/uploads/2021/05/lobster-dogs-Food-Truck.jpg
ORGANIZER;CN="Lobster Dogs":MAILTO:lobsterdogs3@gmail.com
GEO:34.9124747;-82.4284012
X-APPLE-STRUCTURED-LOCATION;VALUE=URI;X-ADDRESS=What Ales You Pub 105 New Plaza Dr C Greenville SC 29617 United States;X-APPLE-RADIUS=500;X-TITLE=105 New Plaza Dr C:geo:-82.4284012,34.9124747
END:VEVENT
BEGIN:VEVENT
DTSTART;TZID=America/New_York:20230721T173000
DTEND;TZID=America/New_York:20230721T203000
DTSTAMP:20260424T224131
CREATED:20230717T161640Z
LAST-MODIFIED:20230717T161640Z
UID:20910-1689960600-1689971400@864foodtrucks.com
SUMMARY:Half Rooted @ What Ales You
DESCRIPTION:Half Rooted is a modern Latin-American street food mobile kitchen!
URL:https://864foodtrucks.com/event/half-rooted-what-ales-you/
LOCATION:What Ales You Pub\, 105 New Plaza Dr C\, Greenville\, SC\, 29617\, United States
CATEGORIES:Food Truck Schedules,Greenville
ATTACH;FMTTYPE=image/jpeg:https://864foodtrucks.com/wp-content/uploads/2023/05/Half-Rooted.jpg
GEO:34.9124747;-82.4284012
X-APPLE-STRUCTURED-LOCATION;VALUE=URI;X-ADDRESS=What Ales You Pub 105 New Plaza Dr C Greenville SC 29617 United States;X-APPLE-RADIUS=500;X-TITLE=105 New Plaza Dr C:geo:-82.4284012,34.9124747
END:VEVENT
BEGIN:VEVENT
DTSTART;TZID=America/New_York:20230613T170000
DTEND;TZID=America/New_York:20230613T200000
DTSTAMP:20260424T224131
CREATED:20230611T192556Z
LAST-MODIFIED:20230611T192556Z
UID:19574-1686675600-1686686400@864foodtrucks.com
SUMMARY:Local Pie Pizza Co @ What Ales You
DESCRIPTION:Artisan Pizza Food Truck
URL:https://864foodtrucks.com/event/local-pie-pizza-co-what-ales-you/
LOCATION:What Ales You Pub\, 105 New Plaza Dr C\, Greenville\, SC\, 29617\, United States
CATEGORIES:Food Truck Schedules,Greenville
ATTACH;FMTTYPE=image/jpeg:https://864foodtrucks.com/wp-content/uploads/2021/12/Local-Pie-Pizza-3.jpg
ORGANIZER;CN="Local Pie Pizza Company":MAILTO:cory@localpiepizzacompany.com
GEO:34.9124747;-82.4284012
X-APPLE-STRUCTURED-LOCATION;VALUE=URI;X-ADDRESS=What Ales You Pub 105 New Plaza Dr C Greenville SC 29617 United States;X-APPLE-RADIUS=500;X-TITLE=105 New Plaza Dr C:geo:-82.4284012,34.9124747
END:VEVENT
BEGIN:VEVENT
DTSTART;TZID=America/New_York:20230407T170000
DTEND;TZID=America/New_York:20230407T200000
DTSTAMP:20260424T224131
CREATED:20230403T191739Z
LAST-MODIFIED:20230403T191739Z
UID:17988-1680886800-1680897600@864foodtrucks.com
SUMMARY:La Katrina Mia @ What Ales You
DESCRIPTION:Latin Cuisine\, book us for your next event we Cater or bring our Food Truck out the choice is yours.
URL:https://864foodtrucks.com/event/la-katrina-mia-what-ales-you/
LOCATION:What Ales You Pub\, 105 New Plaza Dr C\, Greenville\, SC\, 29617\, United States
CATEGORIES:Food Truck Schedules,Greenville
ATTACH;FMTTYPE=image/jpeg:https://864foodtrucks.com/wp-content/uploads/2022/06/La-Katrina-Mia-Truck.jpg
ORGANIZER;CN="La Katrina Mia":MAILTO:lakatrinamia@gmail.com
GEO:34.9124747;-82.4284012
X-APPLE-STRUCTURED-LOCATION;VALUE=URI;X-ADDRESS=What Ales You Pub 105 New Plaza Dr C Greenville SC 29617 United States;X-APPLE-RADIUS=500;X-TITLE=105 New Plaza Dr C:geo:-82.4284012,34.9124747
END:VEVENT
BEGIN:VEVENT
DTSTART;TZID=America/New_York:20230228T173000
DTEND;TZID=America/New_York:20230228T173000
DTSTAMP:20260424T224131
CREATED:20230227T191236Z
LAST-MODIFIED:20230227T191236Z
UID:17167-1677605400-1677605400@864foodtrucks.com
SUMMARY:Kodesh BBQ & Bowls @ What Ales You Pub
DESCRIPTION:Kodesh BBQ Bowls is a mobile food trailer that provides a heap amount of Levitical clean\, flavorful\, pit smoked BBQ. We’ve also come up with a link between enjoying our delicious BBQ and providing healthier options\, our cultural inspired bowls!
URL:https://864foodtrucks.com/event/kodesh-bbq-bowls-what-ales-you-pub/
LOCATION:What Ales You Pub\, 105 New Plaza Dr C\, Greenville\, SC\, 29617\, United States
CATEGORIES:Food Truck Schedules,Greenville
ATTACH;FMTTYPE=image/jpeg:https://864foodtrucks.com/wp-content/uploads/2022/05/Kodesh-BBQ.jpg
ORGANIZER;CN="Kodesh BBQ & Bowls":MAILTO:kodeshbbq@gmail.com
GEO:34.9124747;-82.4284012
X-APPLE-STRUCTURED-LOCATION;VALUE=URI;X-ADDRESS=What Ales You Pub 105 New Plaza Dr C Greenville SC 29617 United States;X-APPLE-RADIUS=500;X-TITLE=105 New Plaza Dr C:geo:-82.4284012,34.9124747
END:VEVENT
BEGIN:VEVENT
DTSTART;TZID=America/New_York:20230221T170000
DTEND;TZID=America/New_York:20230221T200000
DTSTAMP:20260424T224131
CREATED:20230220T005112Z
LAST-MODIFIED:20230320T184836Z
UID:16924-1676998800-1677009600@864foodtrucks.com
SUMMARY:Lobster Dogs @ What Ales You
DESCRIPTION:Food truck serving the Best Lobster Rolls & Stuffed Avocados in the Carolinas
URL:https://864foodtrucks.com/event/lobster-dogs-what-ales-you-2/2023-02-21/
LOCATION:What Ales You Pub\, 105 New Plaza Dr C\, Greenville\, SC\, 29617\, United States
CATEGORIES:Food Truck Schedules,Greenville
ATTACH;FMTTYPE=image/jpeg:https://864foodtrucks.com/wp-content/uploads/2021/05/lobster-dogs-Food-Truck.jpg
ORGANIZER;CN="Lobster Dogs":MAILTO:lobsterdogs3@gmail.com
GEO:34.9124747;-82.4284012
X-APPLE-STRUCTURED-LOCATION;VALUE=URI;X-ADDRESS=What Ales You Pub 105 New Plaza Dr C Greenville SC 29617 United States;X-APPLE-RADIUS=500;X-TITLE=105 New Plaza Dr C:geo:-82.4284012,34.9124747
END:VEVENT
BEGIN:VEVENT
DTSTART;TZID=America/New_York:20230131T170000
DTEND;TZID=America/New_York:20230131T200000
DTSTAMP:20260424T224131
CREATED:20230131T140857Z
LAST-MODIFIED:20230131T140857Z
UID:16501-1675184400-1675195200@864foodtrucks.com
SUMMARY:The Rock'n Rooster @ What Ales You Pub
DESCRIPTION:Locally owned food truck serving an eclectic array of street food that will rock your senses!
URL:https://864foodtrucks.com/event/the-rockn-rooster-what-ales-you-pub/
LOCATION:What Ales You Pub\, 105 New Plaza Dr C\, Greenville\, SC\, 29617\, United States
CATEGORIES:Food Truck Schedules,Greenville
ATTACH;FMTTYPE=image/jpeg:https://864foodtrucks.com/wp-content/uploads/2022/07/Rockn-rooster.jpg
ORGANIZER;CN="The Rock'n Rooster Street Eats":MAILTO:therocknroosterstreeteats@gmail.com
GEO:34.9124747;-82.4284012
X-APPLE-STRUCTURED-LOCATION;VALUE=URI;X-ADDRESS=What Ales You Pub 105 New Plaza Dr C Greenville SC 29617 United States;X-APPLE-RADIUS=500;X-TITLE=105 New Plaza Dr C:geo:-82.4284012,34.9124747
END:VEVENT
BEGIN:VEVENT
DTSTART;TZID=America/New_York:20221129T170000
DTEND;TZID=America/New_York:20221129T200000
DTSTAMP:20260424T224131
CREATED:20221127T212300Z
LAST-MODIFIED:20221219T211930Z
UID:15003-1669741200-1669752000@864foodtrucks.com
SUMMARY:Lobster Dogs @ What Ales You
DESCRIPTION:Food truck serving the Best Lobster Rolls & Stuffed Avocados in the Carolinas
URL:https://864foodtrucks.com/event/lobster-dogs-what-ales-you/2022-11-29/
LOCATION:What Ales You Pub\, 105 New Plaza Dr C\, Greenville\, SC\, 29617\, United States
CATEGORIES:Food Truck Schedules,Greenville
ATTACH;FMTTYPE=image/jpeg:https://864foodtrucks.com/wp-content/uploads/2021/05/lobster-dogs-Food-Truck.jpg
ORGANIZER;CN="Lobster Dogs":MAILTO:lobsterdogs3@gmail.com
GEO:34.9124747;-82.4284012
X-APPLE-STRUCTURED-LOCATION;VALUE=URI;X-ADDRESS=What Ales You Pub 105 New Plaza Dr C Greenville SC 29617 United States;X-APPLE-RADIUS=500;X-TITLE=105 New Plaza Dr C:geo:-82.4284012,34.9124747
END:VEVENT
END:VCALENDAR