BEGIN:VCALENDAR
VERSION:2.0
PRODID:-//864 Food Trucks - ECPv6.15.20//NONSGML v1.0//EN
CALSCALE:GREGORIAN
METHOD:PUBLISH
X-WR-CALNAME:864 Food Trucks
X-ORIGINAL-URL:https://864foodtrucks.com
X-WR-CALDESC:Events for 864 Food Trucks
REFRESH-INTERVAL;VALUE=DURATION:PT1H
X-Robots-Tag:noindex
X-PUBLISHED-TTL:PT1H
BEGIN:VTIMEZONE
TZID:America/New_York
BEGIN:DAYLIGHT
TZOFFSETFROM:-0500
TZOFFSETTO:-0400
TZNAME:EDT
DTSTART:20220313T070000
END:DAYLIGHT
BEGIN:STANDARD
TZOFFSETFROM:-0400
TZOFFSETTO:-0500
TZNAME:EST
DTSTART:20221106T060000
END:STANDARD
BEGIN:DAYLIGHT
TZOFFSETFROM:-0500
TZOFFSETTO:-0400
TZNAME:EDT
DTSTART:20230312T070000
END:DAYLIGHT
BEGIN:STANDARD
TZOFFSETFROM:-0400
TZOFFSETTO:-0500
TZNAME:EST
DTSTART:20231105T060000
END:STANDARD
BEGIN:DAYLIGHT
TZOFFSETFROM:-0500
TZOFFSETTO:-0400
TZNAME:EDT
DTSTART:20240310T070000
END:DAYLIGHT
BEGIN:STANDARD
TZOFFSETFROM:-0400
TZOFFSETTO:-0500
TZNAME:EST
DTSTART:20241103T060000
END:STANDARD
BEGIN:DAYLIGHT
TZOFFSETFROM:-0500
TZOFFSETTO:-0400
TZNAME:EDT
DTSTART:20250309T070000
END:DAYLIGHT
BEGIN:STANDARD
TZOFFSETFROM:-0400
TZOFFSETTO:-0500
TZNAME:EST
DTSTART:20251102T060000
END:STANDARD
BEGIN:DAYLIGHT
TZOFFSETFROM:-0500
TZOFFSETTO:-0400
TZNAME:EDT
DTSTART:20260308T070000
END:DAYLIGHT
BEGIN:STANDARD
TZOFFSETFROM:-0400
TZOFFSETTO:-0500
TZNAME:EST
DTSTART:20261101T060000
END:STANDARD
BEGIN:DAYLIGHT
TZOFFSETFROM:-0500
TZOFFSETTO:-0400
TZNAME:EDT
DTSTART:20270314T070000
END:DAYLIGHT
BEGIN:STANDARD
TZOFFSETFROM:-0400
TZOFFSETTO:-0500
TZNAME:EST
DTSTART:20271107T060000
END:STANDARD
END:VTIMEZONE
BEGIN:VEVENT
DTSTART;TZID=America/New_York:20260130T103000
DTEND;TZID=America/New_York:20260130T123000
DTSTAMP:20260425T090202
CREATED:20260125T235703Z
LAST-MODIFIED:20260125T235703Z
UID:59146-1769769000-1769776200@864foodtrucks.com
SUMMARY:Simpell Sammies @ Wren Middle School
DESCRIPTION:Simpell Sammies is open for business and ready to serve you flavorful and delicious sandwiches and hoagies.
URL:https://864foodtrucks.com/event/simpell-sammies-wren-middle-school-3/
LOCATION:Wren Middle School\, Wren School Road 1010\, Piedmont\, SC\, 29673\, United States
CATEGORIES:Food Truck Schedules,Piedmont
ATTACH;FMTTYPE=image/jpeg:https://864foodtrucks.com/wp-content/uploads/2023/06/Simpell-Sammies-Trailer.jpg
ORGANIZER;CN="Simpell Sammies":MAILTO:info@simpelltreats.com
GEO:34.7250266;-82.5450052
X-APPLE-STRUCTURED-LOCATION;VALUE=URI;X-ADDRESS=Wren Middle School Wren School Road 1010 Piedmont SC 29673 United States;X-APPLE-RADIUS=500;X-TITLE=Wren School Road 1010:geo:-82.5450052,34.7250266
END:VEVENT
BEGIN:VEVENT
DTSTART;TZID=America/New_York:20240425T170000
DTEND;TZID=America/New_York:20240425T193000
DTSTAMP:20260425T090202
CREATED:20240420T190922Z
LAST-MODIFIED:20250413T193155Z
UID:27406-1714064400-1714073400@864foodtrucks.com
SUMMARY:Spinx Cluk Truk @ Wren Middle School
DESCRIPTION:Your favorite southern fried chicken is hitting the road—and it’s going to be legendary. Our community comes first\, and we want to share that tender love by bringing our homegrown menu to you. The Cluk Truk is coming Fall 2020 to the Upstate!
URL:https://864foodtrucks.com/event/spinx-cluk-truk-wren-middle-school/2024-04-25/
LOCATION:Wren Middle School\, Wren School Road 1010\, Piedmont\, SC\, 29673\, United States
CATEGORIES:Food Truck Schedules,Piedmont
ATTACH;FMTTYPE=image/jpeg:https://864foodtrucks.com/wp-content/uploads/2021/05/Spinx-Cluk-Truk-Truck.jpg
ORGANIZER;CN="Spinx Cluk Truk":MAILTO:cluktruk@spinxco.com
GEO:34.7250266;-82.5450052
X-APPLE-STRUCTURED-LOCATION;VALUE=URI;X-ADDRESS=Wren Middle School Wren School Road 1010 Piedmont SC 29673 United States;X-APPLE-RADIUS=500;X-TITLE=Wren School Road 1010:geo:-82.5450052,34.7250266
END:VEVENT
BEGIN:VEVENT
DTSTART;TZID=America/New_York:20240126T103000
DTEND;TZID=America/New_York:20240126T123000
DTSTAMP:20260425T090202
CREATED:20240121T204752Z
LAST-MODIFIED:20241012T185642Z
UID:25209-1706265000-1706272200@864foodtrucks.com
SUMMARY:Simpell Sammies @ Wren Middle School
DESCRIPTION:Simpell Sammies is open for business and ready to serve you flavorful and delicious sandwiches and hoagies.
URL:https://864foodtrucks.com/event/simpell-sammies-wren-middle-school-2/2024-01-26/
LOCATION:Wren Middle School\, Wren School Road 1010\, Piedmont\, SC\, 29673\, United States
CATEGORIES:Food Truck Schedules,Piedmont
ATTACH;FMTTYPE=image/jpeg:https://864foodtrucks.com/wp-content/uploads/2023/06/Simpell-Sammies-Trailer.jpg
ORGANIZER;CN="Simpell Sammies":MAILTO:info@simpelltreats.com
GEO:34.7250266;-82.5450052
X-APPLE-STRUCTURED-LOCATION;VALUE=URI;X-ADDRESS=Wren Middle School Wren School Road 1010 Piedmont SC 29673 United States;X-APPLE-RADIUS=500;X-TITLE=Wren School Road 1010:geo:-82.5450052,34.7250266
END:VEVENT
BEGIN:VEVENT
DTSTART;TZID=America/New_York:20230825T103000
DTEND;TZID=America/New_York:20230825T123000
DTSTAMP:20260425T090202
CREATED:20230820T230109Z
LAST-MODIFIED:20230820T230109Z
UID:22186-1692959400-1692966600@864foodtrucks.com
SUMMARY:Simpell Sammies @ Wren Middle School
DESCRIPTION:Simpell Sammies is open for business and ready to serve you flavorful and delicious sandwiches and hoagies.
URL:https://864foodtrucks.com/event/simpell-sammies-wren-middle-school/
LOCATION:Wren Middle School\, Wren School Road 1010\, Piedmont\, SC\, 29673\, United States
CATEGORIES:Food Truck Schedules,Piedmont
ATTACH;FMTTYPE=image/jpeg:https://864foodtrucks.com/wp-content/uploads/2023/06/Simpell-Sammies-Trailer.jpg
ORGANIZER;CN="Simpell Sammies":MAILTO:info@simpelltreats.com
GEO:34.7250266;-82.5450052
X-APPLE-STRUCTURED-LOCATION;VALUE=URI;X-ADDRESS=Wren Middle School Wren School Road 1010 Piedmont SC 29673 United States;X-APPLE-RADIUS=500;X-TITLE=Wren School Road 1010:geo:-82.5450052,34.7250266
END:VEVENT
END:VCALENDAR